BEGIN:VCALENDAR
VERSION:2.0
PRODID:-//jEvents 2.0 for Joomla//EN
CALSCALE:GREGORIAN
METHOD:PUBLISH
BEGIN:VTIMEZONE
TZID:America/Tijuana
BEGIN:STANDARD
DTSTART:20161106T010000
RDATE:20170312T030000
TZOFFSETFROM:-0700
TZOFFSETTO:-0800
TZNAME:America/Tijuana PST
END:STANDARD
BEGIN:STANDARD
DTSTART:20171105T010000
RDATE:20180311T030000
TZOFFSETFROM:-0700
TZOFFSETTO:-0800
TZNAME:America/Tijuana PST
END:STANDARD
BEGIN:STANDARD
DTSTART:20181104T010000
RDATE:20190310T030000
TZOFFSETFROM:-0700
TZOFFSETTO:-0800
TZNAME:America/Tijuana PST
END:STANDARD
BEGIN:STANDARD
DTSTART:20191103T010000
RDATE:20200308T030000
TZOFFSETFROM:-0700
TZOFFSETTO:-0800
TZNAME:America/Tijuana PST
END:STANDARD
BEGIN:STANDARD
DTSTART:20201101T010000
RDATE:20210314T030000
TZOFFSETFROM:-0700
TZOFFSETTO:-0800
TZNAME:America/Tijuana PST
END:STANDARD
BEGIN:STANDARD
DTSTART:20211107T010000
RDATE:20220313T030000
TZOFFSETFROM:-0700
TZOFFSETTO:-0800
TZNAME:America/Tijuana PST
END:STANDARD
BEGIN:STANDARD
DTSTART:20221106T010000
RDATE:20230312T030000
TZOFFSETFROM:-0700
TZOFFSETTO:-0800
TZNAME:America/Tijuana PST
END:STANDARD
BEGIN:STANDARD
DTSTART:20231105T010000
RDATE:20240310T030000
TZOFFSETFROM:-0700
TZOFFSETTO:-0800
TZNAME:America/Tijuana PST
END:STANDARD
BEGIN:STANDARD
DTSTART:20241103T010000
RDATE:20250309T030000
TZOFFSETFROM:-0700
TZOFFSETTO:-0800
TZNAME:America/Tijuana PST
END:STANDARD
BEGIN:STANDARD
DTSTART:20251102T010000
RDATE:20260308T030000
TZOFFSETFROM:-0700
TZOFFSETTO:-0800
TZNAME:America/Tijuana PST
END:STANDARD
BEGIN:STANDARD
DTSTART:20261101T010000
RDATE:20270314T030000
TZOFFSETFROM:-0700
TZOFFSETTO:-0800
TZNAME:America/Tijuana PST
END:STANDARD
BEGIN:STANDARD
DTSTART:20271107T010000
RDATE:20280312T030000
TZOFFSETFROM:-0700
TZOFFSETTO:-0800
TZNAME:America/Tijuana PST
END:STANDARD
BEGIN:DAYLIGHT
DTSTART:20160724T110000
RDATE:20161106T010000
TZOFFSETFROM:-0800
TZOFFSETTO:-0700
TZNAME:America/Tijuana PDT
END:DAYLIGHT
BEGIN:DAYLIGHT
DTSTART:20170312T030000
RDATE:20171105T010000
TZOFFSETFROM:-0800
TZOFFSETTO:-0700
TZNAME:America/Tijuana PDT
END:DAYLIGHT
BEGIN:DAYLIGHT
DTSTART:20180311T030000
RDATE:20181104T010000
TZOFFSETFROM:-0800
TZOFFSETTO:-0700
TZNAME:America/Tijuana PDT
END:DAYLIGHT
BEGIN:DAYLIGHT
DTSTART:20190310T030000
RDATE:20191103T010000
TZOFFSETFROM:-0800
TZOFFSETTO:-0700
TZNAME:America/Tijuana PDT
END:DAYLIGHT
BEGIN:DAYLIGHT
DTSTART:20200308T030000
RDATE:20201101T010000
TZOFFSETFROM:-0800
TZOFFSETTO:-0700
TZNAME:America/Tijuana PDT
END:DAYLIGHT
BEGIN:DAYLIGHT
DTSTART:20210314T030000
RDATE:20211107T010000
TZOFFSETFROM:-0800
TZOFFSETTO:-0700
TZNAME:America/Tijuana PDT
END:DAYLIGHT
BEGIN:DAYLIGHT
DTSTART:20220313T030000
RDATE:20221106T010000
TZOFFSETFROM:-0800
TZOFFSETTO:-0700
TZNAME:America/Tijuana PDT
END:DAYLIGHT
BEGIN:DAYLIGHT
DTSTART:20230312T030000
RDATE:20231105T010000
TZOFFSETFROM:-0800
TZOFFSETTO:-0700
TZNAME:America/Tijuana PDT
END:DAYLIGHT
BEGIN:DAYLIGHT
DTSTART:20240310T030000
RDATE:20241103T010000
TZOFFSETFROM:-0800
TZOFFSETTO:-0700
TZNAME:America/Tijuana PDT
END:DAYLIGHT
BEGIN:DAYLIGHT
DTSTART:20250309T030000
RDATE:20251102T010000
TZOFFSETFROM:-0800
TZOFFSETTO:-0700
TZNAME:America/Tijuana PDT
END:DAYLIGHT
BEGIN:DAYLIGHT
DTSTART:20260308T030000
RDATE:20261101T010000
TZOFFSETFROM:-0800
TZOFFSETTO:-0700
TZNAME:America/Tijuana PDT
END:DAYLIGHT
BEGIN:DAYLIGHT
DTSTART:20270314T030000
RDATE:20271107T010000
TZOFFSETFROM:-0800
TZOFFSETTO:-0700
TZNAME:America/Tijuana PDT
END:DAYLIGHT
END:VTIMEZONE
BEGIN:VEVENT
UID:75f048b0a22f094dae9a827d06701980
CATEGORIES:Nursery
CREATED:20161213T102704
SUMMARY:Nursery Workday
LOCATION:Hidden Villa on Moody Road west of Foothill College.  26870 Moody Road in L
 os Altos\, CA\, or follow the directions below
DESCRIPTION:<h3>Native Plant Nursery Propagation Workdays</h3><p>Come help propagate pl
 ants for our next plant sale by volunteering at one of our nursery work ses
 sions, every <strong>Tuesday and Wednesday </strong>.  Bring garden gloves,
  sunhat, clippers, and liquids and your lunch if you like.  Other tools wil
 l be provided at the nursery.  Knowledge of plants is not necessary; your w
 illingness to help is all that's required.</p><p>For more information, cont
 act Vivian Neou at <span id="cloak66cf10833b7165b9513ed9dc38c23e2e">This em
 ail address is being protected from spambots. You need JavaScript enabled t
 o view it.</span><script type='text/javascript'>
				document.getElementByI
 d('cloak66cf10833b7165b9513ed9dc38c23e2e').innerHTML = '';
				var prefix =
  '&#109;a' + 'i&#108;' + '&#116;o';
				var path = 'hr' + 'ef' + '=';
				v
 ar addy66cf10833b7165b9513ed9dc38c23e2e = 't&#101;chch&#97;&#105;r' + '&#64
 ;';
				addy66cf10833b7165b9513ed9dc38c23e2e = addy66cf10833b7165b9513ed9dc
 38c23e2e + 'cnps-scv' + '&#46;' + '&#111;rg';
				var addy_text66cf10833b71
 65b9513ed9dc38c23e2e = 't&#101;chch&#97;&#105;r' + '&#64;' + 'cnps-scv' + '
 &#46;' + '&#111;rg';document.getElementById('cloak66cf10833b7165b9513ed9dc3
 8c23e2e').innerHTML += '<a ' + path + '\'' + prefix + ':' + addy66cf10833b7
 165b9513ed9dc38c23e2e + '\'>'+addy_text66cf10833b7165b9513ed9dc38c23e2e+'<\
 /a>';
		</script>.</p>
CONTACT:Vivian Neou at This email address is being protected from spambots. You need JavaScript enabled to view it.
				document.getElementById('cloak931899a3121d4220ae24741f4172365e').innerHTML = '';
				var prefix = '&#109;a' + 'i&#108;' + '&#116;o';
				var path = 'hr' + 'ef' + '=';
				var addy931899a3121d4220ae24741f4172365e = 't&#101;chch&#97;&#105;r' + '&#64;';
				addy931899a3121d4220ae24741f4172365e = addy931899a3121d4220ae24741f4172365e + 'cnps-scv' + '&#46;' + '&#111;rg';
				var addy_text931899a3121d4220ae24741f4172365e = 't&#101;chch&#97;&#105;r' + '&#64;' + 'cnps-scv' + '&#46;' + '&#111;rg';document.getElementById('cloak931899a3121d4220ae24741f4172365e').innerHTML += '<a ' + path + '\'' + prefix + ':' + addy931899a3121d4220ae24741f4172365e + '\'>'+addy_text931899a3121d4220ae24741f4172365e+'';
		 or (650) 260-3450
X-EXTRAINFO:Hidden Villa is located on Moody Road west of Foothill College.  From Hwy. 
 280 in Los Altos Hills, take the Moody Road exit and head west.  Two miles 
 west of Foothill College, look for the Hidden Villa sign and driveway on th
 e left.  Proceed over the bridge and park in the visitor center parking lot
  to your right.  The Nursery is at the greenhouse just beyond the visitor c
 enter.
DTSTAMP:20260422T185609
DTSTART;TZID=America/Tijuana:20170725T110000
DTEND;TZID=America/Tijuana:20170725T140000
SEQUENCE:0
TRANSP:OPAQUE
END:VEVENT
END:VCALENDAR