BEGIN:VCALENDAR
VERSION:2.0
PRODID:-//jEvents 2.0 for Joomla//EN
CALSCALE:GREGORIAN
METHOD:PUBLISH
BEGIN:VTIMEZONE
TZID:America/Tijuana
BEGIN:STANDARD
DTSTART:20141102T010000
RDATE:20150308T030000
TZOFFSETFROM:-0700
TZOFFSETTO:-0800
TZNAME:America/Tijuana PST
END:STANDARD
BEGIN:STANDARD
DTSTART:20151101T010000
RDATE:20160313T030000
TZOFFSETFROM:-0700
TZOFFSETTO:-0800
TZNAME:America/Tijuana PST
END:STANDARD
BEGIN:STANDARD
DTSTART:20161106T010000
RDATE:20170312T030000
TZOFFSETFROM:-0700
TZOFFSETTO:-0800
TZNAME:America/Tijuana PST
END:STANDARD
BEGIN:STANDARD
DTSTART:20171105T010000
RDATE:20180311T030000
TZOFFSETFROM:-0700
TZOFFSETTO:-0800
TZNAME:America/Tijuana PST
END:STANDARD
BEGIN:STANDARD
DTSTART:20181104T010000
RDATE:20190310T030000
TZOFFSETFROM:-0700
TZOFFSETTO:-0800
TZNAME:America/Tijuana PST
END:STANDARD
BEGIN:STANDARD
DTSTART:20191103T010000
RDATE:20200308T030000
TZOFFSETFROM:-0700
TZOFFSETTO:-0800
TZNAME:America/Tijuana PST
END:STANDARD
BEGIN:STANDARD
DTSTART:20201101T010000
RDATE:20210314T030000
TZOFFSETFROM:-0700
TZOFFSETTO:-0800
TZNAME:America/Tijuana PST
END:STANDARD
BEGIN:STANDARD
DTSTART:20211107T010000
RDATE:20220313T030000
TZOFFSETFROM:-0700
TZOFFSETTO:-0800
TZNAME:America/Tijuana PST
END:STANDARD
BEGIN:STANDARD
DTSTART:20221106T010000
RDATE:20230312T030000
TZOFFSETFROM:-0700
TZOFFSETTO:-0800
TZNAME:America/Tijuana PST
END:STANDARD
BEGIN:STANDARD
DTSTART:20231105T010000
RDATE:20240310T030000
TZOFFSETFROM:-0700
TZOFFSETTO:-0800
TZNAME:America/Tijuana PST
END:STANDARD
BEGIN:STANDARD
DTSTART:20241103T010000
RDATE:20250309T030000
TZOFFSETFROM:-0700
TZOFFSETTO:-0800
TZNAME:America/Tijuana PST
END:STANDARD
BEGIN:STANDARD
DTSTART:20251102T010000
RDATE:20260308T030000
TZOFFSETFROM:-0700
TZOFFSETTO:-0800
TZNAME:America/Tijuana PST
END:STANDARD
BEGIN:STANDARD
DTSTART:20261101T010000
RDATE:20270314T030000
TZOFFSETFROM:-0700
TZOFFSETTO:-0800
TZNAME:America/Tijuana PST
END:STANDARD
BEGIN:STANDARD
DTSTART:20271107T010000
RDATE:20280312T030000
TZOFFSETFROM:-0700
TZOFFSETTO:-0800
TZNAME:America/Tijuana PST
END:STANDARD
BEGIN:DAYLIGHT
DTSTART:20140701T100000
RDATE:20141102T010000
TZOFFSETFROM:-0800
TZOFFSETTO:-0700
TZNAME:America/Tijuana PDT
END:DAYLIGHT
BEGIN:DAYLIGHT
DTSTART:20150308T030000
RDATE:20151101T010000
TZOFFSETFROM:-0800
TZOFFSETTO:-0700
TZNAME:America/Tijuana PDT
END:DAYLIGHT
BEGIN:DAYLIGHT
DTSTART:20160313T030000
RDATE:20161106T010000
TZOFFSETFROM:-0800
TZOFFSETTO:-0700
TZNAME:America/Tijuana PDT
END:DAYLIGHT
BEGIN:DAYLIGHT
DTSTART:20170312T030000
RDATE:20171105T010000
TZOFFSETFROM:-0800
TZOFFSETTO:-0700
TZNAME:America/Tijuana PDT
END:DAYLIGHT
BEGIN:DAYLIGHT
DTSTART:20180311T030000
RDATE:20181104T010000
TZOFFSETFROM:-0800
TZOFFSETTO:-0700
TZNAME:America/Tijuana PDT
END:DAYLIGHT
BEGIN:DAYLIGHT
DTSTART:20190310T030000
RDATE:20191103T010000
TZOFFSETFROM:-0800
TZOFFSETTO:-0700
TZNAME:America/Tijuana PDT
END:DAYLIGHT
BEGIN:DAYLIGHT
DTSTART:20200308T030000
RDATE:20201101T010000
TZOFFSETFROM:-0800
TZOFFSETTO:-0700
TZNAME:America/Tijuana PDT
END:DAYLIGHT
BEGIN:DAYLIGHT
DTSTART:20210314T030000
RDATE:20211107T010000
TZOFFSETFROM:-0800
TZOFFSETTO:-0700
TZNAME:America/Tijuana PDT
END:DAYLIGHT
BEGIN:DAYLIGHT
DTSTART:20220313T030000
RDATE:20221106T010000
TZOFFSETFROM:-0800
TZOFFSETTO:-0700
TZNAME:America/Tijuana PDT
END:DAYLIGHT
BEGIN:DAYLIGHT
DTSTART:20230312T030000
RDATE:20231105T010000
TZOFFSETFROM:-0800
TZOFFSETTO:-0700
TZNAME:America/Tijuana PDT
END:DAYLIGHT
BEGIN:DAYLIGHT
DTSTART:20240310T030000
RDATE:20241103T010000
TZOFFSETFROM:-0800
TZOFFSETTO:-0700
TZNAME:America/Tijuana PDT
END:DAYLIGHT
BEGIN:DAYLIGHT
DTSTART:20250309T030000
RDATE:20251102T010000
TZOFFSETFROM:-0800
TZOFFSETTO:-0700
TZNAME:America/Tijuana PDT
END:DAYLIGHT
BEGIN:DAYLIGHT
DTSTART:20260308T030000
RDATE:20261101T010000
TZOFFSETFROM:-0800
TZOFFSETTO:-0700
TZNAME:America/Tijuana PDT
END:DAYLIGHT
BEGIN:DAYLIGHT
DTSTART:20270314T030000
RDATE:20271107T010000
TZOFFSETFROM:-0800
TZOFFSETTO:-0700
TZNAME:America/Tijuana PDT
END:DAYLIGHT
END:VTIMEZONE
BEGIN:VEVENT
UID:860362d56af2b5d15b7eeda0acc7c5d3
CATEGORIES:Nursery
CREATED:20141031T170139
SUMMARY:Nursery Workday
LOCATION:Hidden Villa on Moody Road west of Foothill College.  26870 Moody Road in L
 os Altos\, CA\, or follow the directions below
DESCRIPTION:Native Plant Nursery Propagation WorkdaysCome help propagate plants for our
  next plant sale by volunteering at one of our nursery work sessions, every
  Wednesday and Thursday.  Bring garden gloves, sunhat, clippers, and liquid
 s and your lunch if you like.  Other tools will be provided at the nursery.
   Knowledge of plants is not necessary; your willingness to help is all tha
 t's required.\nHours: Between the spring and fall plant sales, we work from
  10am to 1pm.  Between the fall and spring plant sales, we work from noon t
 o 3pm.\nFor more information, contact Melanie Cross at (650) 847-1350 or Th
 is email address is being protected from spambots. You need JavaScript enab
 led to view it.
				document.getElementById('cloak840e10fbf69316bcd510f6473
 6f946b1').innerHTML = '';
				var prefix = '&#109;a' + 'i&#108;' + '&#116;o
 ';
				var path = 'hr' + 'ef' + '=';
				var addy840e10fbf69316bcd510f64736
 f946b1 = 'm&#101;l&#97;n&#105;&#101;' + '&#64;';
				addy840e10fbf69316bcd5
 10f64736f946b1 = addy840e10fbf69316bcd510f64736f946b1 + 'pcr&#111;ss' + '&#
 46;' + 'c&#111;m';
				var addy_text840e10fbf69316bcd510f64736f946b1 = 'm&#
 101;l&#97;n&#105;&#101;' + '&#64;' + 'pcr&#111;ss' + '&#46;' + 'c&#111;m';d
 ocument.getElementById('cloak840e10fbf69316bcd510f64736f946b1').innerHTML +
 = '<a ' + path + '\'' + prefix + ':' + addy840e10fbf69316bcd510f64736f946b1
  + '\'>'+addy_text840e10fbf69316bcd510f64736f946b1+'';
		; or Ray Deutsch a
 t (650) 365-6136 or This email address is being protected from spambots. Yo
 u need JavaScript enabled to view it.
				document.getElementById('cloakf02
 b50c4d5f15a2834b3931df039d546').innerHTML = '';
				var prefix = '&amp;#109
 ;a' + 'i&amp;#108;' + '&amp;#116;o';
				var path = 'hr' + 'ef' + '=';
				
 var addyf02b50c4d5f15a2834b3931df039d546 = 'r&amp;#97;y.d&amp;#101;&amp;#11
 7;tsch' + '&amp;#64;';
				addyf02b50c4d5f15a2834b3931df039d546 = addyf02b5
 0c4d5f15a2834b3931df039d546 + 'y&amp;#97;h&amp;#111;&amp;#111;' + '&amp;#46
 ;' + 'c&amp;#97;';
				var addy_textf02b50c4d5f15a2834b3931df039d546 = 'r&a
 mp;#97;y.d&amp;#101;&amp;#117;tsch' + '&amp;#64;' + 'y&amp;#97;h&amp;#111;&
 amp;#111;' + '&amp;#46;' + 'c&amp;#97;';document.getElementById('cloakf02b5
 0c4d5f15a2834b3931df039d546').innerHTML += '&lt;a ' + path + '\'' + prefix 
 + ':' + addyf02b50c4d5f15a2834b3931df039d546 + '\'&gt;'+addy_textf02b50c4d5
 f15a2834b3931df039d546+'&lt;\/a&gt;';
		. (mailto:ray.deutsch@yahoo.ca.)\n
X-ALT-DESC;FMTTYPE=text/html:<h3>Native Plant Nursery Propagation Workdays</h3><p>Come help propagate pl
 ants for our next plant sale by volunteering at one of our nursery work ses
 sions, every <strong>Wednesday and Thursday</strong>.  Bring garden gloves,
  sunhat, clippers, and liquids and your lunch if you like.  Other tools wil
 l be provided at the nursery.  Knowledge of plants is not necessary; your w
 illingness to help is all that's required.</p><p><strong>Hours:</strong> Be
 tween the spring and fall plant sales, we work from <strong>10am to 1pm. </
 strong> Between the fall and spring plant sales, we work from <strong>noon 
 to 3pm</strong>.</p><p>For more information, contact Melanie Cross at (650)
  847-1350 or <span id="cloak840e10fbf69316bcd510f64736f946b1">This email ad
 dress is being protected from spambots. You need JavaScript enabled to view
  it.</span><script type='text/javascript'>
				document.getElementById('clo
 ak840e10fbf69316bcd510f64736f946b1').innerHTML = '';
				var prefix = '&#10
 9;a' + 'i&#108;' + '&#116;o';
				var path = 'hr' + 'ef' + '=';
				var add
 y840e10fbf69316bcd510f64736f946b1 = 'm&#101;l&#97;n&#105;&#101;' + '&#64;';
 
				addy840e10fbf69316bcd510f64736f946b1 = addy840e10fbf69316bcd510f64736f
 946b1 + 'pcr&#111;ss' + '&#46;' + 'c&#111;m';
				var addy_text840e10fbf693
 16bcd510f64736f946b1 = 'm&#101;l&#97;n&#105;&#101;' + '&#64;' + 'pcr&#111;s
 s' + '&#46;' + 'c&#111;m';document.getElementById('cloak840e10fbf69316bcd51
 0f64736f946b1').innerHTML += '<a ' + path + '\'' + prefix + ':' + addy840e1
 0fbf69316bcd510f64736f946b1 + '\'>'+addy_text840e10fbf69316bcd510f64736f946
 b1+'<\/a>';
		</script>; or Ray Deutsch at (650) 365-6136 or <a href="mailt
 o:ray.deutsch@yahoo.ca."><span id="cloakf02b50c4d5f15a2834b3931df039d546">T
 his email address is being protected from spambots. You need JavaScript ena
 bled to view it.</span><script type='text/javascript'>
				document.getElem
 entById('cloakf02b50c4d5f15a2834b3931df039d546').innerHTML = '';
				var pr
 efix = '&#109;a' + 'i&#108;' + '&#116;o';
				var path = 'hr' + 'ef' + '=';
 
				var addyf02b50c4d5f15a2834b3931df039d546 = 'r&#97;y.d&#101;&#117;tsch'
  + '&#64;';
				addyf02b50c4d5f15a2834b3931df039d546 = addyf02b50c4d5f15a28
 34b3931df039d546 + 'y&#97;h&#111;&#111;' + '&#46;' + 'c&#97;';
				var addy
 _textf02b50c4d5f15a2834b3931df039d546 = 'r&#97;y.d&#101;&#117;tsch' + '&#64
 ;' + 'y&#97;h&#111;&#111;' + '&#46;' + 'c&#97;';document.getElementById('cl
 oakf02b50c4d5f15a2834b3931df039d546').innerHTML += '<a ' + path + '\'' + pr
 efix + ':' + addyf02b50c4d5f15a2834b3931df039d546 + '\'>'+addy_textf02b50c4
 d5f15a2834b3931df039d546+'<\/a>';
		</script>.</a></p>
X-EXTRAINFO:Directions: Hidden Villa is located on Moody Road west of Foothill College.
   From Hwy. 280 in Los Altos Hills, take the Moody Road exit and head west.
   Two miles west of Foothill College, look for the Hidden Villa sign and dr
 iveway on the left.  Proceed over the bridge and park in the visitor center
  parking lot to your right.  The Nursery is at the greenhouse just beyond t
 he visitor center.
DTSTAMP:20260419T123245
DTSTART;TZID=America/Tijuana:20150702T100000
DTEND;TZID=America/Tijuana:20150702T130000
SEQUENCE:0
TRANSP:OPAQUE
END:VEVENT
END:VCALENDAR