BEGIN:VCALENDAR
VERSION:2.0
PRODID:-//jEvents 2.0 for Joomla//EN
CALSCALE:GREGORIAN
METHOD:PUBLISH
BEGIN:VTIMEZONE
TZID:America/Tijuana
BEGIN:STANDARD
DTSTART:20221106T010000
RDATE:20230312T030000
TZOFFSETFROM:-0700
TZOFFSETTO:-0800
TZNAME:America/Tijuana PST
END:STANDARD
BEGIN:STANDARD
DTSTART:20231105T010000
RDATE:20240310T030000
TZOFFSETFROM:-0700
TZOFFSETTO:-0800
TZNAME:America/Tijuana PST
END:STANDARD
BEGIN:STANDARD
DTSTART:20241103T010000
RDATE:20250309T030000
TZOFFSETFROM:-0700
TZOFFSETTO:-0800
TZNAME:America/Tijuana PST
END:STANDARD
BEGIN:STANDARD
DTSTART:20251102T010000
RDATE:20260308T030000
TZOFFSETFROM:-0700
TZOFFSETTO:-0800
TZNAME:America/Tijuana PST
END:STANDARD
BEGIN:STANDARD
DTSTART:20261101T010000
RDATE:20270314T030000
TZOFFSETFROM:-0700
TZOFFSETTO:-0800
TZNAME:America/Tijuana PST
END:STANDARD
BEGIN:STANDARD
DTSTART:20271107T010000
RDATE:20280312T030000
TZOFFSETFROM:-0700
TZOFFSETTO:-0800
TZNAME:America/Tijuana PST
END:STANDARD
BEGIN:DAYLIGHT
DTSTART:20221026T090000
RDATE:20221106T010000
TZOFFSETFROM:-0800
TZOFFSETTO:-0700
TZNAME:America/Tijuana PDT
END:DAYLIGHT
BEGIN:DAYLIGHT
DTSTART:20230312T030000
RDATE:20231105T010000
TZOFFSETFROM:-0800
TZOFFSETTO:-0700
TZNAME:America/Tijuana PDT
END:DAYLIGHT
BEGIN:DAYLIGHT
DTSTART:20240310T030000
RDATE:20241103T010000
TZOFFSETFROM:-0800
TZOFFSETTO:-0700
TZNAME:America/Tijuana PDT
END:DAYLIGHT
BEGIN:DAYLIGHT
DTSTART:20250309T030000
RDATE:20251102T010000
TZOFFSETFROM:-0800
TZOFFSETTO:-0700
TZNAME:America/Tijuana PDT
END:DAYLIGHT
BEGIN:DAYLIGHT
DTSTART:20260308T030000
RDATE:20261101T010000
TZOFFSETFROM:-0800
TZOFFSETTO:-0700
TZNAME:America/Tijuana PDT
END:DAYLIGHT
BEGIN:DAYLIGHT
DTSTART:20270314T030000
RDATE:20271107T010000
TZOFFSETFROM:-0800
TZOFFSETTO:-0700
TZNAME:America/Tijuana PDT
END:DAYLIGHT
END:VTIMEZONE
BEGIN:VEVENT
UID:1c69862eb3c9bda03b7b143040bd5376
CATEGORIES:Habitat
CREATED:20230926T112512
SUMMARY:Friday Edgewood Restoration
LOCATION:Varies - join the email group to receive weekly notices.
DESCRIPTION:The Edgewood Weed Warriors operate under a permit issued to the Friends of 
 Edgewood. They meet regularly to remove invasive plants at Edgewood Park an
 d Natural Preserve (https://friendsofedgewood.org/), thereby allowing for g
 reater biodiversity, natural habitats, and those beautiful wildflower displ
 ays that everyone enjoys.\nThe Weed Warriors normally meet at 9:00 AM on Fr
 iday throughout the year and on Wednesday afternoons during daylight saving
 s time. Special sessions may be added with notice given at the beginning of
  the month.\nNotice of the meeting location and time for each session is se
 nt to the Weed Warrior email group each week - do not go to the park and ex
 pect to find the weeding group if you are not on the email list. If you wis
 h to be added to the Weed Warriors email, contact the Weed Warrior program 
 coordinator, Paul Heiple, at This email address is being protected from spa
 mbots. You need JavaScript enabled to view it.
				document.getElementById(
 'cloakd412b3686a171b63397955bddc1b904b').innerHTML = '';
				var prefix = '
 &#109;a' + 'i&#108;' + '&#116;o';
				var path = 'hr' + 'ef' + '=';
				var
  addyd412b3686a171b63397955bddc1b904b = 'w&#101;&#101;d-w&#97;rr&#105;&#111
 ;rs-c&#111;&#111;rd' + '&#64;';
				addyd412b3686a171b63397955bddc1b904b = 
 addyd412b3686a171b63397955bddc1b904b + 'fr&#105;&#101;nds&#111;f&#101;dg&#1
 01;w&#111;&#111;d' + '&#46;' + '&#111;rg';
				var addy_textd412b3686a171b6
 3397955bddc1b904b = 'w&#101;&#101;d-w&#97;rr&#105;&#111;rs-c&#111;&#111;rd@
 fr&#105;&#101;nds&#111;f&#101;dg&#101;w&#111;&#111;d.&#111;rg.';document.ge
 tElementById('cloakd412b3686a171b63397955bddc1b904b').innerHTML += '<a ' + 
 path + '\'' + prefix + ':' + addyd412b3686a171b63397955bddc1b904b + '\'>'+a
 ddy_textd412b3686a171b63397955bddc1b904b+'';
		\nNew weeders must fill out 
 forms before they come out. Contact This email address is being protected f
 rom spambots. You need JavaScript enabled to view it.
				document.getEleme
 ntById('cloak16ef1789c0bf98d4727baa53c60ad53c').innerHTML = '';
				var pre
 fix = '&#109;a' + 'i&#108;' + '&#116;o';
				var path = 'hr' + 'ef' + '=';

 				var addy16ef1789c0bf98d4727baa53c60ad53c = 'vc' + '&#64;';
				addy16ef
 1789c0bf98d4727baa53c60ad53c = addy16ef1789c0bf98d4727baa53c60ad53c + 'fr&#
 105;&#101;nds&#111;f&#101;dg&#101;w&#111;&#111;d' + '&#46;' + '&#111;rg';
	
 			var addy_text16ef1789c0bf98d4727baa53c60ad53c = 'vc' + '&#64;' + 'fr&#10
 5;&#101;nds&#111;f&#101;dg&#101;w&#111;&#111;d' + '&#46;' + '&#111;rg';docu
 ment.getElementById('cloak16ef1789c0bf98d4727baa53c60ad53c').innerHTML += '
 <a ' + path + '\'' + prefix + ':' + addy16ef1789c0bf98d4727baa53c60ad53c + 
 '\'>'+addy_text16ef1789c0bf98d4727baa53c60ad53c+'';
		 for the form to fill
  out.\nSturdy gloves are recommended; you might also want to bring sunscree
 n, water, a hat, layered clothing and wear long sleeves/pants.\n
X-ALT-DESC;FMTTYPE=text/html:<div class="page" title="Page 5"><div class="layoutArea"><div class="column
 "><p>The Edgewood Weed Warriors operate under a permit issued to the Friend
 s of Edgewood. They meet regularly to remove invasive plants at&nbsp;<a hre
 f="https://friendsofedgewood.org/">Edgewood Park and Natural Preserve</a>, 
 thereby allowing for greater biodiversity, natural habitats, and those beau
 tiful wildflower displays that everyone enjoys.</p><p>The Weed Warriors nor
 mally meet at 9:00 AM on Friday throughout the year and on Wednesday aftern
 oons during daylight savings time. Special sessions may be added with notic
 e given at the beginning of the month.</p><p>Notice of the meeting location
  and time for each session is sent to the Weed Warrior email group each wee
 k - <strong>do not go to the park and expect to find the weeding group if y
 ou are not on the email list.</strong> If you wish to be added to the Weed 
 Warriors email, contact the Weed Warrior program coordinator, Paul Heiple, 
 at <span id="cloakd412b3686a171b63397955bddc1b904b">This email address is b
 eing protected from spambots. You need JavaScript enabled to view it.</span
 ><script type='text/javascript'>
				document.getElementById('cloakd412b368
 6a171b63397955bddc1b904b').innerHTML = '';
				var prefix = '&#109;a' + 'i&
 #108;' + '&#116;o';
				var path = 'hr' + 'ef' + '=';
				var addyd412b3686
 a171b63397955bddc1b904b = 'w&#101;&#101;d-w&#97;rr&#105;&#111;rs-c&#111;&#1
 11;rd' + '&#64;';
				addyd412b3686a171b63397955bddc1b904b = addyd412b3686a
 171b63397955bddc1b904b + 'fr&#105;&#101;nds&#111;f&#101;dg&#101;w&#111;&#11
 1;d' + '&#46;' + '&#111;rg';
				var addy_textd412b3686a171b63397955bddc1b9
 04b = 'w&#101;&#101;d-w&#97;rr&#105;&#111;rs-c&#111;&#111;rd@fr&#105;&#101;
 nds&#111;f&#101;dg&#101;w&#111;&#111;d.&#111;rg.';document.getElementById('
 cloakd412b3686a171b63397955bddc1b904b').innerHTML += '<a ' + path + '\'' + 
 prefix + ':' + addyd412b3686a171b63397955bddc1b904b + '\'>'+addy_textd412b3
 686a171b63397955bddc1b904b+'<\/a>';
		</script></p><p><strong>New weeders m
 ust fill out forms before they come out. Contact <span id="cloak16ef1789c0b
 f98d4727baa53c60ad53c">This email address is being protected from spambots.
  You need JavaScript enabled to view it.</span><script type='text/javascrip
 t'>
				document.getElementById('cloak16ef1789c0bf98d4727baa53c60ad53c').in
 nerHTML = '';
				var prefix = '&#109;a' + 'i&#108;' + '&#116;o';
				var p
 ath = 'hr' + 'ef' + '=';
				var addy16ef1789c0bf98d4727baa53c60ad53c = 'vc
 ' + '&#64;';
				addy16ef1789c0bf98d4727baa53c60ad53c = addy16ef1789c0bf98d
 4727baa53c60ad53c + 'fr&#105;&#101;nds&#111;f&#101;dg&#101;w&#111;&#111;d' 
 + '&#46;' + '&#111;rg';
				var addy_text16ef1789c0bf98d4727baa53c60ad53c =
  'vc' + '&#64;' + 'fr&#105;&#101;nds&#111;f&#101;dg&#101;w&#111;&#111;d' + 
 '&#46;' + '&#111;rg';document.getElementById('cloak16ef1789c0bf98d4727baa53
 c60ad53c').innerHTML += '<a ' + path + '\'' + prefix + ':' + addy16ef1789c0
 bf98d4727baa53c60ad53c + '\'>'+addy_text16ef1789c0bf98d4727baa53c60ad53c+'<
 \/a>';
		</script> for the form to fill out.</strong></p><p>Sturdy gloves a
 re recommended; you might also want to bring sunscreen, water, a hat, layer
 ed clothing and wear long sleeves/pants.</p></div></div></div>
CONTACT:Friday leader Paul Heiple at This email address is being protected from spambots. You need JavaScript enabled to view it.
				document.getElementById('cloak3407e02025fe97869c10b3c4aa6c4e25').innerHTML = '';
				var prefix = '&#109;a' + 'i&#108;' + '&#116;o';
				var path = 'hr' + 'ef' + '=';
				var addy3407e02025fe97869c10b3c4aa6c4e25 = 'w&#101;&#101;d-w&#97;rr&#105;&#111;rs-c&#111;&#111;rd' + '&#64;';
				addy3407e02025fe97869c10b3c4aa6c4e25 = addy3407e02025fe97869c10b3c4aa6c4e25 + 'fr&#105;&#101;nds&#111;f&#101;dg&#101;w&#111;&#111;d' + '&#46;' + '&#111;rg';
				var addy_text3407e02025fe97869c10b3c4aa6c4e25 = 'w&#101;&#101;d-w&#97;rr&#105;&#111;rs-c&#111;&#111;rd' + '&#64;' + 'fr&#105;&#101;nds&#111;f&#101;dg&#101;w&#111;&#111;d' + '&#46;' + '&#111;rg';document.getElementById('cloak3407e02025fe97869c10b3c4aa6c4e25').innerHTML += '<a ' + path + '\'' + prefix + ':' + addy3407e02025fe97869c10b3c4aa6c4e25 + '\'>'+addy_text3407e02025fe97869c10b3c4aa6c4e25+'';
		
DTSTAMP:20260419T220440
DTSTART;TZID=America/Tijuana:20231027T090000
DTEND;TZID=America/Tijuana:20231027T120000
SEQUENCE:0
TRANSP:OPAQUE
END:VEVENT
END:VCALENDAR