BEGIN:VCALENDAR
VERSION:2.0
PRODID:-//jEvents 2.0 for Joomla//EN
CALSCALE:GREGORIAN
METHOD:PUBLISH
BEGIN:VTIMEZONE
TZID:America/Tijuana
BEGIN:STANDARD
DTSTART:20221106T010000
RDATE:20230312T030000
TZOFFSETFROM:-0700
TZOFFSETTO:-0800
TZNAME:America/Tijuana PST
END:STANDARD
BEGIN:STANDARD
DTSTART:20231105T010000
RDATE:20240310T030000
TZOFFSETFROM:-0700
TZOFFSETTO:-0800
TZNAME:America/Tijuana PST
END:STANDARD
BEGIN:STANDARD
DTSTART:20241103T010000
RDATE:20250309T030000
TZOFFSETFROM:-0700
TZOFFSETTO:-0800
TZNAME:America/Tijuana PST
END:STANDARD
BEGIN:STANDARD
DTSTART:20251102T010000
RDATE:20260308T030000
TZOFFSETFROM:-0700
TZOFFSETTO:-0800
TZNAME:America/Tijuana PST
END:STANDARD
BEGIN:STANDARD
DTSTART:20261101T010000
RDATE:20270314T030000
TZOFFSETFROM:-0700
TZOFFSETTO:-0800
TZNAME:America/Tijuana PST
END:STANDARD
BEGIN:STANDARD
DTSTART:20271107T010000
RDATE:20280312T030000
TZOFFSETFROM:-0700
TZOFFSETTO:-0800
TZNAME:America/Tijuana PST
END:STANDARD
BEGIN:DAYLIGHT
DTSTART:20220911T190000
RDATE:20221106T010000
TZOFFSETFROM:-0800
TZOFFSETTO:-0700
TZNAME:America/Tijuana PDT
END:DAYLIGHT
BEGIN:DAYLIGHT
DTSTART:20230312T030000
RDATE:20231105T010000
TZOFFSETFROM:-0800
TZOFFSETTO:-0700
TZNAME:America/Tijuana PDT
END:DAYLIGHT
BEGIN:DAYLIGHT
DTSTART:20240310T030000
RDATE:20241103T010000
TZOFFSETFROM:-0800
TZOFFSETTO:-0700
TZNAME:America/Tijuana PDT
END:DAYLIGHT
BEGIN:DAYLIGHT
DTSTART:20250309T030000
RDATE:20251102T010000
TZOFFSETFROM:-0800
TZOFFSETTO:-0700
TZNAME:America/Tijuana PDT
END:DAYLIGHT
BEGIN:DAYLIGHT
DTSTART:20260308T030000
RDATE:20261101T010000
TZOFFSETFROM:-0800
TZOFFSETTO:-0700
TZNAME:America/Tijuana PDT
END:DAYLIGHT
BEGIN:DAYLIGHT
DTSTART:20270314T030000
RDATE:20271107T010000
TZOFFSETFROM:-0800
TZOFFSETTO:-0700
TZNAME:America/Tijuana PDT
END:DAYLIGHT
END:VTIMEZONE
BEGIN:VEVENT
UID:215ba48367db750e2c8a180752efc51a
CATEGORIES:Meetings
CREATED:20230227T130842
SUMMARY:Conservation Committee
LOCATION:Zoom
DESCRIPTION:This committee covers many issues affecting native plants: conservation, ad
 vocacy, legislation, habitat restoration and rare plants. The committee mee
 ts once a month to provide information and support for all of these conserv
 ation issues and efforts. Members of our committee work on projects through
 out the Chapter area, coordinating with our state CNPS program staff and ot
 her conservation organizations.\nPlease join us in our important work! For 
 questions, comments or concerns, contact Committee Chair Carolyn Dorsch at 
 This email address is being protected from spambots. You need JavaScript en
 abled to view it.
				document.getElementById('cloak556bebab8a1bbfdf041e764
 25f0d4cea').innerHTML = '';
				var prefix = '&#109;a' + 'i&#108;' + '&#116
 ;o';
				var path = 'hr' + 'ef' + '=';
				var addy556bebab8a1bbfdf041e7642
 5f0d4cea = 'cd&#111;rsch' + '&#64;';
				addy556bebab8a1bbfdf041e76425f0d4c
 ea = addy556bebab8a1bbfdf041e76425f0d4cea + 'cnps-scv' + '&#46;' + '&#111;r
 g';
				var addy_text556bebab8a1bbfdf041e76425f0d4cea = 'cd&#111;rsch' + '&
 #64;' + 'cnps-scv' + '&#46;' + '&#111;rg';document.getElementById('cloak556
 bebab8a1bbfdf041e76425f0d4cea').innerHTML += '<a ' + path + '\'' + prefix +
  ':' + addy556bebab8a1bbfdf041e76425f0d4cea + '\'>'+addy_text556bebab8a1bbf
 df041e76425f0d4cea+'';
		 or (650) 804-6162, or Conservation Chair Judy Fen
 erty at This email address is being protected from spambots. You need JavaS
 cript enabled to view it.
				document.getElementById('cloakc37cb4f48a80067
 a07ff9748b2935ffc').innerHTML = '';
				var prefix = '&amp;#109;a' + 'i&amp
 ;#108;' + '&amp;#116;o';
				var path = 'hr' + 'ef' + '=';
				var addyc37c
 b4f48a80067a07ff9748b2935ffc = 'j&amp;#117;dy' + '&amp;#64;';
				addyc37cb
 4f48a80067a07ff9748b2935ffc = addyc37cb4f48a80067a07ff9748b2935ffc + 'f&amp
 ;#101;n&amp;#101;rty' + '&amp;#46;' + 'c&amp;#111;m';
				var addy_textc37c
 b4f48a80067a07ff9748b2935ffc = 'j&amp;#117;dy' + '&amp;#64;' + 'f&amp;#101;
 n&amp;#101;rty' + '&amp;#46;' + 'c&amp;#111;m';document.getElementById('clo
 akc37cb4f48a80067a07ff9748b2935ffc').innerHTML += '&lt;a ' + path + '\'' + 
 prefix + ':' + addyc37cb4f48a80067a07ff9748b2935ffc + '\'&gt;'+addy_textc37
 cb4f48a80067a07ff9748b2935ffc+'&lt;\/a&gt;';
		. (mailto:judy@fenerty.com.)
  If you are interested in joining our committee meetings on Zoom, please em
 ail Carolyn for the link.\n
X-ALT-DESC;FMTTYPE=text/html:<div class="page" title="Page 3"><div class="layoutArea"><div class="column
 "><p>This committee covers many issues affecting native plants: conservatio
 n, advocacy, legislation, habitat restoration and rare plants. The committe
 e meets once a month to provide information and support for all of these co
 nservation issues and efforts. Members of our committee work on projects th
 roughout the Chapter area, coordinating with our state CNPS program staff a
 nd other conservation organizations.</p></div></div></div><div class="page"
  title="Page 3"><div class="layoutArea"><div class="column"><p>Please join 
 us in our important work! For questions, comments or concerns, contact Comm
 ittee Chair Carolyn Dorsch at <span id="cloak556bebab8a1bbfdf041e76425f0d4c
 ea">This email address is being protected from spambots. You need JavaScrip
 t enabled to view it.</span><script type='text/javascript'>
				document.ge
 tElementById('cloak556bebab8a1bbfdf041e76425f0d4cea').innerHTML = '';
				v
 ar prefix = '&#109;a' + 'i&#108;' + '&#116;o';
				var path = 'hr' + 'ef' +
  '=';
				var addy556bebab8a1bbfdf041e76425f0d4cea = 'cd&#111;rsch' + '&#64
 ;';
				addy556bebab8a1bbfdf041e76425f0d4cea = addy556bebab8a1bbfdf041e7642
 5f0d4cea + 'cnps-scv' + '&#46;' + '&#111;rg';
				var addy_text556bebab8a1b
 bfdf041e76425f0d4cea = 'cd&#111;rsch' + '&#64;' + 'cnps-scv' + '&#46;' + '&
 #111;rg';document.getElementById('cloak556bebab8a1bbfdf041e76425f0d4cea').i
 nnerHTML += '<a ' + path + '\'' + prefix + ':' + addy556bebab8a1bbfdf041e76
 425f0d4cea + '\'>'+addy_text556bebab8a1bbfdf041e76425f0d4cea+'<\/a>';
		</s
 cript> or (650) 804-6162, or Conservation Chair Judy Fenerty at <a href="ma
 ilto:judy@fenerty.com."><span id="cloakc37cb4f48a80067a07ff9748b2935ffc">Th
 is email address is being protected from spambots. You need JavaScript enab
 led to view it.</span><script type='text/javascript'>
				document.getEleme
 ntById('cloakc37cb4f48a80067a07ff9748b2935ffc').innerHTML = '';
				var pre
 fix = '&#109;a' + 'i&#108;' + '&#116;o';
				var path = 'hr' + 'ef' + '=';

 				var addyc37cb4f48a80067a07ff9748b2935ffc = 'j&#117;dy' + '&#64;';
				a
 ddyc37cb4f48a80067a07ff9748b2935ffc = addyc37cb4f48a80067a07ff9748b2935ffc 
 + 'f&#101;n&#101;rty' + '&#46;' + 'c&#111;m';
				var addy_textc37cb4f48a80
 067a07ff9748b2935ffc = 'j&#117;dy' + '&#64;' + 'f&#101;n&#101;rty' + '&#46;
 ' + 'c&#111;m';document.getElementById('cloakc37cb4f48a80067a07ff9748b2935f
 fc').innerHTML += '<a ' + path + '\'' + prefix + ':' + addyc37cb4f48a80067a
 07ff9748b2935ffc + '\'>'+addy_textc37cb4f48a80067a07ff9748b2935ffc+'<\/a>';
 
		</script>.</a> If you are interested in joining our committee meetings o
 n Zoom, please email Carolyn for the link.</p></div></div></div>
CONTACT:Carolyn Dorsch at This email address is being protected from spambots. You need JavaScript enabled to view it.
				document.getElementById('cloak62e0bef167faee754db15ed71ff937e5').innerHTML = '';
				var prefix = '&#109;a' + 'i&#108;' + '&#116;o';
				var path = 'hr' + 'ef' + '=';
				var addy62e0bef167faee754db15ed71ff937e5 = 'cd&#111;rsch' + '&#64;';
				addy62e0bef167faee754db15ed71ff937e5 = addy62e0bef167faee754db15ed71ff937e5 + 'cnps-scv' + '&#46;' + '&#111;rg';
				var addy_text62e0bef167faee754db15ed71ff937e5 = 'cd&#111;rsch' + '&#64;' + 'cnps-scv' + '&#46;' + '&#111;rg';document.getElementById('cloak62e0bef167faee754db15ed71ff937e5').innerHTML += '<a ' + path + '\'' + prefix + ':' + addy62e0bef167faee754db15ed71ff937e5 + '\'>'+addy_text62e0bef167faee754db15ed71ff937e5+'';
		 or (650) 804-6162
DTSTAMP:20260426T022604
DTSTART;TZID=America/Tijuana:20230912T190000
DTEND;TZID=America/Tijuana:20230912T203000
SEQUENCE:0
TRANSP:OPAQUE
END:VEVENT
END:VCALENDAR