BEGIN:VCALENDAR
VERSION:2.0
PRODID:-//jEvents 2.0 for Joomla//EN
CALSCALE:GREGORIAN
METHOD:PUBLISH
BEGIN:VTIMEZONE
TZID:America/Tijuana
BEGIN:STANDARD
DTSTART:20201108T190000
RDATE:20210314T030000
TZOFFSETFROM:-0700
TZOFFSETTO:-0800
TZNAME:America/Tijuana PST
END:STANDARD
BEGIN:STANDARD
DTSTART:20211107T010000
RDATE:20220313T030000
TZOFFSETFROM:-0700
TZOFFSETTO:-0800
TZNAME:America/Tijuana PST
END:STANDARD
BEGIN:STANDARD
DTSTART:20221106T010000
RDATE:20230312T030000
TZOFFSETFROM:-0700
TZOFFSETTO:-0800
TZNAME:America/Tijuana PST
END:STANDARD
BEGIN:STANDARD
DTSTART:20231105T010000
RDATE:20240310T030000
TZOFFSETFROM:-0700
TZOFFSETTO:-0800
TZNAME:America/Tijuana PST
END:STANDARD
BEGIN:STANDARD
DTSTART:20241103T010000
RDATE:20250309T030000
TZOFFSETFROM:-0700
TZOFFSETTO:-0800
TZNAME:America/Tijuana PST
END:STANDARD
BEGIN:STANDARD
DTSTART:20251102T010000
RDATE:20260308T030000
TZOFFSETFROM:-0700
TZOFFSETTO:-0800
TZNAME:America/Tijuana PST
END:STANDARD
BEGIN:STANDARD
DTSTART:20261101T010000
RDATE:20270314T030000
TZOFFSETFROM:-0700
TZOFFSETTO:-0800
TZNAME:America/Tijuana PST
END:STANDARD
BEGIN:STANDARD
DTSTART:20271107T010000
RDATE:20280312T030000
TZOFFSETFROM:-0700
TZOFFSETTO:-0800
TZNAME:America/Tijuana PST
END:STANDARD
BEGIN:DAYLIGHT
DTSTART:20210314T030000
RDATE:20211107T010000
TZOFFSETFROM:-0800
TZOFFSETTO:-0700
TZNAME:America/Tijuana PDT
END:DAYLIGHT
BEGIN:DAYLIGHT
DTSTART:20220313T030000
RDATE:20221106T010000
TZOFFSETFROM:-0800
TZOFFSETTO:-0700
TZNAME:America/Tijuana PDT
END:DAYLIGHT
BEGIN:DAYLIGHT
DTSTART:20230312T030000
RDATE:20231105T010000
TZOFFSETFROM:-0800
TZOFFSETTO:-0700
TZNAME:America/Tijuana PDT
END:DAYLIGHT
BEGIN:DAYLIGHT
DTSTART:20240310T030000
RDATE:20241103T010000
TZOFFSETFROM:-0800
TZOFFSETTO:-0700
TZNAME:America/Tijuana PDT
END:DAYLIGHT
BEGIN:DAYLIGHT
DTSTART:20250309T030000
RDATE:20251102T010000
TZOFFSETFROM:-0800
TZOFFSETTO:-0700
TZNAME:America/Tijuana PDT
END:DAYLIGHT
BEGIN:DAYLIGHT
DTSTART:20260308T030000
RDATE:20261101T010000
TZOFFSETFROM:-0800
TZOFFSETTO:-0700
TZNAME:America/Tijuana PDT
END:DAYLIGHT
BEGIN:DAYLIGHT
DTSTART:20270314T030000
RDATE:20271107T010000
TZOFFSETFROM:-0800
TZOFFSETTO:-0700
TZNAME:America/Tijuana PDT
END:DAYLIGHT
END:VTIMEZONE
BEGIN:VEVENT
UID:8dfb822a383ba7a1b8a415124464db30
CATEGORIES:Meetings
CREATED:20210915T155943
SUMMARY:Conservation Committee
LOCATION: Zoom - contact committee chair for the link
DESCRIPTION:Our Chapter’s conservation committee (formerly LIVeCoRP - Legislation, Inva
 sives, Conservation, and Rare Plant) meets on the second Tuesday of each mo
 nth. Meetings are open to people who wish to get involved with preserving, 
 protecting, and understanding native species and plant communities througho
 ut our Chapter's area. No experience is necessary, only a desire to help re
 tain what remains of our natural heritage. Please join us in our important 
 work! For questions, comments or concerns, please contact Conservation Chai
 r  Carolyn Dorsch at This email address is being protected from spambots. Y
 ou need JavaScript enabled to view it.
				document.getElementById('cloak3c
 192f8080e2bfbbb6cadb4b789ebf2d').innerHTML = '';
				var prefix = '&#109;a'
  + 'i&#108;' + '&#116;o';
				var path = 'hr' + 'ef' + '=';
				var addy3c1
 92f8080e2bfbbb6cadb4b789ebf2d = 'cd&#111;rsch' + '&#64;';
				addy3c192f808
 0e2bfbbb6cadb4b789ebf2d = addy3c192f8080e2bfbbb6cadb4b789ebf2d + 'cnps-scv'
  + '&#46;' + '&#111;rg';
				var addy_text3c192f8080e2bfbbb6cadb4b789ebf2d 
 = 'cd&#111;rsch' + '&#64;' + 'cnps-scv' + '&#46;' + '&#111;rg';document.get
 ElementById('cloak3c192f8080e2bfbbb6cadb4b789ebf2d').innerHTML += '<a ' + p
 ath + '\'' + prefix + ':' + addy3c192f8080e2bfbbb6cadb4b789ebf2d + '\'>'+ad
 dy_text3c192f8080e2bfbbb6cadb4b789ebf2d+'';
		. Regular participants should
  join the committee email group (https://groups.yahoo.com/neo/groups/CNPSSC
 V_Conservation_Conservation/info).\n
X-ALT-DESC;FMTTYPE=text/html:<p>Our Chapter’s conservation committee (formerly LIVeCoRP - Legislation, I
 nvasives, Conservation, and Rare Plant) meets on the second Tuesday of each
  month. Meetings are open to people who wish to get involved with preservin
 g, protecting, and understanding native species and plant communities throu
 ghout our Chapter's area. No experience is necessary, only a desire to help
  retain what remains of our natural heritage. Please join us in our importa
 nt work! For questions, comments or concerns, please contact Conservation C
 hair &nbsp;Carolyn Dorsch at&nbsp;<span id="cloake120051c707e4cee0eb8c3b2a7
 8305d7"><span id="cloak3c192f8080e2bfbbb6cadb4b789ebf2d">This email address
  is being protected from spambots. You need JavaScript enabled to view it.<
 /span><script type='text/javascript'>
				document.getElementById('cloak3c1
 92f8080e2bfbbb6cadb4b789ebf2d').innerHTML = '';
				var prefix = '&#109;a' 
 + 'i&#108;' + '&#116;o';
				var path = 'hr' + 'ef' + '=';
				var addy3c19
 2f8080e2bfbbb6cadb4b789ebf2d = 'cd&#111;rsch' + '&#64;';
				addy3c192f8080
 e2bfbbb6cadb4b789ebf2d = addy3c192f8080e2bfbbb6cadb4b789ebf2d + 'cnps-scv' 
 + '&#46;' + '&#111;rg';
				var addy_text3c192f8080e2bfbbb6cadb4b789ebf2d =
  'cd&#111;rsch' + '&#64;' + 'cnps-scv' + '&#46;' + '&#111;rg';document.getE
 lementById('cloak3c192f8080e2bfbbb6cadb4b789ebf2d').innerHTML += '<a ' + pa
 th + '\'' + prefix + ':' + addy3c192f8080e2bfbbb6cadb4b789ebf2d + '\'>'+add
 y_text3c192f8080e2bfbbb6cadb4b789ebf2d+'<\/a>';
		</script></span>. Regular
  participants should join the <a href="https://groups.yahoo.com/neo/groups/
 CNPSSCV_Conservation_Conservation/info">committee email group</a>.</p>
CONTACT:Carolyn Dorsch at This email address is being protected from spambots. You need JavaScript enabled to view it.
				document.getElementById('cloak939e412e0896fc19f46ecf45b654dc67').innerHTML = '';
				var prefix = '&#109;a' + 'i&#108;' + '&#116;o';
				var path = 'hr' + 'ef' + '=';
				var addy939e412e0896fc19f46ecf45b654dc67 = 'cd&#111;rsch' + '&#64;';
				addy939e412e0896fc19f46ecf45b654dc67 = addy939e412e0896fc19f46ecf45b654dc67 + 'cnps-scv' + '&#46;' + '&#111;rg';
				var addy_text939e412e0896fc19f46ecf45b654dc67 = 'cd&#111;rsch' + '&#64;' + 'cnps-scv' + '&#46;' + '&#111;rg';document.getElementById('cloak939e412e0896fc19f46ecf45b654dc67').innerHTML += '<a ' + path + '\'' + prefix + ':' + addy939e412e0896fc19f46ecf45b654dc67 + '\'>'+addy_text939e412e0896fc19f46ecf45b654dc67+'';
		 or (650) 804-6162
DTSTAMP:20260424T131048
DTSTART;TZID=America/Tijuana:20211109T190000
DTEND;TZID=America/Tijuana:20211109T210000
SEQUENCE:0
TRANSP:OPAQUE
END:VEVENT
END:VCALENDAR