BEGIN:VCALENDAR
VERSION:2.0
PRODID:-//jEvents 2.0 for Joomla//EN
CALSCALE:GREGORIAN
METHOD:PUBLISH
BEGIN:VTIMEZONE
TZID:America/Tijuana
BEGIN:STANDARD
DTSTART:20141222T000000
RDATE:20150308T030000
TZOFFSETFROM:-0700
TZOFFSETTO:-0800
TZNAME:America/Tijuana PST
END:STANDARD
BEGIN:STANDARD
DTSTART:20151101T010000
RDATE:20160313T030000
TZOFFSETFROM:-0700
TZOFFSETTO:-0800
TZNAME:America/Tijuana PST
END:STANDARD
BEGIN:STANDARD
DTSTART:20161106T010000
RDATE:20170312T030000
TZOFFSETFROM:-0700
TZOFFSETTO:-0800
TZNAME:America/Tijuana PST
END:STANDARD
BEGIN:STANDARD
DTSTART:20171105T010000
RDATE:20180311T030000
TZOFFSETFROM:-0700
TZOFFSETTO:-0800
TZNAME:America/Tijuana PST
END:STANDARD
BEGIN:STANDARD
DTSTART:20181104T010000
RDATE:20190310T030000
TZOFFSETFROM:-0700
TZOFFSETTO:-0800
TZNAME:America/Tijuana PST
END:STANDARD
BEGIN:STANDARD
DTSTART:20191103T010000
RDATE:20200308T030000
TZOFFSETFROM:-0700
TZOFFSETTO:-0800
TZNAME:America/Tijuana PST
END:STANDARD
BEGIN:STANDARD
DTSTART:20201101T010000
RDATE:20210314T030000
TZOFFSETFROM:-0700
TZOFFSETTO:-0800
TZNAME:America/Tijuana PST
END:STANDARD
BEGIN:STANDARD
DTSTART:20211107T010000
RDATE:20220313T030000
TZOFFSETFROM:-0700
TZOFFSETTO:-0800
TZNAME:America/Tijuana PST
END:STANDARD
BEGIN:STANDARD
DTSTART:20221106T010000
RDATE:20230312T030000
TZOFFSETFROM:-0700
TZOFFSETTO:-0800
TZNAME:America/Tijuana PST
END:STANDARD
BEGIN:STANDARD
DTSTART:20231105T010000
RDATE:20240310T030000
TZOFFSETFROM:-0700
TZOFFSETTO:-0800
TZNAME:America/Tijuana PST
END:STANDARD
BEGIN:STANDARD
DTSTART:20241103T010000
RDATE:20250309T030000
TZOFFSETFROM:-0700
TZOFFSETTO:-0800
TZNAME:America/Tijuana PST
END:STANDARD
BEGIN:STANDARD
DTSTART:20251102T010000
RDATE:20260308T030000
TZOFFSETFROM:-0700
TZOFFSETTO:-0800
TZNAME:America/Tijuana PST
END:STANDARD
BEGIN:STANDARD
DTSTART:20261101T010000
RDATE:20270314T030000
TZOFFSETFROM:-0700
TZOFFSETTO:-0800
TZNAME:America/Tijuana PST
END:STANDARD
BEGIN:STANDARD
DTSTART:20271107T010000
RDATE:20280312T030000
TZOFFSETFROM:-0700
TZOFFSETTO:-0800
TZNAME:America/Tijuana PST
END:STANDARD
BEGIN:DAYLIGHT
DTSTART:20150308T030000
RDATE:20151101T010000
TZOFFSETFROM:-0800
TZOFFSETTO:-0700
TZNAME:America/Tijuana PDT
END:DAYLIGHT
BEGIN:DAYLIGHT
DTSTART:20160313T030000
RDATE:20161106T010000
TZOFFSETFROM:-0800
TZOFFSETTO:-0700
TZNAME:America/Tijuana PDT
END:DAYLIGHT
BEGIN:DAYLIGHT
DTSTART:20170312T030000
RDATE:20171105T010000
TZOFFSETFROM:-0800
TZOFFSETTO:-0700
TZNAME:America/Tijuana PDT
END:DAYLIGHT
BEGIN:DAYLIGHT
DTSTART:20180311T030000
RDATE:20181104T010000
TZOFFSETFROM:-0800
TZOFFSETTO:-0700
TZNAME:America/Tijuana PDT
END:DAYLIGHT
BEGIN:DAYLIGHT
DTSTART:20190310T030000
RDATE:20191103T010000
TZOFFSETFROM:-0800
TZOFFSETTO:-0700
TZNAME:America/Tijuana PDT
END:DAYLIGHT
BEGIN:DAYLIGHT
DTSTART:20200308T030000
RDATE:20201101T010000
TZOFFSETFROM:-0800
TZOFFSETTO:-0700
TZNAME:America/Tijuana PDT
END:DAYLIGHT
BEGIN:DAYLIGHT
DTSTART:20210314T030000
RDATE:20211107T010000
TZOFFSETFROM:-0800
TZOFFSETTO:-0700
TZNAME:America/Tijuana PDT
END:DAYLIGHT
BEGIN:DAYLIGHT
DTSTART:20220313T030000
RDATE:20221106T010000
TZOFFSETFROM:-0800
TZOFFSETTO:-0700
TZNAME:America/Tijuana PDT
END:DAYLIGHT
BEGIN:DAYLIGHT
DTSTART:20230312T030000
RDATE:20231105T010000
TZOFFSETFROM:-0800
TZOFFSETTO:-0700
TZNAME:America/Tijuana PDT
END:DAYLIGHT
BEGIN:DAYLIGHT
DTSTART:20240310T030000
RDATE:20241103T010000
TZOFFSETFROM:-0800
TZOFFSETTO:-0700
TZNAME:America/Tijuana PDT
END:DAYLIGHT
BEGIN:DAYLIGHT
DTSTART:20250309T030000
RDATE:20251102T010000
TZOFFSETFROM:-0800
TZOFFSETTO:-0700
TZNAME:America/Tijuana PDT
END:DAYLIGHT
BEGIN:DAYLIGHT
DTSTART:20260308T030000
RDATE:20261101T010000
TZOFFSETFROM:-0800
TZOFFSETTO:-0700
TZNAME:America/Tijuana PDT
END:DAYLIGHT
BEGIN:DAYLIGHT
DTSTART:20270314T030000
RDATE:20271107T010000
TZOFFSETFROM:-0800
TZOFFSETTO:-0700
TZNAME:America/Tijuana PDT
END:DAYLIGHT
END:VTIMEZONE
BEGIN:VEVENT
UID:d9abf6ef52b81de8608e0ec3c90cbfa8
CATEGORIES:Nursery
CREATED:20150604T150412
SUMMARY:Nursery Workday
LOCATION:Hidden Villa on Moody Road west of Foothill College.  26870 Moody Road in L
 os Altos\, CA\, or follow the directions below
DESCRIPTION:Native Plant Nursery Propagation WorkdaysCome help propagate plants for our
  next plant sale by volunteering at one of our nursery work sessions, every
  Wednesday and Thursday.  Bring garden gloves, sunhat, clippers, and liquid
 s and your lunch if you like.  Other tools will be provided at the nursery.
   Knowledge of plants is not necessary; your willingness to help is all tha
 t's required.\nHours: Between the spring and fall plant sales, we work from
  10am to 1pm.  Between the fall and spring plant sales, we work from noon t
 o 3pm.\nFor more information, contact Melanie Cross at (650) 847-1350 or Th
 is email address is being protected from spambots. You need JavaScript enab
 led to view it.
				document.getElementById('cloakbeb77509db345025f7b7ad3b0
 377185b').innerHTML = '';
				var prefix = '&#109;a' + 'i&#108;' + '&#116;o
 ';
				var path = 'hr' + 'ef' + '=';
				var addybeb77509db345025f7b7ad3b03
 77185b = 'm&#101;l&#97;n&#105;&#101;' + '&#64;';
				addybeb77509db345025f7
 b7ad3b0377185b = addybeb77509db345025f7b7ad3b0377185b + 'pcr&#111;ss' + '&#
 46;' + 'c&#111;m';
				var addy_textbeb77509db345025f7b7ad3b0377185b = 'm&#
 101;l&#97;n&#105;&#101;' + '&#64;' + 'pcr&#111;ss' + '&#46;' + 'c&#111;m';d
 ocument.getElementById('cloakbeb77509db345025f7b7ad3b0377185b').innerHTML +
 = '<a ' + path + '\'' + prefix + ':' + addybeb77509db345025f7b7ad3b0377185b
  + '\'>'+addy_textbeb77509db345025f7b7ad3b0377185b+'';
		; or Ray Deutsch a
 t (650) 365-6136 or This email address is being protected from spambots. Yo
 u need JavaScript enabled to view it.
				document.getElementById('cloak1cb
 6f8b970fd0ab987031e606da6b749').innerHTML = '';
				var prefix = '&#109;a' 
 + 'i&#108;' + '&#116;o';
				var path = 'hr' + 'ef' + '=';
				var addy1cb6
 f8b970fd0ab987031e606da6b749 = 'r&#97;y.d&#101;&#117;tsch' + '&#64;';
				a
 ddy1cb6f8b970fd0ab987031e606da6b749 = addy1cb6f8b970fd0ab987031e606da6b749 
 + 'y&#97;h&#111;&#111;' + '&#46;' + 'c&#97;';
				var addy_text1cb6f8b970fd
 0ab987031e606da6b749 = 'r&#97;y.d&#101;&#117;tsch' + '&#64;' + 'y&#97;h&#11
 1;&#111;' + '&#46;' + 'c&#97;';document.getElementById('cloak1cb6f8b970fd0a
 b987031e606da6b749').innerHTML += '<a ' + path + '\'' + prefix + ':' + addy
 1cb6f8b970fd0ab987031e606da6b749 + '\'>'+addy_text1cb6f8b970fd0ab987031e606
 da6b749+'';
		\n
X-ALT-DESC;FMTTYPE=text/html:<h3>Native Plant Nursery Propagation Workdays</h3><p>Come help propagate pl
 ants for our next plant sale by volunteering at one of our nursery work ses
 sions, every <strong>Wednesday and Thursday</strong>.  Bring garden gloves,
  sunhat, clippers, and liquids and your lunch if you like.  Other tools wil
 l be provided at the nursery.  Knowledge of plants is not necessary; your w
 illingness to help is all that's required.</p><p><strong>Hours:</strong> Be
 tween the spring and fall plant sales, we work from <strong>10am to 1pm. </
 strong> Between the fall and spring plant sales, we work from <strong>noon 
 to 3pm</strong>.</p><p>For more information, contact Melanie Cross at (650)
  847-1350 or <span id="cloakbeb77509db345025f7b7ad3b0377185b">This email ad
 dress is being protected from spambots. You need JavaScript enabled to view
  it.</span><script type='text/javascript'>
				document.getElementById('clo
 akbeb77509db345025f7b7ad3b0377185b').innerHTML = '';
				var prefix = '&#10
 9;a' + 'i&#108;' + '&#116;o';
				var path = 'hr' + 'ef' + '=';
				var add
 ybeb77509db345025f7b7ad3b0377185b = 'm&#101;l&#97;n&#105;&#101;' + '&#64;';
 
				addybeb77509db345025f7b7ad3b0377185b = addybeb77509db345025f7b7ad3b037
 7185b + 'pcr&#111;ss' + '&#46;' + 'c&#111;m';
				var addy_textbeb77509db34
 5025f7b7ad3b0377185b = 'm&#101;l&#97;n&#105;&#101;' + '&#64;' + 'pcr&#111;s
 s' + '&#46;' + 'c&#111;m';document.getElementById('cloakbeb77509db345025f7b
 7ad3b0377185b').innerHTML += '<a ' + path + '\'' + prefix + ':' + addybeb77
 509db345025f7b7ad3b0377185b + '\'>'+addy_textbeb77509db345025f7b7ad3b037718
 5b+'<\/a>';
		</script>; or Ray Deutsch at (650) 365-6136 or <span id="cloa
 k1cb6f8b970fd0ab987031e606da6b749">This email address is being protected fr
 om spambots. You need JavaScript enabled to view it.</span><script type='te
 xt/javascript'>
				document.getElementById('cloak1cb6f8b970fd0ab987031e606
 da6b749').innerHTML = '';
				var prefix = '&#109;a' + 'i&#108;' + '&#116;o
 ';
				var path = 'hr' + 'ef' + '=';
				var addy1cb6f8b970fd0ab987031e606d
 a6b749 = 'r&#97;y.d&#101;&#117;tsch' + '&#64;';
				addy1cb6f8b970fd0ab9870
 31e606da6b749 = addy1cb6f8b970fd0ab987031e606da6b749 + 'y&#97;h&#111;&#111;
 ' + '&#46;' + 'c&#97;';
				var addy_text1cb6f8b970fd0ab987031e606da6b749 =
  'r&#97;y.d&#101;&#117;tsch' + '&#64;' + 'y&#97;h&#111;&#111;' + '&#46;' + 
 'c&#97;';document.getElementById('cloak1cb6f8b970fd0ab987031e606da6b749').i
 nnerHTML += '<a ' + path + '\'' + prefix + ':' + addy1cb6f8b970fd0ab987031e
 606da6b749 + '\'>'+addy_text1cb6f8b970fd0ab987031e606da6b749+'<\/a>';
		</s
 cript></p>
CONTACT:Melanie Cross at (650) 847-1350 or This email address is being protected from spambots. You need JavaScript enabled to view it.
				document.getElementById('cloake1c9610ef463f55a6f840a6d547aa4d5').innerHTML = '';
				var prefix = '&#109;a' + 'i&#108;' + '&#116;o';
				var path = 'hr' + 'ef' + '=';
				var addye1c9610ef463f55a6f840a6d547aa4d5 = 'm&#101;l&#97;n&#105;&#101;' + '&#64;';
				addye1c9610ef463f55a6f840a6d547aa4d5 = addye1c9610ef463f55a6f840a6d547aa4d5 + 'pcr&#111;ss' + '&#46;' + 'c&#111;m';
				var addy_texte1c9610ef463f55a6f840a6d547aa4d5 = 'm&#101;l&#97;n&#105;&#101;' + '&#64;' + 'pcr&#111;ss' + '&#46;' + 'c&#111;m';document.getElementById('cloake1c9610ef463f55a6f840a6d547aa4d5').innerHTML += '<a ' + path + '\'' + prefix + ':' + addye1c9610ef463f55a6f840a6d547aa4d5 + '\'>'+addy_texte1c9610ef463f55a6f840a6d547aa4d5+'';
		; or Ray Deutsch at (650) 365-6136 or This email address is being protected from spambots. You need JavaScript enabled to view it.
				document.getElementById('cloak990f0926b0604591eb3ecf7a9240b738').innerHTML = '';
				var prefix = '&#109;a' + 'i&#108;' + '&#116;o';
				var path = 'hr' + 'ef' + '=';
				var addy990f0926b0604591eb3ecf7a9240b738 = 'r&#97;y.d&#101;&#117;tsch' + '&#64;';
				addy990f0926b0604591eb3ecf7a9240b738 = addy990f0926b0604591eb3ecf7a9240b738 + 'y&#97;h&#111;&#111;' + '&#46;' + 'c&#97;';
				var addy_text990f0926b0604591eb3ecf7a9240b738 = 'r&#97;y.d&#101;&#117;tsch' + '&#64;' + 'y&#97;h&#111;&#111;' + '&#46;' + 'c&#97;';document.getElementById('cloak990f0926b0604591eb3ecf7a9240b738').innerHTML += '<a ' + path + '\'' + prefix + ':' + addy990f0926b0604591eb3ecf7a9240b738 + '\'>'+addy_text990f0926b0604591eb3ecf7a9240b738+'';
		
X-EXTRAINFO:Directions: Hidden Villa is located on Moody Road west of Foothill College.
   From Hwy. 280 in Los Altos Hills, take the Moody Road exit and head west.
   Two miles west of Foothill College, look for the Hidden Villa sign and dr
 iveway on the left.  Proceed over the bridge and park in the visitor center
  parking lot to your right.  The Nursery is at the greenhouse just beyond t
 he visitor center.
DTSTAMP:20260420T012110
DTSTART;TZID=America/Tijuana:20151223T000000
DTEND;TZID=America/Tijuana:20151223T150000
SEQUENCE:0
TRANSP:OPAQUE
END:VEVENT
END:VCALENDAR