BEGIN:VCALENDAR
VERSION:2.0
PRODID:-//jEvents 2.0 for Joomla//EN
CALSCALE:GREGORIAN
METHOD:PUBLISH
BEGIN:VTIMEZONE
TZID:America/Tijuana
BEGIN:STANDARD
DTSTART:20181104T010000
RDATE:20190310T030000
TZOFFSETFROM:-0700
TZOFFSETTO:-0800
TZNAME:America/Tijuana PST
END:STANDARD
BEGIN:STANDARD
DTSTART:20191103T010000
RDATE:20200308T030000
TZOFFSETFROM:-0700
TZOFFSETTO:-0800
TZNAME:America/Tijuana PST
END:STANDARD
BEGIN:STANDARD
DTSTART:20201101T010000
RDATE:20210314T030000
TZOFFSETFROM:-0700
TZOFFSETTO:-0800
TZNAME:America/Tijuana PST
END:STANDARD
BEGIN:STANDARD
DTSTART:20211107T010000
RDATE:20220313T030000
TZOFFSETFROM:-0700
TZOFFSETTO:-0800
TZNAME:America/Tijuana PST
END:STANDARD
BEGIN:STANDARD
DTSTART:20221106T010000
RDATE:20230312T030000
TZOFFSETFROM:-0700
TZOFFSETTO:-0800
TZNAME:America/Tijuana PST
END:STANDARD
BEGIN:STANDARD
DTSTART:20231105T010000
RDATE:20240310T030000
TZOFFSETFROM:-0700
TZOFFSETTO:-0800
TZNAME:America/Tijuana PST
END:STANDARD
BEGIN:STANDARD
DTSTART:20241103T010000
RDATE:20250309T030000
TZOFFSETFROM:-0700
TZOFFSETTO:-0800
TZNAME:America/Tijuana PST
END:STANDARD
BEGIN:STANDARD
DTSTART:20251102T010000
RDATE:20260308T030000
TZOFFSETFROM:-0700
TZOFFSETTO:-0800
TZNAME:America/Tijuana PST
END:STANDARD
BEGIN:STANDARD
DTSTART:20261101T010000
RDATE:20270314T030000
TZOFFSETFROM:-0700
TZOFFSETTO:-0800
TZNAME:America/Tijuana PST
END:STANDARD
BEGIN:STANDARD
DTSTART:20271107T010000
RDATE:20280312T030000
TZOFFSETFROM:-0700
TZOFFSETTO:-0800
TZNAME:America/Tijuana PST
END:STANDARD
BEGIN:DAYLIGHT
DTSTART:20180411T090000
RDATE:20181104T010000
TZOFFSETFROM:-0800
TZOFFSETTO:-0700
TZNAME:America/Tijuana PDT
END:DAYLIGHT
BEGIN:DAYLIGHT
DTSTART:20190310T030000
RDATE:20191103T010000
TZOFFSETFROM:-0800
TZOFFSETTO:-0700
TZNAME:America/Tijuana PDT
END:DAYLIGHT
BEGIN:DAYLIGHT
DTSTART:20200308T030000
RDATE:20201101T010000
TZOFFSETFROM:-0800
TZOFFSETTO:-0700
TZNAME:America/Tijuana PDT
END:DAYLIGHT
BEGIN:DAYLIGHT
DTSTART:20210314T030000
RDATE:20211107T010000
TZOFFSETFROM:-0800
TZOFFSETTO:-0700
TZNAME:America/Tijuana PDT
END:DAYLIGHT
BEGIN:DAYLIGHT
DTSTART:20220313T030000
RDATE:20221106T010000
TZOFFSETFROM:-0800
TZOFFSETTO:-0700
TZNAME:America/Tijuana PDT
END:DAYLIGHT
BEGIN:DAYLIGHT
DTSTART:20230312T030000
RDATE:20231105T010000
TZOFFSETFROM:-0800
TZOFFSETTO:-0700
TZNAME:America/Tijuana PDT
END:DAYLIGHT
BEGIN:DAYLIGHT
DTSTART:20240310T030000
RDATE:20241103T010000
TZOFFSETFROM:-0800
TZOFFSETTO:-0700
TZNAME:America/Tijuana PDT
END:DAYLIGHT
BEGIN:DAYLIGHT
DTSTART:20250309T030000
RDATE:20251102T010000
TZOFFSETFROM:-0800
TZOFFSETTO:-0700
TZNAME:America/Tijuana PDT
END:DAYLIGHT
BEGIN:DAYLIGHT
DTSTART:20260308T030000
RDATE:20261101T010000
TZOFFSETFROM:-0800
TZOFFSETTO:-0700
TZNAME:America/Tijuana PDT
END:DAYLIGHT
BEGIN:DAYLIGHT
DTSTART:20270314T030000
RDATE:20271107T010000
TZOFFSETFROM:-0800
TZOFFSETTO:-0700
TZNAME:America/Tijuana PDT
END:DAYLIGHT
END:VTIMEZONE
BEGIN:VEVENT
UID:ac99c3733475ceb597bcaa6c5e65876f
CATEGORIES:Habitat
CREATED:20190218T072636
SUMMARY:Edgewood Restoration
LOCATION:Edgewood Park and Natural Preserve
DESCRIPTION:Help restore habitat at Edgewood Park and Natural Preserve, known for fabul
 ous wildflowers and amazing diversity near Redwood City. Sturdy gloves are 
 recommended; you might also want to bring sunscreen, water, a hat, layered 
 clothing and wear long sleeves/pants. \nWe weed year-round every Friday at 
 9am. Wednesday evening sessions will resume next spring. For more informati
 on including meeting places, visit www.cnps- scv.org/restoration/edgewood-p
 ark, contact Wednesday leader Ken Himes at (650) 591-8560 or Friday leader 
 Paul Heiple at This email address is being protected from spambots. You nee
 d JavaScript enabled to view it.
				document.getElementById('cloak98ed89cf
 bfcec20b26e1ce0042f176b3').innerHTML = '';
				var prefix = '&#109;a' + 'i&
 #108;' + '&#116;o';
				var path = 'hr' + 'ef' + '=';
				var addy98ed89cfb
 fcec20b26e1ce0042f176b3 = 'ph&#101;&#105;pl&#101;' + '&#64;';
				addy98ed8
 9cfbfcec20b26e1ce0042f176b3 = addy98ed89cfbfcec20b26e1ce0042f176b3 + 'gm&#9
 7;&#105;l' + '&#46;' + 'c&#111;m';
				var addy_text98ed89cfbfcec20b26e1ce0
 042f176b3 = 'ph&#101;&#105;pl&#101;' + '&#64;' + 'gm&#97;&#105;l' + '&#46;'
  + 'c&#111;m';document.getElementById('cloak98ed89cfbfcec20b26e1ce0042f176b
 3').innerHTML += '<a ' + path + '\'' + prefix + ':' + addy98ed89cfbfcec20b2
 6e1ce0042f176b3 + '\'>'+addy_text98ed89cfbfcec20b26e1ce0042f176b3+'';
		 or
  (650) 854-7125.\n
X-ALT-DESC;FMTTYPE=text/html:<div class="page" title="Page 7"><div class="layoutArea"><div class="column
 "><p><span style="font-size: 11pt; font-family: TimesNewRoman;">Help restor
 e habitat at Edgewood Park and Natural Preserve, known for fabulous wildflo
 wers and amazing diversity near Redwood City. Sturdy gloves are recommended
 ; you might also want to bring sunscreen, water, a hat, layered clothing an
 d wear long sleeves/pants. </span></p><p>We weed year-round every Friday at
  9am. Wednesday evening sessions will resume next spring. For more informat
 ion including meeting places, visit www.cnps- scv.org/restoration/edgewood-
 park, contact Wednesday leader Ken Himes at (650) 591-8560 or Friday leader
  Paul Heiple at <span id="cloak98ed89cfbfcec20b26e1ce0042f176b3">This email
  address is being protected from spambots. You need JavaScript enabled to v
 iew it.</span><script type='text/javascript'>
				document.getElementById('
 cloak98ed89cfbfcec20b26e1ce0042f176b3').innerHTML = '';
				var prefix = '&
 #109;a' + 'i&#108;' + '&#116;o';
				var path = 'hr' + 'ef' + '=';
				var 
 addy98ed89cfbfcec20b26e1ce0042f176b3 = 'ph&#101;&#105;pl&#101;' + '&#64;';

 				addy98ed89cfbfcec20b26e1ce0042f176b3 = addy98ed89cfbfcec20b26e1ce0042f1
 76b3 + 'gm&#97;&#105;l' + '&#46;' + 'c&#111;m';
				var addy_text98ed89cfbf
 cec20b26e1ce0042f176b3 = 'ph&#101;&#105;pl&#101;' + '&#64;' + 'gm&#97;&#105
 ;l' + '&#46;' + 'c&#111;m';document.getElementById('cloak98ed89cfbfcec20b26
 e1ce0042f176b3').innerHTML += '<a ' + path + '\'' + prefix + ':' + addy98ed
 89cfbfcec20b26e1ce0042f176b3 + '\'>'+addy_text98ed89cfbfcec20b26e1ce0042f17
 6b3+'<\/a>';
		</script> or (650) 854-7125.</p></div></div></div>
CONTACT:Wednesday leader Ken Himes at (650) 591-8560 or Friday leader Paul Heiple at This email address is being protected from spambots. You need JavaScript enabled to view it.
				document.getElementById('cloak45cedb1d34845ce218907360a147b53c').innerHTML = '';
				var prefix = '&#109;a' + 'i&#108;' + '&#116;o';
				var path = 'hr' + 'ef' + '=';
				var addy45cedb1d34845ce218907360a147b53c = 'ph&#101;&#105;pl&#101;' + '&#64;';
				addy45cedb1d34845ce218907360a147b53c = addy45cedb1d34845ce218907360a147b53c + 'gm&#97;&#105;l' + '&#46;' + 'c&#111;m';
				var addy_text45cedb1d34845ce218907360a147b53c = 'ph&#101;&#105;pl&#101;' + '&#64;' + 'gm&#97;&#105;l' + '&#46;' + 'c&#111;m';document.getElementById('cloak45cedb1d34845ce218907360a147b53c').innerHTML += '<a ' + path + '\'' + prefix + ':' + addy45cedb1d34845ce218907360a147b53c + '\'>'+addy_text45cedb1d34845ce218907360a147b53c+'';
		 or (650) 854-7125
DTSTAMP:20260419T233811
DTSTART;TZID=America/Tijuana:20190412T090000
DTEND;TZID=America/Tijuana:20190412T110000
SEQUENCE:0
TRANSP:OPAQUE
END:VEVENT
END:VCALENDAR