BEGIN:VCALENDAR
VERSION:2.0
PRODID:-//jEvents 2.0 for Joomla//EN
CALSCALE:GREGORIAN
METHOD:PUBLISH
BEGIN:VTIMEZONE
TZID:America/Tijuana
BEGIN:STANDARD
DTSTART:20251102T010000
RDATE:20260308T030000
TZOFFSETFROM:-0700
TZOFFSETTO:-0800
TZNAME:America/Tijuana PST
END:STANDARD
BEGIN:STANDARD
DTSTART:20261101T010000
RDATE:20270314T030000
TZOFFSETFROM:-0700
TZOFFSETTO:-0800
TZNAME:America/Tijuana PST
END:STANDARD
BEGIN:STANDARD
DTSTART:20271107T010000
RDATE:20280312T030000
TZOFFSETFROM:-0700
TZOFFSETTO:-0800
TZNAME:America/Tijuana PST
END:STANDARD
BEGIN:DAYLIGHT
DTSTART:20250517T190000
RDATE:20251102T010000
TZOFFSETFROM:-0800
TZOFFSETTO:-0700
TZNAME:America/Tijuana PDT
END:DAYLIGHT
BEGIN:DAYLIGHT
DTSTART:20260308T030000
RDATE:20261101T010000
TZOFFSETFROM:-0800
TZOFFSETTO:-0700
TZNAME:America/Tijuana PDT
END:DAYLIGHT
BEGIN:DAYLIGHT
DTSTART:20270314T030000
RDATE:20271107T010000
TZOFFSETFROM:-0800
TZOFFSETTO:-0700
TZNAME:America/Tijuana PDT
END:DAYLIGHT
END:VTIMEZONE
BEGIN:VEVENT
UID:86dbdbce865ec469d666763ca1aa871e
CATEGORIES:Meetings
CREATED:20260216T192226
SUMMARY:Conservation Committee
LOCATION:Zoom
DESCRIPTION:This committee covers many issues affecting native plants: conservation, ad
 vocacy, legislation, habitat restoration and rare plants. The committee mee
 ts once a month to provide information and support for these conservation i
 ssues and efforts. Members of our committee work on projects throughout the
  Chapter area, coordinating with our state CNPS program staff and other con
 servation organizations.\nPlease join us in our important work! For questio
 ns, comments or concerns, contact Committee Chair Carolyn Dorsch at This em
 ail address is being protected from spambots. You need JavaScript enabled t
 o view it.
				document.getElementById('cloakd656bd8598ffb96b7d1bcab67c6c79
 e0').innerHTML = '';
				var prefix = '&#109;a' + 'i&#108;' + '&#116;o';
		
 		var path = 'hr' + 'ef' + '=';
				var addyd656bd8598ffb96b7d1bcab67c6c79e
 0 = 'cd&#111;rsch' + '&#64;';
				addyd656bd8598ffb96b7d1bcab67c6c79e0 = ad
 dyd656bd8598ffb96b7d1bcab67c6c79e0 + 'cnps-scv' + '&#46;' + '&#111;rg';
			
 	var addy_textd656bd8598ffb96b7d1bcab67c6c79e0 = 'cd&#111;rsch' + '&#64;' +
  'cnps-scv' + '&#46;' + '&#111;rg';document.getElementById('cloakd656bd8598
 ffb96b7d1bcab67c6c79e0').innerHTML += '<a ' + path + '\'' + prefix + ':' + 
 addyd656bd8598ffb96b7d1bcab67c6c79e0 + '\'>'+addy_textd656bd8598ffb96b7d1bc
 ab67c6c79e0+'';
		 or (650) 804-6162, or Conservation Chair Judy Fenerty at
  This email address is being protected from spambots. You need JavaScript e
 nabled to view it.
				document.getElementById('cloakb28cdb42888e251c6e25d0
 47a508f768').innerHTML = '';
				var prefix = '&amp;#109;a' + 'i&amp;#108;'
  + '&amp;#116;o';
				var path = 'hr' + 'ef' + '=';
				var addyb28cdb42888
 e251c6e25d047a508f768 = 'j&amp;#117;dy' + '&amp;#64;';
				addyb28cdb42888e
 251c6e25d047a508f768 = addyb28cdb42888e251c6e25d047a508f768 + 'f&amp;#101;n
 &amp;#101;rty' + '&amp;#46;' + 'c&amp;#111;m';
				var addy_textb28cdb42888
 e251c6e25d047a508f768 = 'j&amp;#117;dy' + '&amp;#64;' + 'f&amp;#101;n&amp;#
 101;rty' + '&amp;#46;' + 'c&amp;#111;m';document.getElementById('cloakb28cd
 b42888e251c6e25d047a508f768').innerHTML += '&lt;a ' + path + '\'' + prefix 
 + ':' + addyb28cdb42888e251c6e25d047a508f768 + '\'&gt;'+addy_textb28cdb4288
 8e251c6e25d047a508f768+'&lt;\/a&gt;';
		. (mailto:judy@fenerty.com.) If you
  are interested in joining our committee meetings on Zoom, please email Car
 olyn for the link.\n
X-ALT-DESC;FMTTYPE=text/html:<div class="page" title="Page 6"><div class="layoutArea"><div class="column
 "><p>This committee covers many issues affecting native plants: conservatio
 n, advocacy, legislation, habitat restoration and rare plants. The committe
 e meets once a month to provide information and support for these conservat
 ion issues and efforts. Members of our committee work on projects throughou
 t the Chapter area, coordinating with our state CNPS program staff and othe
 r conservation organizations.</p><p>Please join us in our important work! F
 or questions, comments or concerns, contact Committee Chair Carolyn Dorsch 
 at <span id="cloakd656bd8598ffb96b7d1bcab67c6c79e0">This email address is b
 eing protected from spambots. You need JavaScript enabled to view it.</span
 ><script type='text/javascript'>
				document.getElementById('cloakd656bd85
 98ffb96b7d1bcab67c6c79e0').innerHTML = '';
				var prefix = '&#109;a' + 'i&
 #108;' + '&#116;o';
				var path = 'hr' + 'ef' + '=';
				var addyd656bd859
 8ffb96b7d1bcab67c6c79e0 = 'cd&#111;rsch' + '&#64;';
				addyd656bd8598ffb96
 b7d1bcab67c6c79e0 = addyd656bd8598ffb96b7d1bcab67c6c79e0 + 'cnps-scv' + '&#
 46;' + '&#111;rg';
				var addy_textd656bd8598ffb96b7d1bcab67c6c79e0 = 'cd&
 #111;rsch' + '&#64;' + 'cnps-scv' + '&#46;' + '&#111;rg';document.getElemen
 tById('cloakd656bd8598ffb96b7d1bcab67c6c79e0').innerHTML += '<a ' + path + 
 '\'' + prefix + ':' + addyd656bd8598ffb96b7d1bcab67c6c79e0 + '\'>'+addy_tex
 td656bd8598ffb96b7d1bcab67c6c79e0+'<\/a>';
		</script> or (650) 804-6162, o
 r Conservation Chair Judy Fenerty at <a href="mailto:judy@fenerty.com."><sp
 an id="cloakb28cdb42888e251c6e25d047a508f768">This email address is being p
 rotected from spambots. You need JavaScript enabled to view it.</span><scri
 pt type='text/javascript'>
				document.getElementById('cloakb28cdb42888e25
 1c6e25d047a508f768').innerHTML = '';
				var prefix = '&#109;a' + 'i&#108;'
  + '&#116;o';
				var path = 'hr' + 'ef' + '=';
				var addyb28cdb42888e251
 c6e25d047a508f768 = 'j&#117;dy' + '&#64;';
				addyb28cdb42888e251c6e25d047
 a508f768 = addyb28cdb42888e251c6e25d047a508f768 + 'f&#101;n&#101;rty' + '&#
 46;' + 'c&#111;m';
				var addy_textb28cdb42888e251c6e25d047a508f768 = 'j&#
 117;dy' + '&#64;' + 'f&#101;n&#101;rty' + '&#46;' + 'c&#111;m';document.get
 ElementById('cloakb28cdb42888e251c6e25d047a508f768').innerHTML += '<a ' + p
 ath + '\'' + prefix + ':' + addyb28cdb42888e251c6e25d047a508f768 + '\'>'+ad
 dy_textb28cdb42888e251c6e25d047a508f768+'<\/a>';
		</script>.</a> If you ar
 e interested in joining our committee meetings on Zoom, please email Caroly
 n for the link.</p></div></div></div>
CONTACT:Committee Chair Carolyn Dorsch at This email address is being protected from spambots. You need JavaScript enabled to view it.
				document.getElementById('cloakf16ec98309639f5f66ca0fb4623af93b').innerHTML = '';
				var prefix = '&#109;a' + 'i&#108;' + '&#116;o';
				var path = 'hr' + 'ef' + '=';
				var addyf16ec98309639f5f66ca0fb4623af93b = 'cd&#111;rsch' + '&#64;';
				addyf16ec98309639f5f66ca0fb4623af93b = addyf16ec98309639f5f66ca0fb4623af93b + 'cnps-scv' + '&#46;' + '&#111;rg';
				var addy_textf16ec98309639f5f66ca0fb4623af93b = 'cd&#111;rsch' + '&#64;' + 'cnps-scv' + '&#46;' + '&#111;rg';document.getElementById('cloakf16ec98309639f5f66ca0fb4623af93b').innerHTML += '<a ' + path + '\'' + prefix + ':' + addyf16ec98309639f5f66ca0fb4623af93b + '\'>'+addy_textf16ec98309639f5f66ca0fb4623af93b+'';
		 or (650) 804-6162, or Judy Fenerty at This email address is being protected from spambots. You need JavaScript enabled to view it.
				document.getElementById('cloak6cbc554f4b1ad10a7eaddea589918386').innerHTML = '';
				var prefix = '&#109;a' + 'i&#108;' + '&#116;o';
				var path = 'hr' + 'ef' + '=';
				var addy6cbc554f4b1ad10a7eaddea589918386 = 'j&#117;dy' + '&#64;';
				addy6cbc554f4b1ad10a7eaddea589918386 = addy6cbc554f4b1ad10a7eaddea589918386 + 'f&#101;n&#101;rty' + '&#46;' + 'c&#111;m';
				var addy_text6cbc554f4b1ad10a7eaddea589918386 = 'j&#117;dy' + '&#64;' + 'f&#101;n&#101;rty' + '&#46;' + 'c&#111;m';document.getElementById('cloak6cbc554f4b1ad10a7eaddea589918386').innerHTML += '<a ' + path + '\'' + prefix + ':' + addy6cbc554f4b1ad10a7eaddea589918386 + '\'>'+addy_text6cbc554f4b1ad10a7eaddea589918386+'';
		
DTSTAMP:20260419T210644
DTSTART;TZID=America/Tijuana:20260518T190000
DTEND;TZID=America/Tijuana:20260518T203000
SEQUENCE:0
TRANSP:OPAQUE
END:VEVENT
END:VCALENDAR