BEGIN:VCALENDAR
VERSION:2.0
PRODID:-//jEvents 2.0 for Joomla//EN
CALSCALE:GREGORIAN
METHOD:PUBLISH
BEGIN:VTIMEZONE
TZID:America/Tijuana
BEGIN:STANDARD
DTSTART:20240131T090000
RDATE:20240310T030000
TZOFFSETFROM:-0700
TZOFFSETTO:-0800
TZNAME:America/Tijuana PST
END:STANDARD
BEGIN:STANDARD
DTSTART:20241103T010000
RDATE:20250309T030000
TZOFFSETFROM:-0700
TZOFFSETTO:-0800
TZNAME:America/Tijuana PST
END:STANDARD
BEGIN:STANDARD
DTSTART:20251102T010000
RDATE:20260308T030000
TZOFFSETFROM:-0700
TZOFFSETTO:-0800
TZNAME:America/Tijuana PST
END:STANDARD
BEGIN:STANDARD
DTSTART:20261101T010000
RDATE:20270314T030000
TZOFFSETFROM:-0700
TZOFFSETTO:-0800
TZNAME:America/Tijuana PST
END:STANDARD
BEGIN:STANDARD
DTSTART:20271107T010000
RDATE:20280312T030000
TZOFFSETFROM:-0700
TZOFFSETTO:-0800
TZNAME:America/Tijuana PST
END:STANDARD
BEGIN:DAYLIGHT
DTSTART:20240310T030000
RDATE:20241103T010000
TZOFFSETFROM:-0800
TZOFFSETTO:-0700
TZNAME:America/Tijuana PDT
END:DAYLIGHT
BEGIN:DAYLIGHT
DTSTART:20250309T030000
RDATE:20251102T010000
TZOFFSETFROM:-0800
TZOFFSETTO:-0700
TZNAME:America/Tijuana PDT
END:DAYLIGHT
BEGIN:DAYLIGHT
DTSTART:20260308T030000
RDATE:20261101T010000
TZOFFSETFROM:-0800
TZOFFSETTO:-0700
TZNAME:America/Tijuana PDT
END:DAYLIGHT
BEGIN:DAYLIGHT
DTSTART:20270314T030000
RDATE:20271107T010000
TZOFFSETFROM:-0800
TZOFFSETTO:-0700
TZNAME:America/Tijuana PDT
END:DAYLIGHT
END:VTIMEZONE
BEGIN:VEVENT
UID:c8993c9e8d1014d77665bde203cf5665
CATEGORIES:Habitat
CREATED:20241029T094543
SUMMARY:Edgewood Restoration
LOCATION:Edgewood Park and Natural Preserve
DESCRIPTION:Help restore habitat at Edgewood Park and Natural Preserve, known for fabul
 ous wildflowers and amazing diversity near Redwood City. Weeders see far mo
 re than weeds: we get to be up close to the native plants, some of which ar
 e seen only by weeders.\nSturdy gloves are recommended; you might also want
  to bring sunscreen, water, a hat, layered clothing and wear long sleeves/p
 ants.\nWe weed year-round every Friday at 9:00am. Our 5:30pm Wednesday sess
 ions will resume in March of 2025, after Daylight Savings Time resumes. For
  an overview, please visit www.cnps-scv.org/restoration/edgewood-park (http
 s://www.cnps-scv.org/restoration/edgewood-park).\nTo participate, join the 
 email list and sign the electronic volunteer agreement, by sending an email
  to weed- This email address is being protected from spambots. You need Jav
 aScript enabled to view it.
				document.getElementById('cloak363d1d0b10286
 ec260f4130e6772d582').innerHTML = '';
				var prefix = '&amp;#109;a' + 'i&a
 mp;#108;' + '&amp;#116;o';
				var path = 'hr' + 'ef' + '=';
				var addy36
 3d1d0b10286ec260f4130e6772d582 = 'w&amp;#97;rr&amp;#105;&amp;#111;rs-c&amp;
 #111;&amp;#111;rd' + '&amp;#64;';
				addy363d1d0b10286ec260f4130e6772d582 
 = addy363d1d0b10286ec260f4130e6772d582 + 'fr&amp;#105;&amp;#101;nds&amp;#11
 1;f&amp;#101;dg&amp;#101;w&amp;#111;&amp;#111;d' + '&amp;#46;' + '&amp;#111
 ;rg';
				var addy_text363d1d0b10286ec260f4130e6772d582 = 'w&amp;#97;rr&amp
 ;#105;&amp;#111;rs-c&amp;#111;&amp;#111;rd' + '&amp;#64;' + 'fr&amp;#105;&a
 mp;#101;nds&amp;#111;f&amp;#101;dg&amp;#101;w&amp;#111;&amp;#111;d' + '&amp
 ;#46;' + '&amp;#111;rg';document.getElementById('cloak363d1d0b10286ec260f41
 30e6772d582').innerHTML += '&lt;a ' + path + '\'' + prefix + ':' + addy363d
 1d0b10286ec260f4130e6772d582 + '\'&gt;'+addy_text363d1d0b10286ec260f4130e67
 72d582+'&lt;\/a&gt;';
		. (mailto:warriors-coord@friendsofedgewood.org.)\nP
 lease check the email list for each weeding session’s meeting place. For qu
 estions about Friday sessions, contact Paul Heiple at This email address is
  being protected from spambots. You need JavaScript enabled to view it.
			
 	document.getElementById('cloake5ba0162e604eadb04050a2117d539d8').innerHTML
  = '';
				var prefix = '&#109;a' + 'i&#108;' + '&#116;o';
				var path = '
 hr' + 'ef' + '=';
				var addye5ba0162e604eadb04050a2117d539d8 = 'ph&#101;&
 #105;pl&#101;' + '&#64;';
				addye5ba0162e604eadb04050a2117d539d8 = addye5
 ba0162e604eadb04050a2117d539d8 + 'gm&#97;&#105;l' + '&#46;' + 'c&#111;m';
	
 			var addy_texte5ba0162e604eadb04050a2117d539d8 = 'ph&#101;&#105;pl&#101;'
  + '&#64;' + 'gm&#97;&#105;l' + '&#46;' + 'c&#111;m';document.getElementByI
 d('cloake5ba0162e604eadb04050a2117d539d8').innerHTML += '<a ' + path + '\''
  + prefix + ':' + addye5ba0162e604eadb04050a2117d539d8 + '\'>'+addy_texte5b
 a0162e604eadb04050a2117d539d8+'';
		 or (650) 854-7125.\n
X-ALT-DESC;FMTTYPE=text/html:<div class="page" title="Page 6"><div class="layoutArea"><div class="column
 "><p>Help restore habitat at Edgewood Park and Natural Preserve, known for 
 fabulous wildflowers and amazing diversity near Redwood City. Weeders see f
 ar more than weeds: we get to be up close to the native plants, some of whi
 ch are seen <strong>only</strong> by weeders.</p><div class="page" title="P
 age 7"><div class="layoutArea"><div class="column"><p>Sturdy gloves are rec
 ommended; you might also want to bring sunscreen, water, a hat, layered clo
 thing and wear long sleeves/pants.</p><p>We weed year-round every <strong>F
 riday at 9:00am</strong>. Our <strong>5:30pm Wednesday sessions</strong> wi
 ll resume in March of 2025, after Daylight Savings Time resumes. For an ove
 rview, please visit <a href="https://www.cnps-scv.org/restoration/edgewood-
 park">www.cnps-scv.org/restoration/edgewood-park</a>.</p><p>To participate,
  join the email list and sign the electronic volunteer agreement, by sendin
 g an email to weed- <a href="mailto:warriors-coord@friendsofedgewood.org.">
 <span id="cloak363d1d0b10286ec260f4130e6772d582">This email address is bein
 g protected from spambots. You need JavaScript enabled to view it.</span><s
 cript type='text/javascript'>
				document.getElementById('cloak363d1d0b102
 86ec260f4130e6772d582').innerHTML = '';
				var prefix = '&#109;a' + 'i&#10
 8;' + '&#116;o';
				var path = 'hr' + 'ef' + '=';
				var addy363d1d0b1028
 6ec260f4130e6772d582 = 'w&#97;rr&#105;&#111;rs-c&#111;&#111;rd' + '&#64;';

 				addy363d1d0b10286ec260f4130e6772d582 = addy363d1d0b10286ec260f4130e6772
 d582 + 'fr&#105;&#101;nds&#111;f&#101;dg&#101;w&#111;&#111;d' + '&#46;' + '
 &#111;rg';
				var addy_text363d1d0b10286ec260f4130e6772d582 = 'w&#97;rr&#1
 05;&#111;rs-c&#111;&#111;rd' + '&#64;' + 'fr&#105;&#101;nds&#111;f&#101;dg&
 #101;w&#111;&#111;d' + '&#46;' + '&#111;rg';document.getElementById('cloak3
 63d1d0b10286ec260f4130e6772d582').innerHTML += '<a ' + path + '\'' + prefix
  + ':' + addy363d1d0b10286ec260f4130e6772d582 + '\'>'+addy_text363d1d0b1028
 6ec260f4130e6772d582+'<\/a>';
		</script>.</a></p><p>Please check the email
  list for each weeding session’s meeting place. For questions about Friday 
 sessions, contact Paul Heiple at <span id="cloake5ba0162e604eadb04050a2117d
 539d8">This email address is being protected from spambots. You need JavaSc
 ript enabled to view it.</span><script type='text/javascript'>
				document
 .getElementById('cloake5ba0162e604eadb04050a2117d539d8').innerHTML = '';
		
 		var prefix = '&#109;a' + 'i&#108;' + '&#116;o';
				var path = 'hr' + 'ef
 ' + '=';
				var addye5ba0162e604eadb04050a2117d539d8 = 'ph&#101;&#105;pl&#
 101;' + '&#64;';
				addye5ba0162e604eadb04050a2117d539d8 = addye5ba0162e60
 4eadb04050a2117d539d8 + 'gm&#97;&#105;l' + '&#46;' + 'c&#111;m';
				var ad
 dy_texte5ba0162e604eadb04050a2117d539d8 = 'ph&#101;&#105;pl&#101;' + '&#64;
 ' + 'gm&#97;&#105;l' + '&#46;' + 'c&#111;m';document.getElementById('cloake
 5ba0162e604eadb04050a2117d539d8').innerHTML += '<a ' + path + '\'' + prefix
  + ':' + addye5ba0162e604eadb04050a2117d539d8 + '\'>'+addy_texte5ba0162e604
 eadb04050a2117d539d8+'<\/a>';
		</script> or (650) 854-7125.</p></div></div
 ></div></div></div></div>
CONTACT:Paul Heiple at This email address is being protected from spambots. You need JavaScript enabled to view it.
				document.getElementById('cloak73d7be6d1b645cfd23acea57c00ccae6').innerHTML = '';
				var prefix = '&#109;a' + 'i&#108;' + '&#116;o';
				var path = 'hr' + 'ef' + '=';
				var addy73d7be6d1b645cfd23acea57c00ccae6 = 'ph&#101;&#105;pl&#101;' + '&#64;';
				addy73d7be6d1b645cfd23acea57c00ccae6 = addy73d7be6d1b645cfd23acea57c00ccae6 + 'gm&#97;&#105;l' + '&#46;' + 'c&#111;m';
				var addy_text73d7be6d1b645cfd23acea57c00ccae6 = 'ph&#101;&#105;pl&#101;' + '&#64;' + 'gm&#97;&#105;l' + '&#46;' + 'c&#111;m';document.getElementById('cloak73d7be6d1b645cfd23acea57c00ccae6').innerHTML += '<a ' + path + '\'' + prefix + ':' + addy73d7be6d1b645cfd23acea57c00ccae6 + '\'>'+addy_text73d7be6d1b645cfd23acea57c00ccae6+'';
		 or (650) 854-7125
DTSTAMP:20260419T185220
DTSTART;TZID=America/Tijuana:20250131T090000
SEQUENCE:0
TRANSP:OPAQUE
END:VEVENT
END:VCALENDAR