BEGIN:VCALENDAR
VERSION:2.0
PRODID:-//jEvents 2.0 for Joomla//EN
CALSCALE:GREGORIAN
METHOD:PUBLISH
BEGIN:VTIMEZONE
TZID:America/Tijuana
BEGIN:STANDARD
DTSTART:20240117T090000
RDATE:20240310T030000
TZOFFSETFROM:-0700
TZOFFSETTO:-0800
TZNAME:America/Tijuana PST
END:STANDARD
BEGIN:STANDARD
DTSTART:20241103T010000
RDATE:20250309T030000
TZOFFSETFROM:-0700
TZOFFSETTO:-0800
TZNAME:America/Tijuana PST
END:STANDARD
BEGIN:STANDARD
DTSTART:20251102T010000
RDATE:20260308T030000
TZOFFSETFROM:-0700
TZOFFSETTO:-0800
TZNAME:America/Tijuana PST
END:STANDARD
BEGIN:STANDARD
DTSTART:20261101T010000
RDATE:20270314T030000
TZOFFSETFROM:-0700
TZOFFSETTO:-0800
TZNAME:America/Tijuana PST
END:STANDARD
BEGIN:STANDARD
DTSTART:20271107T010000
RDATE:20280312T030000
TZOFFSETFROM:-0700
TZOFFSETTO:-0800
TZNAME:America/Tijuana PST
END:STANDARD
BEGIN:DAYLIGHT
DTSTART:20240310T030000
RDATE:20241103T010000
TZOFFSETFROM:-0800
TZOFFSETTO:-0700
TZNAME:America/Tijuana PDT
END:DAYLIGHT
BEGIN:DAYLIGHT
DTSTART:20250309T030000
RDATE:20251102T010000
TZOFFSETFROM:-0800
TZOFFSETTO:-0700
TZNAME:America/Tijuana PDT
END:DAYLIGHT
BEGIN:DAYLIGHT
DTSTART:20260308T030000
RDATE:20261101T010000
TZOFFSETFROM:-0800
TZOFFSETTO:-0700
TZNAME:America/Tijuana PDT
END:DAYLIGHT
BEGIN:DAYLIGHT
DTSTART:20270314T030000
RDATE:20271107T010000
TZOFFSETFROM:-0800
TZOFFSETTO:-0700
TZNAME:America/Tijuana PDT
END:DAYLIGHT
END:VTIMEZONE
BEGIN:VEVENT
UID:c8993c9e8d1014d77665bde203cf5665
CATEGORIES:Habitat
CREATED:20241029T094543
SUMMARY:Edgewood Restoration
LOCATION:Edgewood Park and Natural Preserve
DESCRIPTION:Help restore habitat at Edgewood Park and Natural Preserve, known for fabul
 ous wildflowers and amazing diversity near Redwood City. Weeders see far mo
 re than weeds: we get to be up close to the native plants, some of which ar
 e seen only by weeders.\nSturdy gloves are recommended; you might also want
  to bring sunscreen, water, a hat, layered clothing and wear long sleeves/p
 ants.\nWe weed year-round every Friday at 9:00am. Our 5:30pm Wednesday sess
 ions will resume in March of 2025, after Daylight Savings Time resumes. For
  an overview, please visit www.cnps-scv.org/restoration/edgewood-park (http
 s://www.cnps-scv.org/restoration/edgewood-park).\nTo participate, join the 
 email list and sign the electronic volunteer agreement, by sending an email
  to weed- This email address is being protected from spambots. You need Jav
 aScript enabled to view it.
				document.getElementById('cloak08411dc60f9c0
 6a94e19edf47ca0f3a2').innerHTML = '';
				var prefix = '&amp;#109;a' + 'i&a
 mp;#108;' + '&amp;#116;o';
				var path = 'hr' + 'ef' + '=';
				var addy08
 411dc60f9c06a94e19edf47ca0f3a2 = 'w&amp;#97;rr&amp;#105;&amp;#111;rs-c&amp;
 #111;&amp;#111;rd' + '&amp;#64;';
				addy08411dc60f9c06a94e19edf47ca0f3a2 
 = addy08411dc60f9c06a94e19edf47ca0f3a2 + 'fr&amp;#105;&amp;#101;nds&amp;#11
 1;f&amp;#101;dg&amp;#101;w&amp;#111;&amp;#111;d' + '&amp;#46;' + '&amp;#111
 ;rg';
				var addy_text08411dc60f9c06a94e19edf47ca0f3a2 = 'w&amp;#97;rr&amp
 ;#105;&amp;#111;rs-c&amp;#111;&amp;#111;rd' + '&amp;#64;' + 'fr&amp;#105;&a
 mp;#101;nds&amp;#111;f&amp;#101;dg&amp;#101;w&amp;#111;&amp;#111;d' + '&amp
 ;#46;' + '&amp;#111;rg';document.getElementById('cloak08411dc60f9c06a94e19e
 df47ca0f3a2').innerHTML += '&lt;a ' + path + '\'' + prefix + ':' + addy0841
 1dc60f9c06a94e19edf47ca0f3a2 + '\'&gt;'+addy_text08411dc60f9c06a94e19edf47c
 a0f3a2+'&lt;\/a&gt;';
		. (mailto:warriors-coord@friendsofedgewood.org.)\nP
 lease check the email list for each weeding session’s meeting place. For qu
 estions about Friday sessions, contact Paul Heiple at This email address is
  being protected from spambots. You need JavaScript enabled to view it.
			
 	document.getElementById('cloakeda748e21d41773ca5ffcf1a1f1b6d72').innerHTML
  = '';
				var prefix = '&#109;a' + 'i&#108;' + '&#116;o';
				var path = '
 hr' + 'ef' + '=';
				var addyeda748e21d41773ca5ffcf1a1f1b6d72 = 'ph&#101;&
 #105;pl&#101;' + '&#64;';
				addyeda748e21d41773ca5ffcf1a1f1b6d72 = addyed
 a748e21d41773ca5ffcf1a1f1b6d72 + 'gm&#97;&#105;l' + '&#46;' + 'c&#111;m';
	
 			var addy_texteda748e21d41773ca5ffcf1a1f1b6d72 = 'ph&#101;&#105;pl&#101;'
  + '&#64;' + 'gm&#97;&#105;l' + '&#46;' + 'c&#111;m';document.getElementByI
 d('cloakeda748e21d41773ca5ffcf1a1f1b6d72').innerHTML += '<a ' + path + '\''
  + prefix + ':' + addyeda748e21d41773ca5ffcf1a1f1b6d72 + '\'>'+addy_texteda
 748e21d41773ca5ffcf1a1f1b6d72+'';
		 or (650) 854-7125.\n
X-ALT-DESC;FMTTYPE=text/html:<div class="page" title="Page 6"><div class="layoutArea"><div class="column
 "><p>Help restore habitat at Edgewood Park and Natural Preserve, known for 
 fabulous wildflowers and amazing diversity near Redwood City. Weeders see f
 ar more than weeds: we get to be up close to the native plants, some of whi
 ch are seen <strong>only</strong> by weeders.</p><div class="page" title="P
 age 7"><div class="layoutArea"><div class="column"><p>Sturdy gloves are rec
 ommended; you might also want to bring sunscreen, water, a hat, layered clo
 thing and wear long sleeves/pants.</p><p>We weed year-round every <strong>F
 riday at 9:00am</strong>. Our <strong>5:30pm Wednesday sessions</strong> wi
 ll resume in March of 2025, after Daylight Savings Time resumes. For an ove
 rview, please visit <a href="https://www.cnps-scv.org/restoration/edgewood-
 park">www.cnps-scv.org/restoration/edgewood-park</a>.</p><p>To participate,
  join the email list and sign the electronic volunteer agreement, by sendin
 g an email to weed- <a href="mailto:warriors-coord@friendsofedgewood.org.">
 <span id="cloak08411dc60f9c06a94e19edf47ca0f3a2">This email address is bein
 g protected from spambots. You need JavaScript enabled to view it.</span><s
 cript type='text/javascript'>
				document.getElementById('cloak08411dc60f9
 c06a94e19edf47ca0f3a2').innerHTML = '';
				var prefix = '&#109;a' + 'i&#10
 8;' + '&#116;o';
				var path = 'hr' + 'ef' + '=';
				var addy08411dc60f9c
 06a94e19edf47ca0f3a2 = 'w&#97;rr&#105;&#111;rs-c&#111;&#111;rd' + '&#64;';

 				addy08411dc60f9c06a94e19edf47ca0f3a2 = addy08411dc60f9c06a94e19edf47ca0
 f3a2 + 'fr&#105;&#101;nds&#111;f&#101;dg&#101;w&#111;&#111;d' + '&#46;' + '
 &#111;rg';
				var addy_text08411dc60f9c06a94e19edf47ca0f3a2 = 'w&#97;rr&#1
 05;&#111;rs-c&#111;&#111;rd' + '&#64;' + 'fr&#105;&#101;nds&#111;f&#101;dg&
 #101;w&#111;&#111;d' + '&#46;' + '&#111;rg';document.getElementById('cloak0
 8411dc60f9c06a94e19edf47ca0f3a2').innerHTML += '<a ' + path + '\'' + prefix
  + ':' + addy08411dc60f9c06a94e19edf47ca0f3a2 + '\'>'+addy_text08411dc60f9c
 06a94e19edf47ca0f3a2+'<\/a>';
		</script>.</a></p><p>Please check the email
  list for each weeding session’s meeting place. For questions about Friday 
 sessions, contact Paul Heiple at <span id="cloakeda748e21d41773ca5ffcf1a1f1
 b6d72">This email address is being protected from spambots. You need JavaSc
 ript enabled to view it.</span><script type='text/javascript'>
				document
 .getElementById('cloakeda748e21d41773ca5ffcf1a1f1b6d72').innerHTML = '';
		
 		var prefix = '&#109;a' + 'i&#108;' + '&#116;o';
				var path = 'hr' + 'ef
 ' + '=';
				var addyeda748e21d41773ca5ffcf1a1f1b6d72 = 'ph&#101;&#105;pl&#
 101;' + '&#64;';
				addyeda748e21d41773ca5ffcf1a1f1b6d72 = addyeda748e21d4
 1773ca5ffcf1a1f1b6d72 + 'gm&#97;&#105;l' + '&#46;' + 'c&#111;m';
				var ad
 dy_texteda748e21d41773ca5ffcf1a1f1b6d72 = 'ph&#101;&#105;pl&#101;' + '&#64;
 ' + 'gm&#97;&#105;l' + '&#46;' + 'c&#111;m';document.getElementById('cloake
 da748e21d41773ca5ffcf1a1f1b6d72').innerHTML += '<a ' + path + '\'' + prefix
  + ':' + addyeda748e21d41773ca5ffcf1a1f1b6d72 + '\'>'+addy_texteda748e21d41
 773ca5ffcf1a1f1b6d72+'<\/a>';
		</script> or (650) 854-7125.</p></div></div
 ></div></div></div></div>
CONTACT:Paul Heiple at This email address is being protected from spambots. You need JavaScript enabled to view it.
				document.getElementById('cloak1f529eff01fd222e1eb1fce940e3120e').innerHTML = '';
				var prefix = '&#109;a' + 'i&#108;' + '&#116;o';
				var path = 'hr' + 'ef' + '=';
				var addy1f529eff01fd222e1eb1fce940e3120e = 'ph&#101;&#105;pl&#101;' + '&#64;';
				addy1f529eff01fd222e1eb1fce940e3120e = addy1f529eff01fd222e1eb1fce940e3120e + 'gm&#97;&#105;l' + '&#46;' + 'c&#111;m';
				var addy_text1f529eff01fd222e1eb1fce940e3120e = 'ph&#101;&#105;pl&#101;' + '&#64;' + 'gm&#97;&#105;l' + '&#46;' + 'c&#111;m';document.getElementById('cloak1f529eff01fd222e1eb1fce940e3120e').innerHTML += '<a ' + path + '\'' + prefix + ':' + addy1f529eff01fd222e1eb1fce940e3120e + '\'>'+addy_text1f529eff01fd222e1eb1fce940e3120e+'';
		 or (650) 854-7125
DTSTAMP:20260424T230805
DTSTART;TZID=America/Tijuana:20250117T090000
SEQUENCE:0
TRANSP:OPAQUE
END:VEVENT
END:VCALENDAR