BEGIN:VCALENDAR
VERSION:2.0
PRODID:-//jEvents 2.0 for Joomla//EN
CALSCALE:GREGORIAN
METHOD:PUBLISH
BEGIN:VTIMEZONE
TZID:America/Tijuana
BEGIN:STANDARD
DTSTART:20160114T100000
RDATE:20160313T030000
TZOFFSETFROM:-0700
TZOFFSETTO:-0800
TZNAME:America/Tijuana PST
END:STANDARD
BEGIN:STANDARD
DTSTART:20161106T010000
RDATE:20170312T030000
TZOFFSETFROM:-0700
TZOFFSETTO:-0800
TZNAME:America/Tijuana PST
END:STANDARD
BEGIN:STANDARD
DTSTART:20171105T010000
RDATE:20180311T030000
TZOFFSETFROM:-0700
TZOFFSETTO:-0800
TZNAME:America/Tijuana PST
END:STANDARD
BEGIN:STANDARD
DTSTART:20181104T010000
RDATE:20190310T030000
TZOFFSETFROM:-0700
TZOFFSETTO:-0800
TZNAME:America/Tijuana PST
END:STANDARD
BEGIN:STANDARD
DTSTART:20191103T010000
RDATE:20200308T030000
TZOFFSETFROM:-0700
TZOFFSETTO:-0800
TZNAME:America/Tijuana PST
END:STANDARD
BEGIN:STANDARD
DTSTART:20201101T010000
RDATE:20210314T030000
TZOFFSETFROM:-0700
TZOFFSETTO:-0800
TZNAME:America/Tijuana PST
END:STANDARD
BEGIN:STANDARD
DTSTART:20211107T010000
RDATE:20220313T030000
TZOFFSETFROM:-0700
TZOFFSETTO:-0800
TZNAME:America/Tijuana PST
END:STANDARD
BEGIN:STANDARD
DTSTART:20221106T010000
RDATE:20230312T030000
TZOFFSETFROM:-0700
TZOFFSETTO:-0800
TZNAME:America/Tijuana PST
END:STANDARD
BEGIN:STANDARD
DTSTART:20231105T010000
RDATE:20240310T030000
TZOFFSETFROM:-0700
TZOFFSETTO:-0800
TZNAME:America/Tijuana PST
END:STANDARD
BEGIN:STANDARD
DTSTART:20241103T010000
RDATE:20250309T030000
TZOFFSETFROM:-0700
TZOFFSETTO:-0800
TZNAME:America/Tijuana PST
END:STANDARD
BEGIN:STANDARD
DTSTART:20251102T010000
RDATE:20260308T030000
TZOFFSETFROM:-0700
TZOFFSETTO:-0800
TZNAME:America/Tijuana PST
END:STANDARD
BEGIN:STANDARD
DTSTART:20261101T010000
RDATE:20270314T030000
TZOFFSETFROM:-0700
TZOFFSETTO:-0800
TZNAME:America/Tijuana PST
END:STANDARD
BEGIN:STANDARD
DTSTART:20271107T010000
RDATE:20280312T030000
TZOFFSETFROM:-0700
TZOFFSETTO:-0800
TZNAME:America/Tijuana PST
END:STANDARD
BEGIN:DAYLIGHT
DTSTART:20160313T030000
RDATE:20161106T010000
TZOFFSETFROM:-0800
TZOFFSETTO:-0700
TZNAME:America/Tijuana PDT
END:DAYLIGHT
BEGIN:DAYLIGHT
DTSTART:20170312T030000
RDATE:20171105T010000
TZOFFSETFROM:-0800
TZOFFSETTO:-0700
TZNAME:America/Tijuana PDT
END:DAYLIGHT
BEGIN:DAYLIGHT
DTSTART:20180311T030000
RDATE:20181104T010000
TZOFFSETFROM:-0800
TZOFFSETTO:-0700
TZNAME:America/Tijuana PDT
END:DAYLIGHT
BEGIN:DAYLIGHT
DTSTART:20190310T030000
RDATE:20191103T010000
TZOFFSETFROM:-0800
TZOFFSETTO:-0700
TZNAME:America/Tijuana PDT
END:DAYLIGHT
BEGIN:DAYLIGHT
DTSTART:20200308T030000
RDATE:20201101T010000
TZOFFSETFROM:-0800
TZOFFSETTO:-0700
TZNAME:America/Tijuana PDT
END:DAYLIGHT
BEGIN:DAYLIGHT
DTSTART:20210314T030000
RDATE:20211107T010000
TZOFFSETFROM:-0800
TZOFFSETTO:-0700
TZNAME:America/Tijuana PDT
END:DAYLIGHT
BEGIN:DAYLIGHT
DTSTART:20220313T030000
RDATE:20221106T010000
TZOFFSETFROM:-0800
TZOFFSETTO:-0700
TZNAME:America/Tijuana PDT
END:DAYLIGHT
BEGIN:DAYLIGHT
DTSTART:20230312T030000
RDATE:20231105T010000
TZOFFSETFROM:-0800
TZOFFSETTO:-0700
TZNAME:America/Tijuana PDT
END:DAYLIGHT
BEGIN:DAYLIGHT
DTSTART:20240310T030000
RDATE:20241103T010000
TZOFFSETFROM:-0800
TZOFFSETTO:-0700
TZNAME:America/Tijuana PDT
END:DAYLIGHT
BEGIN:DAYLIGHT
DTSTART:20250309T030000
RDATE:20251102T010000
TZOFFSETFROM:-0800
TZOFFSETTO:-0700
TZNAME:America/Tijuana PDT
END:DAYLIGHT
BEGIN:DAYLIGHT
DTSTART:20260308T030000
RDATE:20261101T010000
TZOFFSETFROM:-0800
TZOFFSETTO:-0700
TZNAME:America/Tijuana PDT
END:DAYLIGHT
BEGIN:DAYLIGHT
DTSTART:20270314T030000
RDATE:20271107T010000
TZOFFSETFROM:-0800
TZOFFSETTO:-0700
TZNAME:America/Tijuana PDT
END:DAYLIGHT
END:VTIMEZONE
BEGIN:VEVENT
UID:ad60bca7e6960a6604832e4d055f9771
CATEGORIES:Field Trips
CREATED:20161213T100640
SUMMARY:Dirca Walk
LOCATION:Windy Hill Open Space Preserve (Portola Valley)
DESCRIPTION:Join Don Thomas for a four mile walk to see the one of the more accessible 
 populations of the endemic Western leatherwood (Dirca occidentalis). We may
  also see some early emerging woodland plants in flower. There will be some
  moderate but slow-paced hill climbing, with a stop for lunch. We will take
  the Hamm’s Gulch trail to see the Dirca near the bench. Along the way, we 
 will walk through a variety of plant communities, including meadows, oak wo
 odland, mixed evergreen forest, redwood forest and riparian woodland. \nPle
 ase bring lunch, snacks and liquid. Heavy rain cancels. \n
X-ALT-DESC;FMTTYPE=text/html:<div class="page" title="Page 6"><div class="layoutArea"><div class="column
 "><p><span style="font-size: 11pt; font-family: TimesNewRoman;">Join Don Th
 omas for a four mile walk to see the one of the more accessible populations
  of the endemic Western leatherwood (</span><span style="font-size: 11pt; f
 ont-family: 'TimesNewRoman,Italic';">Dirca occidentalis</span><span style="
 font-size: 11pt; font-family: TimesNewRoman;">). We may also see some early
  emerging woodland plants in flower. There will be some moderate but slow-p
 aced hill climbing, with a stop for lunch. We will take the Hamm&rsquo;s Gu
 lch trail to see the Dirca near the bench. Along the way, we will walk thro
 ugh a variety of plant communities, including meadows, oak woodland, mixed 
 evergreen forest, redwood forest and riparian woodland. </span></p><div cla
 ss="page" title="Page 6"><div class="layoutArea"><div class="column"><p><sp
 an style="font-size: 11pt; font-family: TimesNewRoman;">Please bring lunch,
  snacks and liquid. Heavy rain cancels. </span></p></div></div></div></div>
 </div></div>
CONTACT:Don Thomas at This email address is being protected from spambots. You need JavaScript enabled to view it.
				document.getElementById('cloak5343ea9aa25fccf2f76e126f5ada4704').innerHTML = '';
				var prefix = '&#109;a' + 'i&#108;' + '&#116;o';
				var path = 'hr' + 'ef' + '=';
				var addy5343ea9aa25fccf2f76e126f5ada4704 = 'd&#111;n_&#101;_th&#111;m&#97;s' + '&#64;';
				addy5343ea9aa25fccf2f76e126f5ada4704 = addy5343ea9aa25fccf2f76e126f5ada4704 + 'y&#97;h&#111;&#111;' + '&#46;' + 'c&#111;m';
				var addy_text5343ea9aa25fccf2f76e126f5ada4704 = 'd&#111;n_&#101;_th&#111;m&#97;s' + '&#64;' + 'y&#97;h&#111;&#111;' + '&#46;' + 'c&#111;m';document.getElementById('cloak5343ea9aa25fccf2f76e126f5ada4704').innerHTML += '<a ' + path + '\'' + prefix + ':' + addy5343ea9aa25fccf2f76e126f5ada4704 + '\'>'+addy_text5343ea9aa25fccf2f76e126f5ada4704+'';
		 or (408) 828-4044
X-EXTRAINFO:We will meet at the Portola Valley Town Center, 765 Portola Road. Portola V
 alley. 
DTSTAMP:20260422T155306
DTSTART;TZID=America/Tijuana:20170114T100000
DTEND;TZID=America/Tijuana:20170114T150000
SEQUENCE:0
TRANSP:OPAQUE
END:VEVENT
END:VCALENDAR