BEGIN:VCALENDAR
VERSION:2.0
PRODID:-//jEvents 2.0 for Joomla//EN
CALSCALE:GREGORIAN
METHOD:PUBLISH
BEGIN:VTIMEZONE
TZID:America/Tijuana
BEGIN:STANDARD
DTSTART:20221106T010000
RDATE:20230312T030000
TZOFFSETFROM:-0700
TZOFFSETTO:-0800
TZNAME:America/Tijuana PST
END:STANDARD
BEGIN:STANDARD
DTSTART:20231105T010000
RDATE:20240310T030000
TZOFFSETFROM:-0700
TZOFFSETTO:-0800
TZNAME:America/Tijuana PST
END:STANDARD
BEGIN:STANDARD
DTSTART:20241103T010000
RDATE:20250309T030000
TZOFFSETFROM:-0700
TZOFFSETTO:-0800
TZNAME:America/Tijuana PST
END:STANDARD
BEGIN:STANDARD
DTSTART:20251102T010000
RDATE:20260308T030000
TZOFFSETFROM:-0700
TZOFFSETTO:-0800
TZNAME:America/Tijuana PST
END:STANDARD
BEGIN:STANDARD
DTSTART:20261101T010000
RDATE:20270314T030000
TZOFFSETFROM:-0700
TZOFFSETTO:-0800
TZNAME:America/Tijuana PST
END:STANDARD
BEGIN:STANDARD
DTSTART:20271107T010000
RDATE:20280312T030000
TZOFFSETFROM:-0700
TZOFFSETTO:-0800
TZNAME:America/Tijuana PST
END:STANDARD
BEGIN:DAYLIGHT
DTSTART:20220319T190000
RDATE:20221106T010000
TZOFFSETFROM:-0800
TZOFFSETTO:-0700
TZNAME:America/Tijuana PDT
END:DAYLIGHT
BEGIN:DAYLIGHT
DTSTART:20230312T030000
RDATE:20231105T010000
TZOFFSETFROM:-0800
TZOFFSETTO:-0700
TZNAME:America/Tijuana PDT
END:DAYLIGHT
BEGIN:DAYLIGHT
DTSTART:20240310T030000
RDATE:20241103T010000
TZOFFSETFROM:-0800
TZOFFSETTO:-0700
TZNAME:America/Tijuana PDT
END:DAYLIGHT
BEGIN:DAYLIGHT
DTSTART:20250309T030000
RDATE:20251102T010000
TZOFFSETFROM:-0800
TZOFFSETTO:-0700
TZNAME:America/Tijuana PDT
END:DAYLIGHT
BEGIN:DAYLIGHT
DTSTART:20260308T030000
RDATE:20261101T010000
TZOFFSETFROM:-0800
TZOFFSETTO:-0700
TZNAME:America/Tijuana PDT
END:DAYLIGHT
BEGIN:DAYLIGHT
DTSTART:20270314T030000
RDATE:20271107T010000
TZOFFSETFROM:-0800
TZOFFSETTO:-0700
TZNAME:America/Tijuana PDT
END:DAYLIGHT
END:VTIMEZONE
BEGIN:VEVENT
UID:215ba48367db750e2c8a180752efc51a
CATEGORIES:Meetings
CREATED:19691231T160000
SUMMARY:Conservation Committee
LOCATION:Zoom
DESCRIPTION:This committee covers many issues affecting native plants: conservation, ad
 vocacy, legislation, habitat restoration and rare plants. The committee mee
 ts once a month to provide information and support for all of these conserv
 ation issues and efforts. Members of our committee work on projects through
 out the Chapter area, coordinating with our state CNPS program staff and ot
 her conservation organizations.\nPlease join us in our important work! For 
 questions, comments or concerns, contact Committee Chair Carolyn Dorsch at 
 cdorsch@cnps-scv.org (mailto:cdorsch@cnps-scv.org) or (650) 804-6162, or Co
 nservation Chair Judy Fenerty at judy@fenerty.com. (mailto:judy@fenerty.com
 .) If you are interested in joining our committee meetings on Zoom, please 
 email Carolyn for the link.\n
X-ALT-DESC;FMTTYPE=text/html:<div class="page" title="Page 3"><div class="layoutArea"><div class="column
 "><p>This committee covers many issues affecting native plants: conservatio
 n, advocacy, legislation, habitat restoration and rare plants. The committe
 e meets once a month to provide information and support for all of these co
 nservation issues and efforts. Members of our committee work on projects th
 roughout the Chapter area, coordinating with our state CNPS program staff a
 nd other conservation organizations.</p></div></div></div><div class="page"
  title="Page 3"><div class="layoutArea"><div class="column"><p>Please join 
 us in our important work! For questions, comments or concerns, contact Comm
 ittee Chair Carolyn Dorsch at <a href="mailto:cdorsch@cnps-scv.org">cdorsch
 @cnps-scv.org</a> or (650) 804-6162, or Conservation Chair Judy Fenerty at 
 <a href="mailto:judy@fenerty.com.">judy@fenerty.com.</a> If you are interes
 ted in joining our committee meetings on Zoom, please email Carolyn for the
  link.</p></div></div></div>
CONTACT:Carolyn Dorsch at cdorsch@cnps-scv.org or (650) 804-6162
DTSTAMP:20260425T131732
DTSTART;TZID=America/Tijuana:20230314T190000
DTEND;TZID=America/Tijuana:20230314T203000
SEQUENCE:0
RRULE:FREQ=MONTHLY;UNTIL=20231228T000000Z;INTERVAL=1;BYDAY=+2TU
TRANSP:OPAQUE
END:VEVENT
BEGIN:VEVENT
UID:215ba48367db750e2c8a180752efc51a
CATEGORIES:Meetings
CREATED:20230227T130842
SUMMARY:Conservation Committee
LOCATION:Zoom
DESCRIPTION:Our Chapter’s next Conservation Committee meetings will be held via Zoom on
  Monday, March 20 from 7:00 to 8:30pm.\nPlease join us in our important wor
 k! For questions, comments or concerns, contact Conservation Committee Chai
 r Carolyn Dorsch at This email address is being protected from spambots. Yo
 u need JavaScript enabled to view it.
				document.getElementById('cloak8db
 b6a07fd3b93ec7841830e0121339d').innerHTML = '';
				var prefix = '&#109;a' 
 + 'i&#108;' + '&#116;o';
				var path = 'hr' + 'ef' + '=';
				var addy8dbb
 6a07fd3b93ec7841830e0121339d = 'cd&#111;rsch' + '&#64;';
				addy8dbb6a07fd
 3b93ec7841830e0121339d = addy8dbb6a07fd3b93ec7841830e0121339d + 'cnps-scv' 
 + '&#46;' + '&#111;rg';
				var addy_text8dbb6a07fd3b93ec7841830e0121339d =
  'cd&#111;rsch' + '&#64;' + 'cnps-scv' + '&#46;' + '&#111;rg';document.getE
 lementById('cloak8dbb6a07fd3b93ec7841830e0121339d').innerHTML += '<a ' + pa
 th + '\'' + prefix + ':' + addy8dbb6a07fd3b93ec7841830e0121339d + '\'>'+add
 y_text8dbb6a07fd3b93ec7841830e0121339d+'';
		 or (650) 804-6162. If you are
  interested in joining our committee meetings on Zoom, please email Carolyn
  for the link.\n
X-ALT-DESC;FMTTYPE=text/html:<p>Our Chapter’s next Conservation Committee meetings will be held via Zoom
  on Monday, March 20 from 7:00 to 8:30pm.</p><p>Please join us in our impor
 tant work! For questions, comments or concerns, contact Conservation Commit
 tee Chair Carolyn Dorsch at <span id="cloak8dbb6a07fd3b93ec7841830e0121339d
 ">This email address is being protected from spambots. You need JavaScript 
 enabled to view it.</span><script type='text/javascript'>
				document.getE
 lementById('cloak8dbb6a07fd3b93ec7841830e0121339d').innerHTML = '';
				var
  prefix = '&#109;a' + 'i&#108;' + '&#116;o';
				var path = 'hr' + 'ef' + '
 =';
				var addy8dbb6a07fd3b93ec7841830e0121339d = 'cd&#111;rsch' + '&#64;'
 ;
				addy8dbb6a07fd3b93ec7841830e0121339d = addy8dbb6a07fd3b93ec7841830e01
 21339d + 'cnps-scv' + '&#46;' + '&#111;rg';
				var addy_text8dbb6a07fd3b93
 ec7841830e0121339d = 'cd&#111;rsch' + '&#64;' + 'cnps-scv' + '&#46;' + '&#1
 11;rg';document.getElementById('cloak8dbb6a07fd3b93ec7841830e0121339d').inn
 erHTML += '<a ' + path + '\'' + prefix + ':' + addy8dbb6a07fd3b93ec7841830e
 0121339d + '\'>'+addy_text8dbb6a07fd3b93ec7841830e0121339d+'<\/a>';
		</scr
 ipt> or (650) 804-6162. If you are interested in joining our committee meet
 ings on Zoom, please email Carolyn for the link.</p>
URL;VALUE=URI:https://www.cnps-scv.org/events/calendar/eventdetail/3089/-/conservation-co
 mmittee?tmpl=component
CONTACT:Carolyn Dorsch at This email address is being protected from spambots. You need JavaScript enabled to view it.
				document.getElementById('cloakdbf41b7bedd6c521d3a46b4cf31d5923').innerHTML = '';
				var prefix = '&#109;a' + 'i&#108;' + '&#116;o';
				var path = 'hr' + 'ef' + '=';
				var addydbf41b7bedd6c521d3a46b4cf31d5923 = 'cd&#111;rsch' + '&#64;';
				addydbf41b7bedd6c521d3a46b4cf31d5923 = addydbf41b7bedd6c521d3a46b4cf31d5923 + 'cnps-scv' + '&#46;' + '&#111;rg';
				var addy_textdbf41b7bedd6c521d3a46b4cf31d5923 = 'cd&#111;rsch' + '&#64;' + 'cnps-scv' + '&#46;' + '&#111;rg';document.getElementById('cloakdbf41b7bedd6c521d3a46b4cf31d5923').innerHTML += '<a ' + path + '\'' + prefix + ':' + addydbf41b7bedd6c521d3a46b4cf31d5923 + '\'>'+addy_textdbf41b7bedd6c521d3a46b4cf31d5923+'';
		 or (650) 804-6162

DTSTAMP:20260425T131732
DTSTART;TZID=America/Tijuana:20230320T190000
DTEND;TZID=America/Tijuana:20230320T203000
RECURRENCE-ID;TZID=America/Tijuana:20230314T190000
SEQUENCE:0
TRANSP:OPAQUE
END:VEVENT
BEGIN:VEVENT
UID:215ba48367db750e2c8a180752efc51a
CATEGORIES:Meetings
CREATED:20230227T130842
SUMMARY:Conservation Committee
LOCATION:Zoom
DESCRIPTION:This committee covers many issues affecting native plants: conservation, ad
 vocacy, legislation, habitat restoration and rare plants. The committee mee
 ts once a month to provide information and support for all of these conserv
 ation issues and efforts. Members of our committee work on projects through
 out the Chapter area, coordinating with our state CNPS program staff and ot
 her conservation organizations.\nAgendaThis month, Toni Corelli, our former
  chapter rare plant chair and botanist, will be sharing her recent work:\n 
 - An updated checklist for our two chapter counties\n - Adding her list to 
 the The Consortium of California Herbaria Portal 2 (CCH2), as was done by D
 ylan Neubauer for the Santa Cruz Chapter under County Floras:  (https://www
 .cch2.org/portal/checklists/index.php)https://www.cch2.org/portal/checklist
 s/index.php (https://www.cch2.org/portal/checklists/index.php)\n - A draft 
 list of our locally rare plants in San Mateo and Santa Clara County.The mee
 ting will be at 7 pm, register at the zoom link here: https://us02web.zoom.
 us/meeting/register/tZEscOygpzsqGdPDUOdx_RfzZ11xrqB0YZUW (https://us02web.z
 oom.us/meeting/register/tZEscOygpzsqGdPDUOdx_RfzZ11xrqB0YZUW) \nPlease join
  us in our important work! For questions, comments or concerns, contact Com
 mittee Chair Carolyn Dorsch at This email address is being protected from s
 pambots. You need JavaScript enabled to view it.
				document.getElementByI
 d('cloak11b1983d9c027e278a4f6d031f9506bb').innerHTML = '';
				var prefix =
  '&#109;a' + 'i&#108;' + '&#116;o';
				var path = 'hr' + 'ef' + '=';
				v
 ar addy11b1983d9c027e278a4f6d031f9506bb = 'cd&#111;rsch' + '&#64;';
				add
 y11b1983d9c027e278a4f6d031f9506bb = addy11b1983d9c027e278a4f6d031f9506bb + 
 'cnps-scv' + '&#46;' + '&#111;rg';
				var addy_text11b1983d9c027e278a4f6d0
 31f9506bb = 'cd&#111;rsch' + '&#64;' + 'cnps-scv' + '&#46;' + '&#111;rg';do
 cument.getElementById('cloak11b1983d9c027e278a4f6d031f9506bb').innerHTML +=
  '<a ' + path + '\'' + prefix + ':' + addy11b1983d9c027e278a4f6d031f9506bb 
 + '\'>'+addy_text11b1983d9c027e278a4f6d031f9506bb+'';
		 or (650) 804-6162,
  or Conservation Chair Judy Fenerty at This email address is being protecte
 d from spambots. You need JavaScript enabled to view it.
				document.getEl
 ementById('cloak4129815bf28803c623eab8ec5847de4b').innerHTML = '';
				var 
 prefix = '&amp;#109;a' + 'i&amp;#108;' + '&amp;#116;o';
				var path = 'hr'
  + 'ef' + '=';
				var addy4129815bf28803c623eab8ec5847de4b = 'j&amp;#117;d
 y' + '&amp;#64;';
				addy4129815bf28803c623eab8ec5847de4b = addy4129815bf2
 8803c623eab8ec5847de4b + 'f&amp;#101;n&amp;#101;rty' + '&amp;#46;' + 'c&amp
 ;#111;m';
				var addy_text4129815bf28803c623eab8ec5847de4b = 'j&amp;#117;d
 y' + '&amp;#64;' + 'f&amp;#101;n&amp;#101;rty' + '&amp;#46;' + 'c&amp;#111;
 m';document.getElementById('cloak4129815bf28803c623eab8ec5847de4b').innerHT
 ML += '&lt;a ' + path + '\'' + prefix + ':' + addy4129815bf28803c623eab8ec5
 847de4b + '\'&gt;'+addy_text4129815bf28803c623eab8ec5847de4b+'&lt;\/a&gt;';
 
		. (mailto:judy@fenerty.com.)\n \n
X-ALT-DESC;FMTTYPE=text/html:<div class="page" title="Page 3"><div class="layoutArea"><div class="column
 "><p>This committee covers many issues affecting native plants: conservatio
 n, advocacy, legislation, habitat restoration and rare plants. The committe
 e meets once a month to provide information and support for all of these co
 nservation issues and efforts. Members of our committee work on projects th
 roughout the Chapter area, coordinating with our state CNPS program staff a
 nd other conservation organizations.</p><h3>Agenda</h3><div class=""><div c
 lass=""><div class="">This month, Toni Corelli,&nbsp;our former chapter rar
 e plant chair and botanist, will be&nbsp;sharing her recent work:</div><ul>
 <li>An updated checklist for our two chapter counties</li><li>Adding her li
 st to the&nbsp;The Consortium of California Herbaria Portal 2 (CCH2), as wa
 s done by Dylan Neubauer for the Santa Cruz Chapter under County Floras:&nb
 sp;<span class="apple-converted-space"></span><a href="https://www.cch2.org
 /portal/checklists/index.php" class=""></a><a href="https://www.cch2.org/po
 rtal/checklists/index.php">https://www.cch2.org/portal/checklists/index.php
 </a></li><li>A draft list of our locally rare plants in San Mateo and Santa
  Clara County.</li></ul><p>The meeting will be at 7 pm, register at the zoo
 m link here: <a href="https://us02web.zoom.us/meeting/register/tZEscOygpzsq
 GdPDUOdx_RfzZ11xrqB0YZUW">https://us02web.zoom.us/meeting/register/tZEscOyg
 pzsqGdPDUOdx_RfzZ11xrqB0YZUW</a>&nbsp;</p></div></div></div></div></div><di
 v class="page" title="Page 3"><div class="layoutArea"><div class="column"><
 p>Please join us in our important work! For questions, comments or concerns
 , contact Committee Chair Carolyn Dorsch at <span id="cloak11b1983d9c027e27
 8a4f6d031f9506bb">This email address is being protected from spambots. You 
 need JavaScript enabled to view it.</span><script type='text/javascript'>
	
 			document.getElementById('cloak11b1983d9c027e278a4f6d031f9506bb').innerHT
 ML = '';
				var prefix = '&#109;a' + 'i&#108;' + '&#116;o';
				var path =
  'hr' + 'ef' + '=';
				var addy11b1983d9c027e278a4f6d031f9506bb = 'cd&#111
 ;rsch' + '&#64;';
				addy11b1983d9c027e278a4f6d031f9506bb = addy11b1983d9c
 027e278a4f6d031f9506bb + 'cnps-scv' + '&#46;' + '&#111;rg';
				var addy_te
 xt11b1983d9c027e278a4f6d031f9506bb = 'cd&#111;rsch' + '&#64;' + 'cnps-scv' 
 + '&#46;' + '&#111;rg';document.getElementById('cloak11b1983d9c027e278a4f6d
 031f9506bb').innerHTML += '<a ' + path + '\'' + prefix + ':' + addy11b1983d
 9c027e278a4f6d031f9506bb + '\'>'+addy_text11b1983d9c027e278a4f6d031f9506bb+
 '<\/a>';
		</script> or (650) 804-6162, or Conservation Chair Judy Fenerty 
 at <a href="mailto:judy@fenerty.com."><span id="cloak4129815bf28803c623eab8
 ec5847de4b">This email address is being protected from spambots. You need J
 avaScript enabled to view it.</span><script type='text/javascript'>
				doc
 ument.getElementById('cloak4129815bf28803c623eab8ec5847de4b').innerHTML = '
 ';
				var prefix = '&#109;a' + 'i&#108;' + '&#116;o';
				var path = 'hr' 
 + 'ef' + '=';
				var addy4129815bf28803c623eab8ec5847de4b = 'j&#117;dy' + 
 '&#64;';
				addy4129815bf28803c623eab8ec5847de4b = addy4129815bf28803c623e
 ab8ec5847de4b + 'f&#101;n&#101;rty' + '&#46;' + 'c&#111;m';
				var addy_te
 xt4129815bf28803c623eab8ec5847de4b = 'j&#117;dy' + '&#64;' + 'f&#101;n&#101
 ;rty' + '&#46;' + 'c&#111;m';document.getElementById('cloak4129815bf28803c6
 23eab8ec5847de4b').innerHTML += '<a ' + path + '\'' + prefix + ':' + addy41
 29815bf28803c623eab8ec5847de4b + '\'>'+addy_text4129815bf28803c623eab8ec584
 7de4b+'<\/a>';
		</script>.</a></p><p>&nbsp;</p></div></div></div>
URL;VALUE=URI:https://www.cnps-scv.org/events/calendar/eventdetail/3093/-/conservation-co
 mmittee?tmpl=component
CONTACT:Carolyn Dorsch at This email address is being protected from spambots. You need JavaScript enabled to view it.
				document.getElementById('cloak70ca6e9193d0c5daba9e63cd99830630').innerHTML = '';
				var prefix = '&#109;a' + 'i&#108;' + '&#116;o';
				var path = 'hr' + 'ef' + '=';
				var addy70ca6e9193d0c5daba9e63cd99830630 = 'cd&#111;rsch' + '&#64;';
				addy70ca6e9193d0c5daba9e63cd99830630 = addy70ca6e9193d0c5daba9e63cd99830630 + 'cnps-scv' + '&#46;' + '&#111;rg';
				var addy_text70ca6e9193d0c5daba9e63cd99830630 = 'cd&#111;rsch' + '&#64;' + 'cnps-scv' + '&#46;' + '&#111;rg';document.getElementById('cloak70ca6e9193d0c5daba9e63cd99830630').innerHTML += '<a ' + path + '\'' + prefix + ':' + addy70ca6e9193d0c5daba9e63cd99830630 + '\'>'+addy_text70ca6e9193d0c5daba9e63cd99830630+'';
		 or (650) 804-6162

DTSTAMP:20260425T131732
DTSTART;TZID=America/Tijuana:20230711T190000
DTEND;TZID=America/Tijuana:20230711T203000
RECURRENCE-ID;TZID=America/Tijuana:20230711T190000
SEQUENCE:0
TRANSP:OPAQUE
END:VEVENT
END:VCALENDAR