BEGIN:VCALENDAR
VERSION:2.0
PRODID:-//jEvents 2.0 for Joomla//EN
CALSCALE:GREGORIAN
METHOD:PUBLISH
BEGIN:VTIMEZONE
TZID:America/Tijuana
BEGIN:STANDARD
DTSTART:20201113T130000
RDATE:20210314T030000
TZOFFSETFROM:-0700
TZOFFSETTO:-0800
TZNAME:America/Tijuana PST
END:STANDARD
BEGIN:STANDARD
DTSTART:20211107T010000
RDATE:20220313T030000
TZOFFSETFROM:-0700
TZOFFSETTO:-0800
TZNAME:America/Tijuana PST
END:STANDARD
BEGIN:STANDARD
DTSTART:20221106T010000
RDATE:20230312T030000
TZOFFSETFROM:-0700
TZOFFSETTO:-0800
TZNAME:America/Tijuana PST
END:STANDARD
BEGIN:STANDARD
DTSTART:20231105T010000
RDATE:20240310T030000
TZOFFSETFROM:-0700
TZOFFSETTO:-0800
TZNAME:America/Tijuana PST
END:STANDARD
BEGIN:STANDARD
DTSTART:20241103T010000
RDATE:20250309T030000
TZOFFSETFROM:-0700
TZOFFSETTO:-0800
TZNAME:America/Tijuana PST
END:STANDARD
BEGIN:STANDARD
DTSTART:20251102T010000
RDATE:20260308T030000
TZOFFSETFROM:-0700
TZOFFSETTO:-0800
TZNAME:America/Tijuana PST
END:STANDARD
BEGIN:STANDARD
DTSTART:20261101T010000
RDATE:20270314T030000
TZOFFSETFROM:-0700
TZOFFSETTO:-0800
TZNAME:America/Tijuana PST
END:STANDARD
BEGIN:STANDARD
DTSTART:20271107T010000
RDATE:20280312T030000
TZOFFSETFROM:-0700
TZOFFSETTO:-0800
TZNAME:America/Tijuana PST
END:STANDARD
BEGIN:DAYLIGHT
DTSTART:20210314T030000
RDATE:20211107T010000
TZOFFSETFROM:-0800
TZOFFSETTO:-0700
TZNAME:America/Tijuana PDT
END:DAYLIGHT
BEGIN:DAYLIGHT
DTSTART:20220313T030000
RDATE:20221106T010000
TZOFFSETFROM:-0800
TZOFFSETTO:-0700
TZNAME:America/Tijuana PDT
END:DAYLIGHT
BEGIN:DAYLIGHT
DTSTART:20230312T030000
RDATE:20231105T010000
TZOFFSETFROM:-0800
TZOFFSETTO:-0700
TZNAME:America/Tijuana PDT
END:DAYLIGHT
BEGIN:DAYLIGHT
DTSTART:20240310T030000
RDATE:20241103T010000
TZOFFSETFROM:-0800
TZOFFSETTO:-0700
TZNAME:America/Tijuana PDT
END:DAYLIGHT
BEGIN:DAYLIGHT
DTSTART:20250309T030000
RDATE:20251102T010000
TZOFFSETFROM:-0800
TZOFFSETTO:-0700
TZNAME:America/Tijuana PDT
END:DAYLIGHT
BEGIN:DAYLIGHT
DTSTART:20260308T030000
RDATE:20261101T010000
TZOFFSETFROM:-0800
TZOFFSETTO:-0700
TZNAME:America/Tijuana PDT
END:DAYLIGHT
BEGIN:DAYLIGHT
DTSTART:20270314T030000
RDATE:20271107T010000
TZOFFSETFROM:-0800
TZOFFSETTO:-0700
TZNAME:America/Tijuana PDT
END:DAYLIGHT
END:VTIMEZONE
BEGIN:VEVENT
UID:eddc42fe3f00345a897d1b50ca7b011d
CATEGORIES:Special Events
CREATED:20211106T200920
SUMMARY:Wreath Masters Wreath-Making Workshop
LOCATION:Martial Cottle Park
DESCRIPTION:<div class="w-heading heading-1 text-center heading-orange heading-orange-c
 enter"><div class="w-wrapper"><h4 class="heading-title">Wreath Masters Wrea
 th-Making Workshop</h4></div></div><div class="w-empty-space">Hosted by CNP
 S Santa Clara Valley Chapter<br />Sunday, November 14<br />1 pm – 3 pm Mart
 ial Cottle Park</div><div class="w-text-block"><p>$20<br />Capacity: 20 par
 ticipants<br /><strong>Last Day to Register: Friday, November 12 at 10 am</
 strong></p><p>Register:&nbsp;<a href="https://www.cnps.org/education/wreath
 -masters-workshop-25758#register">https://www.cnps.org/education/wreath-mas
 ters-workshop-25758#register</a></p><p>More information:&nbsp;<a href="http
 s://www.cnps.org/education/wreath-masters-workshop-25758">https://www.cnps.
 org/education/wreath-masters-workshop-25758</a></p></div>
CONTACT:This email address is being protected from spambots. You need JavaScript enabled to view it.
				document.getElementById('cloakb463d16a94086495259d6e6234e4917d').innerHTML = '';
				var prefix = '&#109;a' + 'i&#108;' + '&#116;o';
				var path = 'hr' + 'ef' + '=';
				var addyb463d16a94086495259d6e6234e4917d = '&#105;nf&#111;' + '&#64;';
				addyb463d16a94086495259d6e6234e4917d = addyb463d16a94086495259d6e6234e4917d + 'cnps-scv' + '&#46;' + '&#111;rg';
				var addy_textb463d16a94086495259d6e6234e4917d = '&#105;nf&#111;' + '&#64;' + 'cnps-scv' + '&#46;' + '&#111;rg';document.getElementById('cloakb463d16a94086495259d6e6234e4917d').innerHTML += '<a ' + path + '\'' + prefix + ':' + addyb463d16a94086495259d6e6234e4917d + '\'>'+addy_textb463d16a94086495259d6e6234e4917d+'';
		
X-EXTRAINFO:Registration required - must register by 11/12/2021. No drop-ins.\nhttps://
 www.cnps.org/education/wreath-masters-workshop-25758#register
DTSTAMP:20260420T131628
DTSTART;TZID=America/Tijuana:20211114T130000
DTEND;TZID=America/Tijuana:20211114T150000
SEQUENCE:0
TRANSP:OPAQUE
END:VEVENT
END:VCALENDAR