BEGIN:VCALENDAR
VERSION:2.0
PRODID:-//jEvents 2.0 for Joomla//EN
CALSCALE:GREGORIAN
METHOD:PUBLISH
BEGIN:VTIMEZONE
TZID:America/Tijuana
BEGIN:STANDARD
DTSTART:20201105T180000
RDATE:20210314T030000
TZOFFSETFROM:-0700
TZOFFSETTO:-0800
TZNAME:America/Tijuana PST
END:STANDARD
BEGIN:STANDARD
DTSTART:20211107T010000
RDATE:20220313T030000
TZOFFSETFROM:-0700
TZOFFSETTO:-0800
TZNAME:America/Tijuana PST
END:STANDARD
BEGIN:STANDARD
DTSTART:20221106T010000
RDATE:20230312T030000
TZOFFSETFROM:-0700
TZOFFSETTO:-0800
TZNAME:America/Tijuana PST
END:STANDARD
BEGIN:STANDARD
DTSTART:20231105T010000
RDATE:20240310T030000
TZOFFSETFROM:-0700
TZOFFSETTO:-0800
TZNAME:America/Tijuana PST
END:STANDARD
BEGIN:STANDARD
DTSTART:20241103T010000
RDATE:20250309T030000
TZOFFSETFROM:-0700
TZOFFSETTO:-0800
TZNAME:America/Tijuana PST
END:STANDARD
BEGIN:STANDARD
DTSTART:20251102T010000
RDATE:20260308T030000
TZOFFSETFROM:-0700
TZOFFSETTO:-0800
TZNAME:America/Tijuana PST
END:STANDARD
BEGIN:STANDARD
DTSTART:20261101T010000
RDATE:20270314T030000
TZOFFSETFROM:-0700
TZOFFSETTO:-0800
TZNAME:America/Tijuana PST
END:STANDARD
BEGIN:STANDARD
DTSTART:20271107T010000
RDATE:20280312T030000
TZOFFSETFROM:-0700
TZOFFSETTO:-0800
TZNAME:America/Tijuana PST
END:STANDARD
BEGIN:DAYLIGHT
DTSTART:20210314T030000
RDATE:20211107T010000
TZOFFSETFROM:-0800
TZOFFSETTO:-0700
TZNAME:America/Tijuana PDT
END:DAYLIGHT
BEGIN:DAYLIGHT
DTSTART:20220313T030000
RDATE:20221106T010000
TZOFFSETFROM:-0800
TZOFFSETTO:-0700
TZNAME:America/Tijuana PDT
END:DAYLIGHT
BEGIN:DAYLIGHT
DTSTART:20230312T030000
RDATE:20231105T010000
TZOFFSETFROM:-0800
TZOFFSETTO:-0700
TZNAME:America/Tijuana PDT
END:DAYLIGHT
BEGIN:DAYLIGHT
DTSTART:20240310T030000
RDATE:20241103T010000
TZOFFSETFROM:-0800
TZOFFSETTO:-0700
TZNAME:America/Tijuana PDT
END:DAYLIGHT
BEGIN:DAYLIGHT
DTSTART:20250309T030000
RDATE:20251102T010000
TZOFFSETFROM:-0800
TZOFFSETTO:-0700
TZNAME:America/Tijuana PDT
END:DAYLIGHT
BEGIN:DAYLIGHT
DTSTART:20260308T030000
RDATE:20261101T010000
TZOFFSETFROM:-0800
TZOFFSETTO:-0700
TZNAME:America/Tijuana PDT
END:DAYLIGHT
BEGIN:DAYLIGHT
DTSTART:20270314T030000
RDATE:20271107T010000
TZOFFSETFROM:-0800
TZOFFSETTO:-0700
TZNAME:America/Tijuana PDT
END:DAYLIGHT
END:VTIMEZONE
BEGIN:VEVENT
UID:c62ac360897007c114178b281c4dc7ef
CATEGORIES:Meetings
CREATED:20211025T191117
SUMMARY:ANNUAL MEETING & PROGRAM
LOCATION: https://us02web.zoom.us/meeting/register/tZIqdOCuqz0oG9UIVvVp0Q_DNMbsyt6t2
 GuY
DESCRIPTION:<div class="page" title="Page 1"><div class="layoutArea"><div class="column
 "><p>Our Chapter’s General Meeting will include our annual election and rec
 ognition of volunteers. After the meeting, at 7:30pm, Michael Kauffman, our
  speaker for the Brenda Butner Lecture, will take us on a virtual visit to 
 the Bigfoot Trail in the Klamath Mountains.</p><div class="page" title="Pag
 e 1"><div class="layoutArea"><div class="column"><p>How to attend: The Annu
 al Meeting will be live-streamed over Zoom only. After the meeting we’ll co
 ntinue livestreaming the program over Zoom. We’ll email the Zoom link ahead
  of time to current CNPS Santa Clara Valley Chapter members. Be sure to rec
 eive the email by keeping your contact information up to date at the State 
 CNPS website.</p></div></div></div><p>Zoom (preregistration required):&nbsp
 ;&nbsp;<a href="https://us02web.zoom.us/meeting/register/tZIqdOCuqz0oG9UIVv
 Vp0Q_DNMbsyt6t2GuY" target="_blank" rel="noopener"></a><a href="https://us0
 2web.zoom.us/meeting/register/tZIqdOCuqz0oG9UIVvVp0Q_DNMbsyt6t2GuY">https:/
 /us02web.zoom.us/meeting/register/tZIqdOCuqz0oG9UIVvVp0Q_DNMbsyt6t2GuY</a><
 /p></div></div></div>
CONTACT:Chapter President Vivian Neou at This email address is being protected from spambots. You need JavaScript enabled to view it.
				document.getElementById('cloaka5da07dfaeba91a3b060b0c16575d879').innerHTML = '';
				var prefix = '&#109;a' + 'i&#108;' + '&#116;o';
				var path = 'hr' + 'ef' + '=';
				var addya5da07dfaeba91a3b060b0c16575d879 = 'pr&#101;s&#105;d&#101;nt' + '&#64;';
				addya5da07dfaeba91a3b060b0c16575d879 = addya5da07dfaeba91a3b060b0c16575d879 + 'cnps-scv' + '&#46;' + '&#111;rg';
				var addy_texta5da07dfaeba91a3b060b0c16575d879 = 'pr&#101;s&#105;d&#101;nt' + '&#64;' + 'cnps-scv' + '&#46;' + '&#111;rg';document.getElementById('cloaka5da07dfaeba91a3b060b0c16575d879').innerHTML += '<a ' + path + '\'' + prefix + ':' + addya5da07dfaeba91a3b060b0c16575d879 + '\'>'+addy_texta5da07dfaeba91a3b060b0c16575d879+'';
		 or the Chapter phone at (650) 260- 3450.
DTSTAMP:20260425T143640
DTSTART;TZID=America/Tijuana:20211106T190000
DTEND;TZID=America/Tijuana:20211106T210000
SEQUENCE:0
TRANSP:OPAQUE
END:VEVENT
END:VCALENDAR