BEGIN:VCALENDAR
VERSION:2.0
PRODID:-//jEvents 2.0 for Joomla//EN
CALSCALE:GREGORIAN
METHOD:PUBLISH
BEGIN:VTIMEZONE
TZID:America/Tijuana
BEGIN:STANDARD
DTSTART:20201101T010000
RDATE:20210314T030000
TZOFFSETFROM:-0700
TZOFFSETTO:-0800
TZNAME:America/Tijuana PST
END:STANDARD
BEGIN:STANDARD
DTSTART:20211107T010000
RDATE:20220313T030000
TZOFFSETFROM:-0700
TZOFFSETTO:-0800
TZNAME:America/Tijuana PST
END:STANDARD
BEGIN:STANDARD
DTSTART:20221106T010000
RDATE:20230312T030000
TZOFFSETFROM:-0700
TZOFFSETTO:-0800
TZNAME:America/Tijuana PST
END:STANDARD
BEGIN:STANDARD
DTSTART:20231105T010000
RDATE:20240310T030000
TZOFFSETFROM:-0700
TZOFFSETTO:-0800
TZNAME:America/Tijuana PST
END:STANDARD
BEGIN:STANDARD
DTSTART:20241103T010000
RDATE:20250309T030000
TZOFFSETFROM:-0700
TZOFFSETTO:-0800
TZNAME:America/Tijuana PST
END:STANDARD
BEGIN:STANDARD
DTSTART:20251102T010000
RDATE:20260308T030000
TZOFFSETFROM:-0700
TZOFFSETTO:-0800
TZNAME:America/Tijuana PST
END:STANDARD
BEGIN:STANDARD
DTSTART:20261101T010000
RDATE:20270314T030000
TZOFFSETFROM:-0700
TZOFFSETTO:-0800
TZNAME:America/Tijuana PST
END:STANDARD
BEGIN:STANDARD
DTSTART:20271107T010000
RDATE:20280312T030000
TZOFFSETFROM:-0700
TZOFFSETTO:-0800
TZNAME:America/Tijuana PST
END:STANDARD
BEGIN:DAYLIGHT
DTSTART:20200824T193000
RDATE:20201101T010000
TZOFFSETFROM:-0800
TZOFFSETTO:-0700
TZNAME:America/Tijuana PDT
END:DAYLIGHT
BEGIN:DAYLIGHT
DTSTART:20210314T030000
RDATE:20211107T010000
TZOFFSETFROM:-0800
TZOFFSETTO:-0700
TZNAME:America/Tijuana PDT
END:DAYLIGHT
BEGIN:DAYLIGHT
DTSTART:20220313T030000
RDATE:20221106T010000
TZOFFSETFROM:-0800
TZOFFSETTO:-0700
TZNAME:America/Tijuana PDT
END:DAYLIGHT
BEGIN:DAYLIGHT
DTSTART:20230312T030000
RDATE:20231105T010000
TZOFFSETFROM:-0800
TZOFFSETTO:-0700
TZNAME:America/Tijuana PDT
END:DAYLIGHT
BEGIN:DAYLIGHT
DTSTART:20240310T030000
RDATE:20241103T010000
TZOFFSETFROM:-0800
TZOFFSETTO:-0700
TZNAME:America/Tijuana PDT
END:DAYLIGHT
BEGIN:DAYLIGHT
DTSTART:20250309T030000
RDATE:20251102T010000
TZOFFSETFROM:-0800
TZOFFSETTO:-0700
TZNAME:America/Tijuana PDT
END:DAYLIGHT
BEGIN:DAYLIGHT
DTSTART:20260308T030000
RDATE:20261101T010000
TZOFFSETFROM:-0800
TZOFFSETTO:-0700
TZNAME:America/Tijuana PDT
END:DAYLIGHT
BEGIN:DAYLIGHT
DTSTART:20270314T030000
RDATE:20271107T010000
TZOFFSETFROM:-0800
TZOFFSETTO:-0700
TZNAME:America/Tijuana PDT
END:DAYLIGHT
END:VTIMEZONE
BEGIN:VEVENT
UID:b067d59d15efebee02562394855956c3
CATEGORIES:Native Plant Talks
CREATED:20210825T125758
SUMMARY:Climate Change: What Works and What You Can Do, a talk by Elaine Salinger
LOCATION:https://us02web.zoom.us/meeting/register/tZcode-ppz0rHtF90ZQC7-voVtvYb4oVbF
 Dw
DESCRIPTION:What is the most effective solution to climate change? Why is it the most e
 ffective solution? How can the US enact this solution in a way that encoura
 ges the rest of the world to do the same? Is this a real possibility within
  the next eight months? And what can you do in less than two minutes a day 
 to help?  Although you can participate on your phone, the video is an impor
 tant part of the presentation. \nElaine Salinger is a retired veterinarian 
 living in San Mateo. She has been growing native plants for 15 years and ha
 s hosted many native plant garden tours. She has been interested in climate
  change action for 25 years, and has been an active member of Citizens Clim
 ate Lobby for 6 years. Over the last 3 years, she has been mentoring high s
 chool students and giving presentations on climate change action. As the pr
 oblem becomes more urgent, she is doing more outreach, volunteering over 40
  hours/week, and offering zoom meetings on climate change solutions and act
 ion several times a week.\nThis talk will be live streamed on Zoom (https:/
 /us02web.zoom.us/meeting/register/tZcode-ppz0rHtF90ZQC7-voVtvYb4oVbFDw) (re
 quires advance registration) and YouTube (https://www.youtube.com/c/CNPSSan
 taClaraValley).\n 
X-ALT-DESC;FMTTYPE=text/html:<div class="page" title="Page 2"><div class="layoutArea"><div class="column
 "><p>What is the most effective solution to climate change? Why is it the m
 ost effective solution? How can the US enact this solution in a way that en
 courages the rest of the world to do the same? Is this a real possibility w
 ithin the next eight months? And<strong>&nbsp;what can you do in less than 
 two minutes a day to help</strong>?&nbsp; Although you can participate on y
 our phone, the video is an important part of the presentation.&nbsp;</p><p>
 Elaine Salinger is a retired veterinarian living in San Mateo. She has been
  growing native plants for 15 years and has hosted many native plant garden
  tours. She has been interested in climate change action for 25 years, and 
 has been an active member of Citizens Climate Lobby for 6 years. Over the l
 ast 3 years, she has been mentoring high school students and giving present
 ations on climate change action. As the problem becomes more urgent, she is
  doing more outreach, volunteering over 40 hours/week, and offering zoom me
 etings on climate change solutions and action several times a week.</p><p>T
 his talk will be live streamed on&nbsp;<strong><a href="https://us02web.zoo
 m.us/meeting/register/tZcode-ppz0rHtF90ZQC7-voVtvYb4oVbFDw">Zoom</a>&nbsp;(
 requires advance registration)&nbsp;</strong>and&nbsp;<strong><strong><a hr
 ef="https://www.youtube.com/c/CNPSSantaClaraValley">YouTube</a>.</strong></
 strong></p><div class="page" title="Page 2"><div class="layoutArea"><div cl
 ass="column">&nbsp;</div></div></div></div></div></div>
DTSTAMP:20260419T181603
DTSTART;TZID=America/Tijuana:20210825T193000
DTEND;TZID=America/Tijuana:20210825T210000
SEQUENCE:0
TRANSP:OPAQUE
END:VEVENT
END:VCALENDAR