BEGIN:VCALENDAR
VERSION:2.0
PRODID:-//jEvents 2.0 for Joomla//EN
CALSCALE:GREGORIAN
METHOD:PUBLISH
BEGIN:VTIMEZONE
TZID:America/Tijuana
BEGIN:STANDARD
DTSTART:20201101T010000
RDATE:20210314T030000
TZOFFSETFROM:-0700
TZOFFSETTO:-0800
TZNAME:America/Tijuana PST
END:STANDARD
BEGIN:STANDARD
DTSTART:20211107T010000
RDATE:20220313T030000
TZOFFSETFROM:-0700
TZOFFSETTO:-0800
TZNAME:America/Tijuana PST
END:STANDARD
BEGIN:STANDARD
DTSTART:20221106T010000
RDATE:20230312T030000
TZOFFSETFROM:-0700
TZOFFSETTO:-0800
TZNAME:America/Tijuana PST
END:STANDARD
BEGIN:STANDARD
DTSTART:20231105T010000
RDATE:20240310T030000
TZOFFSETFROM:-0700
TZOFFSETTO:-0800
TZNAME:America/Tijuana PST
END:STANDARD
BEGIN:STANDARD
DTSTART:20241103T010000
RDATE:20250309T030000
TZOFFSETFROM:-0700
TZOFFSETTO:-0800
TZNAME:America/Tijuana PST
END:STANDARD
BEGIN:STANDARD
DTSTART:20251102T010000
RDATE:20260308T030000
TZOFFSETFROM:-0700
TZOFFSETTO:-0800
TZNAME:America/Tijuana PST
END:STANDARD
BEGIN:STANDARD
DTSTART:20261101T010000
RDATE:20270314T030000
TZOFFSETFROM:-0700
TZOFFSETTO:-0800
TZNAME:America/Tijuana PST
END:STANDARD
BEGIN:STANDARD
DTSTART:20271107T010000
RDATE:20280312T030000
TZOFFSETFROM:-0700
TZOFFSETTO:-0800
TZNAME:America/Tijuana PST
END:STANDARD
BEGIN:DAYLIGHT
DTSTART:20201015T100000
RDATE:20201101T010000
TZOFFSETFROM:-0800
TZOFFSETTO:-0700
TZNAME:America/Tijuana PDT
END:DAYLIGHT
BEGIN:DAYLIGHT
DTSTART:20210314T030000
RDATE:20211107T010000
TZOFFSETFROM:-0800
TZOFFSETTO:-0700
TZNAME:America/Tijuana PDT
END:DAYLIGHT
BEGIN:DAYLIGHT
DTSTART:20220313T030000
RDATE:20221106T010000
TZOFFSETFROM:-0800
TZOFFSETTO:-0700
TZNAME:America/Tijuana PDT
END:DAYLIGHT
BEGIN:DAYLIGHT
DTSTART:20230312T030000
RDATE:20231105T010000
TZOFFSETFROM:-0800
TZOFFSETTO:-0700
TZNAME:America/Tijuana PDT
END:DAYLIGHT
BEGIN:DAYLIGHT
DTSTART:20240310T030000
RDATE:20241103T010000
TZOFFSETFROM:-0800
TZOFFSETTO:-0700
TZNAME:America/Tijuana PDT
END:DAYLIGHT
BEGIN:DAYLIGHT
DTSTART:20250309T030000
RDATE:20251102T010000
TZOFFSETFROM:-0800
TZOFFSETTO:-0700
TZNAME:America/Tijuana PDT
END:DAYLIGHT
BEGIN:DAYLIGHT
DTSTART:20260308T030000
RDATE:20261101T010000
TZOFFSETFROM:-0800
TZOFFSETTO:-0700
TZNAME:America/Tijuana PDT
END:DAYLIGHT
BEGIN:DAYLIGHT
DTSTART:20270314T030000
RDATE:20271107T010000
TZOFFSETFROM:-0800
TZOFFSETTO:-0700
TZNAME:America/Tijuana PDT
END:DAYLIGHT
END:VTIMEZONE
BEGIN:VEVENT
UID:9e6aa9c6959c9559790b7a1233f0de39
CATEGORIES:Field Trips
CREATED:20210820T170716
SUMMARY:Martial Cottle Park Master Gardeners’ Tour (San Jose)
LOCATION:Martial Cottle Park (San Jose)
DESCRIPTION:Join Ron Horii for a tour of the UC Master Gardeners’ Martial Cottle Park D
 emonstration Gardens and Community Education Center. The 4-acre parcel with
 in the 287-acre park contains native plant, pollinator and drought- toleran
 t gardens.\nVolunteers will be available to answer questions and will give 
 us a tour of their native plant garden. Learn about gardening techniques, p
 lant species, composting, water- wise irrigation and more. Afterwards, we c
 an see the 900- foot long native plant hedgerow planted along the edge of t
 he park.\nLater options are to see Our City Forest’s parcel with its native
  plant garden, see the park’s visitor center with its historic and nature d
 isplays or have a picnic in the park. For those who want to get some exerci
 se, the park has 3 miles of paved, flat trails.\nBring a hat, as there’s no
 t much shade. Water and restrooms are available within walking distance.\nS
 pace is limited. No drop-ins. RSVP is required on Meetup: www.meetup.com/Ca
 lifornia-Native-Plant-Society-Santa-Clara-Valley-Chapter (https://www.meetu
 p.com/California-Native-Plant-Society-Santa-Clara-Valley-Chapter). Families
  are welcome.\nFor more information, email Ron at This email address is bei
 ng protected from spambots. You need JavaScript enabled to view it.
				doc
 ument.getElementById('cloak9c9ed08d03e237b545b031600da1e4d0').innerHTML = '
 ';
				var prefix = '&amp;#109;a' + 'i&amp;#108;' + '&amp;#116;o';
				var 
 path = 'hr' + 'ef' + '=';
				var addy9c9ed08d03e237b545b031600da1e4d0 = 'r
 h&amp;#111;r&amp;#105;&amp;#105;' + '&amp;#64;';
				addy9c9ed08d03e237b545
 b031600da1e4d0 = addy9c9ed08d03e237b545b031600da1e4d0 + 'pr&amp;#111;d&amp;
 #105;gy' + '&amp;#46;' + 'n&amp;#101;t';
				var addy_text9c9ed08d03e237b54
 5b031600da1e4d0 = 'rh&amp;#111;r&amp;#105;&amp;#105;' + '&amp;#64;' + 'pr&a
 mp;#111;d&amp;#105;gy' + '&amp;#46;' + 'n&amp;#101;t';document.getElementBy
 Id('cloak9c9ed08d03e237b545b031600da1e4d0').innerHTML += '&lt;a ' + path + 
 '\'' + prefix + ':' + addy9c9ed08d03e237b545b031600da1e4d0 + '\'&gt;'+addy_
 text9c9ed08d03e237b545b031600da1e4d0+'&lt;\/a&gt;';
		. (mailto:rhorii@prod
 igy.net.) Or see his photos of the Master Gardeners’ parcel taken on Octobe
 r 15, 2019 during the park's Fall Festival: tinyurl.com/y6som7we (tinyurl.c
 om/y6som7we). For a look at the same garden in the spring of 2019, see tiny
 url.com/y28gdtdx (tinyurl.com/y28gdtdx).\nDirections to the trailhead, at t
 he Master Gardeners’ entrance to the park off Chynoweth Ave., are on the Me
 etup page.\n
X-ALT-DESC;FMTTYPE=text/html:<div class="page" title="Page 10"><div class="layoutArea"><div class="colum
 n"><p>Join Ron Horii for a tour of the UC Master Gardeners’ Martial Cottle 
 Park Demonstration Gardens and Community Education Center. The 4-acre parce
 l within the 287-acre park contains native plant, pollinator and drought- t
 olerant gardens.</p><p>Volunteers will be available to answer questions and
  will give us a tour of their native plant garden. Learn about gardening te
 chniques, plant species, composting, water- wise irrigation and more. After
 wards, we can see the 900- foot long native plant hedgerow planted along th
 e edge of the park.</p><p>Later options are to see Our City Forest’s parcel
  with its native plant garden, see the park’s visitor center with its histo
 ric and nature displays or have a picnic in the park. For those who want to
  get some exercise, the park has 3 miles of paved, flat trails.</p><p>Bring
  a hat, as there’s not much shade. Water and restrooms are available within
  walking distance.</p><p>Space is limited. No drop-ins. RSVP is required on
  Meetup: <a href="https://www.meetup.com/California-Native-Plant-Society-Sa
 nta-Clara-Valley-Chapter">www.meetup.com/California-Native-Plant-Society-Sa
 nta-Clara-Valley-Chapter</a>. Families are welcome.</p><p>For more informat
 ion, email Ron at <a href="mailto:rhorii@prodigy.net."><span id="cloak9c9ed
 08d03e237b545b031600da1e4d0">This email address is being protected from spa
 mbots. You need JavaScript enabled to view it.</span><script type='text/jav
 ascript'>
				document.getElementById('cloak9c9ed08d03e237b545b031600da1e4d
 0').innerHTML = '';
				var prefix = '&#109;a' + 'i&#108;' + '&#116;o';
			
 	var path = 'hr' + 'ef' + '=';
				var addy9c9ed08d03e237b545b031600da1e4d0
  = 'rh&#111;r&#105;&#105;' + '&#64;';
				addy9c9ed08d03e237b545b031600da1e
 4d0 = addy9c9ed08d03e237b545b031600da1e4d0 + 'pr&#111;d&#105;gy' + '&#46;' 
 + 'n&#101;t';
				var addy_text9c9ed08d03e237b545b031600da1e4d0 = 'rh&#111;
 r&#105;&#105;' + '&#64;' + 'pr&#111;d&#105;gy' + '&#46;' + 'n&#101;t';docum
 ent.getElementById('cloak9c9ed08d03e237b545b031600da1e4d0').innerHTML += '<
 a ' + path + '\'' + prefix + ':' + addy9c9ed08d03e237b545b031600da1e4d0 + '
 \'>'+addy_text9c9ed08d03e237b545b031600da1e4d0+'<\/a>';
		</script>.</a> Or
  see his photos of the Master Gardeners’ parcel taken on October 15, 2019 d
 uring the park's Fall Festival: <a href="https://www.cnps-scv.org/tinyurl.c
 om/y6som7we">tinyurl.com/y6som7we</a>. For a look at the same garden in the
  spring of 2019, see <a href="https://www.cnps-scv.org/tinyurl.com/y28gdtdx
 ">tinyurl.com/y28gdtdx</a>.</p><p>Directions to the trailhead, at the Maste
 r Gardeners’ entrance to the park off Chynoweth Ave., are on the Meetup pag
 e.</p></div></div></div>
DTSTAMP:20260420T034506
DTSTART;TZID=America/Tijuana:20211016T100000
DTEND;TZID=America/Tijuana:20211016T120000
SEQUENCE:0
TRANSP:OPAQUE
END:VEVENT
END:VCALENDAR