BEGIN:VCALENDAR
VERSION:2.0
PRODID:-//jEvents 2.0 for Joomla//EN
CALSCALE:GREGORIAN
METHOD:PUBLISH
BEGIN:VTIMEZONE
TZID:America/Tijuana
BEGIN:STANDARD
DTSTART:20201101T010000
RDATE:20210314T030000
TZOFFSETFROM:-0700
TZOFFSETTO:-0800
TZNAME:America/Tijuana PST
END:STANDARD
BEGIN:STANDARD
DTSTART:20211107T010000
RDATE:20220313T030000
TZOFFSETFROM:-0700
TZOFFSETTO:-0800
TZNAME:America/Tijuana PST
END:STANDARD
BEGIN:STANDARD
DTSTART:20221106T010000
RDATE:20230312T030000
TZOFFSETFROM:-0700
TZOFFSETTO:-0800
TZNAME:America/Tijuana PST
END:STANDARD
BEGIN:STANDARD
DTSTART:20231105T010000
RDATE:20240310T030000
TZOFFSETFROM:-0700
TZOFFSETTO:-0800
TZNAME:America/Tijuana PST
END:STANDARD
BEGIN:STANDARD
DTSTART:20241103T010000
RDATE:20250309T030000
TZOFFSETFROM:-0700
TZOFFSETTO:-0800
TZNAME:America/Tijuana PST
END:STANDARD
BEGIN:STANDARD
DTSTART:20251102T010000
RDATE:20260308T030000
TZOFFSETFROM:-0700
TZOFFSETTO:-0800
TZNAME:America/Tijuana PST
END:STANDARD
BEGIN:STANDARD
DTSTART:20261101T010000
RDATE:20270314T030000
TZOFFSETFROM:-0700
TZOFFSETTO:-0800
TZNAME:America/Tijuana PST
END:STANDARD
BEGIN:STANDARD
DTSTART:20271107T010000
RDATE:20280312T030000
TZOFFSETFROM:-0700
TZOFFSETTO:-0800
TZNAME:America/Tijuana PST
END:STANDARD
BEGIN:DAYLIGHT
DTSTART:20200918T090000
RDATE:20201101T010000
TZOFFSETFROM:-0800
TZOFFSETTO:-0700
TZNAME:America/Tijuana PDT
END:DAYLIGHT
BEGIN:DAYLIGHT
DTSTART:20210314T030000
RDATE:20211107T010000
TZOFFSETFROM:-0800
TZOFFSETTO:-0700
TZNAME:America/Tijuana PDT
END:DAYLIGHT
BEGIN:DAYLIGHT
DTSTART:20220313T030000
RDATE:20221106T010000
TZOFFSETFROM:-0800
TZOFFSETTO:-0700
TZNAME:America/Tijuana PDT
END:DAYLIGHT
BEGIN:DAYLIGHT
DTSTART:20230312T030000
RDATE:20231105T010000
TZOFFSETFROM:-0800
TZOFFSETTO:-0700
TZNAME:America/Tijuana PDT
END:DAYLIGHT
BEGIN:DAYLIGHT
DTSTART:20240310T030000
RDATE:20241103T010000
TZOFFSETFROM:-0800
TZOFFSETTO:-0700
TZNAME:America/Tijuana PDT
END:DAYLIGHT
BEGIN:DAYLIGHT
DTSTART:20250309T030000
RDATE:20251102T010000
TZOFFSETFROM:-0800
TZOFFSETTO:-0700
TZNAME:America/Tijuana PDT
END:DAYLIGHT
BEGIN:DAYLIGHT
DTSTART:20260308T030000
RDATE:20261101T010000
TZOFFSETFROM:-0800
TZOFFSETTO:-0700
TZNAME:America/Tijuana PDT
END:DAYLIGHT
BEGIN:DAYLIGHT
DTSTART:20270314T030000
RDATE:20271107T010000
TZOFFSETFROM:-0800
TZOFFSETTO:-0700
TZNAME:America/Tijuana PDT
END:DAYLIGHT
END:VTIMEZONE
BEGIN:VEVENT
UID:a02816d841b7ed7fd414dfde2bdce7ce
CATEGORIES:Field Trips
CREATED:20210820T165511
SUMMARY:Beginner’s Bird and Plant ID Walk at Lake Cunningham Park (San Jose)
LOCATION:Lake Cunningham Park (San Jose)
DESCRIPTION:<div class="page" title="Page 9"><div class="layoutArea"><div class="column
 "><p>As fall begins, join us as we resume our First Day of the Season begin
 ner’s bird and plant identification walks through Lake Cunningham Park. The
  lake is a major destination for waterfowl and migratory birds, and the par
 k’s native garden draws many birds for its habitat value. On this walk, Vic
 ki Silvas-Young will show you how to identify the common birds of our area,
  as well as the native plants they depend on for food, shelter and nesting 
 places.</p><p>The distance will be 4 miles round-trip on a level path. Brin
 g a hat, water, your plant and bird lists and binoculars. Wear comfortable 
 walking shoes. Parking fee is $6.</p><p>Space is limited. No drop-ins. RSVP
  is required on Meetup: <a href="https://www.meetup.com/California-Native-P
 lant-Society-Santa-Clara-Valley-Chapter">www.meetup.com/California-Native-P
 lant-Society-Santa-Clara-Valley-Chapter</a>. This walk is organized jointly
  by CNPS, Santa Clara Valley Audubon Society and Santa Clara Valley Open Sp
 ace Authority.</p><p>Directions to the trailhead are on the Meetup page.</p
 ></div></div></div>
DTSTAMP:20260422T165421
DTSTART;TZID=America/Tijuana:20210919T090000
DTEND;TZID=America/Tijuana:20210919T120000
SEQUENCE:0
TRANSP:OPAQUE
END:VEVENT
END:VCALENDAR