BEGIN:VCALENDAR
VERSION:2.0
PRODID:-//jEvents 2.0 for Joomla//EN
CALSCALE:GREGORIAN
METHOD:PUBLISH
BEGIN:VTIMEZONE
TZID:America/Tijuana
BEGIN:STANDARD
DTSTART:20201101T010000
RDATE:20210314T030000
TZOFFSETFROM:-0700
TZOFFSETTO:-0800
TZNAME:America/Tijuana PST
END:STANDARD
BEGIN:STANDARD
DTSTART:20211107T010000
RDATE:20220313T030000
TZOFFSETFROM:-0700
TZOFFSETTO:-0800
TZNAME:America/Tijuana PST
END:STANDARD
BEGIN:STANDARD
DTSTART:20221106T010000
RDATE:20230312T030000
TZOFFSETFROM:-0700
TZOFFSETTO:-0800
TZNAME:America/Tijuana PST
END:STANDARD
BEGIN:STANDARD
DTSTART:20231105T010000
RDATE:20240310T030000
TZOFFSETFROM:-0700
TZOFFSETTO:-0800
TZNAME:America/Tijuana PST
END:STANDARD
BEGIN:STANDARD
DTSTART:20241103T010000
RDATE:20250309T030000
TZOFFSETFROM:-0700
TZOFFSETTO:-0800
TZNAME:America/Tijuana PST
END:STANDARD
BEGIN:STANDARD
DTSTART:20251102T010000
RDATE:20260308T030000
TZOFFSETFROM:-0700
TZOFFSETTO:-0800
TZNAME:America/Tijuana PST
END:STANDARD
BEGIN:STANDARD
DTSTART:20261101T010000
RDATE:20270314T030000
TZOFFSETFROM:-0700
TZOFFSETTO:-0800
TZNAME:America/Tijuana PST
END:STANDARD
BEGIN:STANDARD
DTSTART:20271107T010000
RDATE:20280312T030000
TZOFFSETFROM:-0700
TZOFFSETTO:-0800
TZNAME:America/Tijuana PST
END:STANDARD
BEGIN:DAYLIGHT
DTSTART:20201005T193000
RDATE:20201101T010000
TZOFFSETFROM:-0800
TZOFFSETTO:-0700
TZNAME:America/Tijuana PDT
END:DAYLIGHT
BEGIN:DAYLIGHT
DTSTART:20210314T030000
RDATE:20211107T010000
TZOFFSETFROM:-0800
TZOFFSETTO:-0700
TZNAME:America/Tijuana PDT
END:DAYLIGHT
BEGIN:DAYLIGHT
DTSTART:20220313T030000
RDATE:20221106T010000
TZOFFSETFROM:-0800
TZOFFSETTO:-0700
TZNAME:America/Tijuana PDT
END:DAYLIGHT
BEGIN:DAYLIGHT
DTSTART:20230312T030000
RDATE:20231105T010000
TZOFFSETFROM:-0800
TZOFFSETTO:-0700
TZNAME:America/Tijuana PDT
END:DAYLIGHT
BEGIN:DAYLIGHT
DTSTART:20240310T030000
RDATE:20241103T010000
TZOFFSETFROM:-0800
TZOFFSETTO:-0700
TZNAME:America/Tijuana PDT
END:DAYLIGHT
BEGIN:DAYLIGHT
DTSTART:20250309T030000
RDATE:20251102T010000
TZOFFSETFROM:-0800
TZOFFSETTO:-0700
TZNAME:America/Tijuana PDT
END:DAYLIGHT
BEGIN:DAYLIGHT
DTSTART:20260308T030000
RDATE:20261101T010000
TZOFFSETFROM:-0800
TZOFFSETTO:-0700
TZNAME:America/Tijuana PDT
END:DAYLIGHT
BEGIN:DAYLIGHT
DTSTART:20270314T030000
RDATE:20271107T010000
TZOFFSETFROM:-0800
TZOFFSETTO:-0700
TZNAME:America/Tijuana PDT
END:DAYLIGHT
END:VTIMEZONE
BEGIN:VEVENT
UID:e9736d8388e07c528747924e0237d2a4
CATEGORIES:Native Plant Talks
CREATED:20210820T164328
SUMMARY: Maintaining Your Late Summer / Fall Native Plant Garden
LOCATION:Zoom registration: bit.ly/cnpsscv-20211006
DESCRIPTION:<div class="page" title="Page 3"><div class="layoutArea"><div class="column
 "><p>Late summer and fall are a time of rest for most native plant gardens.
  As we hope for rain, it is the time to tidy the garden and prune in prepar
 ation for cooler temperatures. Stephanie Morris, Lior Dahan, Patricia Evans
  and Madeline Morrow will share their garden maintenance routines. Bring yo
 ur questions and any ideas you may want to share with others during a group
  discussion.</p><p>Stephanie Morris is a landscape architect with a focus o
 n native plant designs that respond to aesthetics, functionality and ecolog
 y. Lior Dahan has a degree in environmental&nbsp;horticulture and owns Rhyt
 hmic Gardening, an ecological garden maintenance company with a focus on wo
 rking with nature to heal soil, grow healthy plants and appreciate the wild
 life in our gardens. Patricia Evans, owner of Natural Landscape Design, spe
 cializes in native plants and sustainable landscaping. Madeline Morrow is a
  past President of our CNPS Chapter and current board member. Her garden wa
 s featured in Bay Nature magazine in March 2013 and has been on the Growing
  Natives Garden Tour for many years.</p><div class="page" title="Page 3"><d
 iv class="layoutArea"><div class="column"><p>Zoom registration: <a href="ht
 tps://bit.ly/cnpsscv-20211006">bit.ly/cnpsscv-20211006</a></p></div></div><
 /div><div class="page" title="Page 3">&nbsp;</div></div></div></div>
DTSTAMP:20260425T232333
DTSTART;TZID=America/Tijuana:20211006T193000
DTEND;TZID=America/Tijuana:20211006T210000
SEQUENCE:0
TRANSP:OPAQUE
END:VEVENT
END:VCALENDAR