BEGIN:VCALENDAR
VERSION:2.0
PRODID:-//jEvents 2.0 for Joomla//EN
CALSCALE:GREGORIAN
METHOD:PUBLISH
BEGIN:VTIMEZONE
TZID:America/Tijuana
BEGIN:STANDARD
DTSTART:20201101T010000
RDATE:20210314T030000
TZOFFSETFROM:-0700
TZOFFSETTO:-0800
TZNAME:America/Tijuana PST
END:STANDARD
BEGIN:STANDARD
DTSTART:20211107T010000
RDATE:20220313T030000
TZOFFSETFROM:-0700
TZOFFSETTO:-0800
TZNAME:America/Tijuana PST
END:STANDARD
BEGIN:STANDARD
DTSTART:20221106T010000
RDATE:20230312T030000
TZOFFSETFROM:-0700
TZOFFSETTO:-0800
TZNAME:America/Tijuana PST
END:STANDARD
BEGIN:STANDARD
DTSTART:20231105T010000
RDATE:20240310T030000
TZOFFSETFROM:-0700
TZOFFSETTO:-0800
TZNAME:America/Tijuana PST
END:STANDARD
BEGIN:STANDARD
DTSTART:20241103T010000
RDATE:20250309T030000
TZOFFSETFROM:-0700
TZOFFSETTO:-0800
TZNAME:America/Tijuana PST
END:STANDARD
BEGIN:STANDARD
DTSTART:20251102T010000
RDATE:20260308T030000
TZOFFSETFROM:-0700
TZOFFSETTO:-0800
TZNAME:America/Tijuana PST
END:STANDARD
BEGIN:STANDARD
DTSTART:20261101T010000
RDATE:20270314T030000
TZOFFSETFROM:-0700
TZOFFSETTO:-0800
TZNAME:America/Tijuana PST
END:STANDARD
BEGIN:STANDARD
DTSTART:20271107T010000
RDATE:20280312T030000
TZOFFSETFROM:-0700
TZOFFSETTO:-0800
TZNAME:America/Tijuana PST
END:STANDARD
BEGIN:DAYLIGHT
DTSTART:20200831T193000
RDATE:20201101T010000
TZOFFSETFROM:-0800
TZOFFSETTO:-0700
TZNAME:America/Tijuana PDT
END:DAYLIGHT
BEGIN:DAYLIGHT
DTSTART:20210314T030000
RDATE:20211107T010000
TZOFFSETFROM:-0800
TZOFFSETTO:-0700
TZNAME:America/Tijuana PDT
END:DAYLIGHT
BEGIN:DAYLIGHT
DTSTART:20220313T030000
RDATE:20221106T010000
TZOFFSETFROM:-0800
TZOFFSETTO:-0700
TZNAME:America/Tijuana PDT
END:DAYLIGHT
BEGIN:DAYLIGHT
DTSTART:20230312T030000
RDATE:20231105T010000
TZOFFSETFROM:-0800
TZOFFSETTO:-0700
TZNAME:America/Tijuana PDT
END:DAYLIGHT
BEGIN:DAYLIGHT
DTSTART:20240310T030000
RDATE:20241103T010000
TZOFFSETFROM:-0800
TZOFFSETTO:-0700
TZNAME:America/Tijuana PDT
END:DAYLIGHT
BEGIN:DAYLIGHT
DTSTART:20250309T030000
RDATE:20251102T010000
TZOFFSETFROM:-0800
TZOFFSETTO:-0700
TZNAME:America/Tijuana PDT
END:DAYLIGHT
BEGIN:DAYLIGHT
DTSTART:20260308T030000
RDATE:20261101T010000
TZOFFSETFROM:-0800
TZOFFSETTO:-0700
TZNAME:America/Tijuana PDT
END:DAYLIGHT
BEGIN:DAYLIGHT
DTSTART:20270314T030000
RDATE:20271107T010000
TZOFFSETFROM:-0800
TZOFFSETTO:-0700
TZNAME:America/Tijuana PDT
END:DAYLIGHT
END:VTIMEZONE
BEGIN:VEVENT
UID:0805359273e384d8ec69ff02a5b52462
CATEGORIES:Native Plant Talks
CREATED:20210820T162201
SUMMARY: How to Attract Wild Birds to your Garden
LOCATION:Zoom registration: bit.ly/cnpsscv-20210901
DESCRIPTION:<div class="page" title="Page 2"><div class="layoutArea"><div class="column
 "><p>Birds have evolved to live in specific habitats and eat specific food 
 items, from seeds and nectar to bugs and mammals. We will talk about what p
 eople can do to attract more birds to their gardens and how to provide the 
 ideal environment for their wild birds to thrive. A native plant garden is 
 exactly what native birds would prefer. Lisa will talk about the different 
 bird species that are most commonly found in our&nbsp;neighborhoods, the ti
 me of year we can expect them and what resources are available to help you 
 identify your birds.</p><p>Lisa Myers took her passion for bird watching an
 d created her business “Let’s Go Birding,” where for decades she has led bi
 rd tours and taught birding classes throughout the Bay Area and beyond. She
  also owns the Los Gatos Birdwatcher where she and her staff answer custome
 r questions about the birds in their gardens and how best to attract them.<
 /p><div class="page" title="Page 2"><div class="layoutArea"><div class="col
 umn"><p>Zoom registration: <a href="bit.ly/cnpsscv-20210901">bit.ly/cnpsscv
 -20210901</a></p></div></div></div></div></div></div>
X-ALT-DESC;FMTTYPE=text/html:<div class="page" title="Page 2"><div class="layoutArea"><div class="column
 "><p>Birds have evolved to live in specific habitats and eat specific food 
 items, from seeds and nectar to bugs and mammals. We will talk about what p
 eople can do to attract more birds to their gardens and how to provide the 
 ideal environment for their wild birds to thrive. A native plant garden is 
 exactly what native birds would prefer. Lisa will talk about the different 
 bird species that are most commonly found in our&nbsp;neighborhoods, the ti
 me of year we can expect them and what resources are available to help you 
 identify your birds.</p><p>Lisa Myers took her passion for bird watching an
 d created her business “Let’s Go Birding,” where for decades she has led bi
 rd tours and taught birding classes throughout the Bay Area and beyond. She
  also owns the Los Gatos Birdwatcher where she and her staff answer custome
 r questions about the birds in their gardens and how best to attract them.<
 /p><div class="page" title="Page 2"><div class="layoutArea"><div class="col
 umn"><p>Zoom registration: <a href="https://www.cnps-scv.org/bit.ly/cnpsscv
 -20210901">bit.ly/cnpsscv-20210901</a></p></div></div></div></div></div></d
 iv>
DTSTAMP:20260425T014631
DTSTART;TZID=America/Tijuana:20210901T193000
DTEND;TZID=America/Tijuana:20210901T210000
SEQUENCE:0
TRANSP:OPAQUE
END:VEVENT
END:VCALENDAR