BEGIN:VCALENDAR
VERSION:2.0
PRODID:-//jEvents 2.0 for Joomla//EN
CALSCALE:GREGORIAN
METHOD:PUBLISH
BEGIN:VTIMEZONE
TZID:America/Tijuana
BEGIN:STANDARD
DTSTART:20201101T010000
RDATE:20210314T030000
TZOFFSETFROM:-0700
TZOFFSETTO:-0800
TZNAME:America/Tijuana PST
END:STANDARD
BEGIN:STANDARD
DTSTART:20211107T010000
RDATE:20220313T030000
TZOFFSETFROM:-0700
TZOFFSETTO:-0800
TZNAME:America/Tijuana PST
END:STANDARD
BEGIN:STANDARD
DTSTART:20221106T010000
RDATE:20230312T030000
TZOFFSETFROM:-0700
TZOFFSETTO:-0800
TZNAME:America/Tijuana PST
END:STANDARD
BEGIN:STANDARD
DTSTART:20231105T010000
RDATE:20240310T030000
TZOFFSETFROM:-0700
TZOFFSETTO:-0800
TZNAME:America/Tijuana PST
END:STANDARD
BEGIN:STANDARD
DTSTART:20241103T010000
RDATE:20250309T030000
TZOFFSETFROM:-0700
TZOFFSETTO:-0800
TZNAME:America/Tijuana PST
END:STANDARD
BEGIN:STANDARD
DTSTART:20251102T010000
RDATE:20260308T030000
TZOFFSETFROM:-0700
TZOFFSETTO:-0800
TZNAME:America/Tijuana PST
END:STANDARD
BEGIN:STANDARD
DTSTART:20261101T010000
RDATE:20270314T030000
TZOFFSETFROM:-0700
TZOFFSETTO:-0800
TZNAME:America/Tijuana PST
END:STANDARD
BEGIN:STANDARD
DTSTART:20271107T010000
RDATE:20280312T030000
TZOFFSETFROM:-0700
TZOFFSETTO:-0800
TZNAME:America/Tijuana PST
END:STANDARD
BEGIN:DAYLIGHT
DTSTART:20200309T203000
RDATE:20201101T010000
TZOFFSETFROM:-0800
TZOFFSETTO:-0700
TZNAME:America/Tijuana PDT
END:DAYLIGHT
BEGIN:DAYLIGHT
DTSTART:20210314T030000
RDATE:20211107T010000
TZOFFSETFROM:-0800
TZOFFSETTO:-0700
TZNAME:America/Tijuana PDT
END:DAYLIGHT
BEGIN:DAYLIGHT
DTSTART:20220313T030000
RDATE:20221106T010000
TZOFFSETFROM:-0800
TZOFFSETTO:-0700
TZNAME:America/Tijuana PDT
END:DAYLIGHT
BEGIN:DAYLIGHT
DTSTART:20230312T030000
RDATE:20231105T010000
TZOFFSETFROM:-0800
TZOFFSETTO:-0700
TZNAME:America/Tijuana PDT
END:DAYLIGHT
BEGIN:DAYLIGHT
DTSTART:20240310T030000
RDATE:20241103T010000
TZOFFSETFROM:-0800
TZOFFSETTO:-0700
TZNAME:America/Tijuana PDT
END:DAYLIGHT
BEGIN:DAYLIGHT
DTSTART:20250309T030000
RDATE:20251102T010000
TZOFFSETFROM:-0800
TZOFFSETTO:-0700
TZNAME:America/Tijuana PDT
END:DAYLIGHT
BEGIN:DAYLIGHT
DTSTART:20260308T030000
RDATE:20261101T010000
TZOFFSETFROM:-0800
TZOFFSETTO:-0700
TZNAME:America/Tijuana PDT
END:DAYLIGHT
BEGIN:DAYLIGHT
DTSTART:20270314T030000
RDATE:20271107T010000
TZOFFSETFROM:-0800
TZOFFSETTO:-0700
TZNAME:America/Tijuana PDT
END:DAYLIGHT
END:VTIMEZONE
BEGIN:VEVENT
UID:53afebb64d4a9419571cde9d403b7a28
CATEGORIES:Native Plant Talks
CREATED:20210224T204703
SUMMARY: Growing and Appreciating California Succulents in Gardens and in the Wild
LOCATION:https://bit.ly/cnpsscv-20210310
DESCRIPTION:<div class="page" title="Page 2"><div class="layoutArea"><div class="column
 "><p>A few pieces of California native succulents from a CNPS wildflower sh
 ow prompted geologist and restorationist Paul Heiple to add many California
  natives to his large collection of “foreign” succulents. Soon he was deep 
 into dudleyas, sedums, lewisias, cacti and yuccas. Paul will share the exci
 tement of finding these beautiful plants in the wild and he will explain ho
 w he grows them.</p><p>Paul Heiple is the Grassroots Ecology Botanist Emeri
 tus. A retired petroleum geologist who spent his career exploring for oil i
 n the Williston Basin of North Dakota, he now focuses on the smaller landsc
 apes of Jasper Ridge and nearby Pearson-Arastradero Preserve and Edgewood P
 reserve. Paul has served as chair of the Conservation Committee of the Town
  of Portola Valley, co-chair of the San Mateo County Weed Management Area a
 nd as our Chapter’s Treasurer. He is active with the California&nbsp;Invasi
 ve Plant Council and mentors local Boy Scout troops. He also leads the long
 -running, effective weed warrior effort at Edgewood Park and Natural Preser
 ve, a famous serpentine grassland reserve near Redwood City.</p><div class=
 "page" title="Page 1"><div class="layoutArea"><div class="column"><p><stron
 g>How to attend</strong>: Most of our lectures take place Wednesday evening
  at 7:30pm. Our talks are live- streamed simultaneously to Zoom and YouTube
 . To view talks, watch our YouTube channel at <a href="https://www.youtube.
 com/c/CNPSSantaClaraValley">www.youtube.com/c/CNPSSantaClaraValley</a> (no 
 registration needed) or join on Zoom by registering at the Zoom link provid
 ed in each lecture’s description. Recordings of past talks can also be view
 ed on our YouTube channel.</p></div></div></div><div class="page" title="Pa
 ge 2">&nbsp;</div></div></div></div>
DTSTAMP:20260423T025511
DTSTART;TZID=America/Tijuana:20210310T193000
DTEND;TZID=America/Tijuana:20210310T210000
SEQUENCE:0
TRANSP:OPAQUE
END:VEVENT
END:VCALENDAR