BEGIN:VCALENDAR
VERSION:2.0
PRODID:-//jEvents 2.0 for Joomla//EN
CALSCALE:GREGORIAN
METHOD:PUBLISH
BEGIN:VTIMEZONE
TZID:America/Tijuana
BEGIN:STANDARD
DTSTART:20171222T090000
RDATE:20180311T030000
TZOFFSETFROM:-0700
TZOFFSETTO:-0800
TZNAME:America/Tijuana PST
END:STANDARD
BEGIN:STANDARD
DTSTART:20181104T010000
RDATE:20190310T030000
TZOFFSETFROM:-0700
TZOFFSETTO:-0800
TZNAME:America/Tijuana PST
END:STANDARD
BEGIN:STANDARD
DTSTART:20191103T010000
RDATE:20200308T030000
TZOFFSETFROM:-0700
TZOFFSETTO:-0800
TZNAME:America/Tijuana PST
END:STANDARD
BEGIN:STANDARD
DTSTART:20201101T010000
RDATE:20210314T030000
TZOFFSETFROM:-0700
TZOFFSETTO:-0800
TZNAME:America/Tijuana PST
END:STANDARD
BEGIN:STANDARD
DTSTART:20211107T010000
RDATE:20220313T030000
TZOFFSETFROM:-0700
TZOFFSETTO:-0800
TZNAME:America/Tijuana PST
END:STANDARD
BEGIN:STANDARD
DTSTART:20221106T010000
RDATE:20230312T030000
TZOFFSETFROM:-0700
TZOFFSETTO:-0800
TZNAME:America/Tijuana PST
END:STANDARD
BEGIN:STANDARD
DTSTART:20231105T010000
RDATE:20240310T030000
TZOFFSETFROM:-0700
TZOFFSETTO:-0800
TZNAME:America/Tijuana PST
END:STANDARD
BEGIN:STANDARD
DTSTART:20241103T010000
RDATE:20250309T030000
TZOFFSETFROM:-0700
TZOFFSETTO:-0800
TZNAME:America/Tijuana PST
END:STANDARD
BEGIN:STANDARD
DTSTART:20251102T010000
RDATE:20260308T030000
TZOFFSETFROM:-0700
TZOFFSETTO:-0800
TZNAME:America/Tijuana PST
END:STANDARD
BEGIN:STANDARD
DTSTART:20261101T010000
RDATE:20270314T030000
TZOFFSETFROM:-0700
TZOFFSETTO:-0800
TZNAME:America/Tijuana PST
END:STANDARD
BEGIN:STANDARD
DTSTART:20271107T010000
RDATE:20280312T030000
TZOFFSETFROM:-0700
TZOFFSETTO:-0800
TZNAME:America/Tijuana PST
END:STANDARD
BEGIN:DAYLIGHT
DTSTART:20180311T030000
RDATE:20181104T010000
TZOFFSETFROM:-0800
TZOFFSETTO:-0700
TZNAME:America/Tijuana PDT
END:DAYLIGHT
BEGIN:DAYLIGHT
DTSTART:20190310T030000
RDATE:20191103T010000
TZOFFSETFROM:-0800
TZOFFSETTO:-0700
TZNAME:America/Tijuana PDT
END:DAYLIGHT
BEGIN:DAYLIGHT
DTSTART:20200308T030000
RDATE:20201101T010000
TZOFFSETFROM:-0800
TZOFFSETTO:-0700
TZNAME:America/Tijuana PDT
END:DAYLIGHT
BEGIN:DAYLIGHT
DTSTART:20210314T030000
RDATE:20211107T010000
TZOFFSETFROM:-0800
TZOFFSETTO:-0700
TZNAME:America/Tijuana PDT
END:DAYLIGHT
BEGIN:DAYLIGHT
DTSTART:20220313T030000
RDATE:20221106T010000
TZOFFSETFROM:-0800
TZOFFSETTO:-0700
TZNAME:America/Tijuana PDT
END:DAYLIGHT
BEGIN:DAYLIGHT
DTSTART:20230312T030000
RDATE:20231105T010000
TZOFFSETFROM:-0800
TZOFFSETTO:-0700
TZNAME:America/Tijuana PDT
END:DAYLIGHT
BEGIN:DAYLIGHT
DTSTART:20240310T030000
RDATE:20241103T010000
TZOFFSETFROM:-0800
TZOFFSETTO:-0700
TZNAME:America/Tijuana PDT
END:DAYLIGHT
BEGIN:DAYLIGHT
DTSTART:20250309T030000
RDATE:20251102T010000
TZOFFSETFROM:-0800
TZOFFSETTO:-0700
TZNAME:America/Tijuana PDT
END:DAYLIGHT
BEGIN:DAYLIGHT
DTSTART:20260308T030000
RDATE:20261101T010000
TZOFFSETFROM:-0800
TZOFFSETTO:-0700
TZNAME:America/Tijuana PDT
END:DAYLIGHT
BEGIN:DAYLIGHT
DTSTART:20270314T030000
RDATE:20271107T010000
TZOFFSETFROM:-0800
TZOFFSETTO:-0700
TZNAME:America/Tijuana PDT
END:DAYLIGHT
END:VTIMEZONE
BEGIN:VEVENT
UID:df9585d77cb34681f7a73df76e03980f
CATEGORIES:Field Trips
CREATED:20181018T194658
SUMMARY:Beginner’s Bird and Plant ID Walk at Lake Cunningham (San Jose)
LOCATION:Lake Cunningham (San Jose)
DESCRIPTION:At the onset of winter, join us for a beginner’s bird and plant identificat
 ion walk through Lake Cunningham Park. The lake is a major destination for 
 waterfowl and migratory birds. The park’s native garden draws many birds fo
 r its habitat value. On this walk, Vicki Silvas-Young will show you how to 
 identify the common birds of our area, as well as the native plants they de
 pend on for food, shelter and nesting places.\nThe distance will be 4 miles
  round trip on a level path. Bring a hat, water, your plant and bird lists,
  and binoculars. Wear comfortable walking shoes. Parking fee is $6. \nSpace
  is limited. Please RSVP through the CNPS SCV Meetup site: www.meetup.com/C
 alifornia-Native-Plant- Society-Santa-Clara-Valley-Chapter. This walk is or
 ganized jointly by CNPS, Santa Clara Valley Audubon Society and Santa Clara
  Valley Open Space Authority. \n
X-ALT-DESC;FMTTYPE=text/html:<div class="page" title="Page 7"><div class="layoutArea"><div class="column
 "><p><span style="font-size: 11pt; font-family: TimesNewRoman;">At the onse
 t of winter, join us for a beginner’s bird and plant identification walk th
 rough Lake Cunningham Park. The lake is a major destination for waterfowl a
 nd migratory birds. The park’s native garden draws many birds for its habit
 at value. On this walk, Vicki Silvas-Young will show you how to identify th
 e common birds of our area, as well&nbsp;</span><span style="font-size: 11p
 t; font-family: TimesNewRoman;">as the native plants they depend on for foo
 d, shelter and nesting places.</span></p><div class="page" title="Page 7"><
 div class="layoutArea"><div class="column"><p><span style="font-size: 11pt;
  font-family: TimesNewRoman;">The distance will be 4 miles round trip on a 
 level path. Bring a hat, water, your plant and bird lists, and binoculars. 
 Wear comfortable walking shoes. Parking fee is $6. </span></p><p><span styl
 e="font-size: 11pt; font-family: TimesNewRoman;">Space is limited. Please <
 /span><span style="font-size: 11pt; font-family: 'TimesNewRoman,Bold';">RSV
 P </span><span style="font-size: 11pt; font-family: TimesNewRoman;">through
  the CNPS SCV Meetup site: </span><span style="font-size: 11pt; font-family
 : 'TimesNewRoman,Bold';">www.meetup.com/California-Native-Plant- Society-Sa
 nta-Clara-Valley-Chapter</span><span style="font-size: 11pt; font-family: T
 imesNewRoman;">. This walk is organized jointly by CNPS, Santa Clara Valley
  Audubon Society and Santa Clara Valley Open Space Authority. </span></p></
 div></div></div></div></div></div>
CONTACT:www.meetup.com/California-Native-Plant- Society-Santa-Clara-Valley-Chapter
DTSTAMP:20260423T232147
DTSTART;TZID=America/Tijuana:20181223T090000
DTEND;TZID=America/Tijuana:20181223T120000
SEQUENCE:0
TRANSP:OPAQUE
END:VEVENT
END:VCALENDAR