BEGIN:VCALENDAR
VERSION:2.0
PRODID:-//jEvents 2.0 for Joomla//EN
CALSCALE:GREGORIAN
METHOD:PUBLISH
BEGIN:VTIMEZONE
TZID:America/Tijuana
BEGIN:STANDARD
DTSTART:20171105T010000
RDATE:20180311T030000
TZOFFSETFROM:-0700
TZOFFSETTO:-0800
TZNAME:America/Tijuana PST
END:STANDARD
BEGIN:STANDARD
DTSTART:20181104T010000
RDATE:20190310T030000
TZOFFSETFROM:-0700
TZOFFSETTO:-0800
TZNAME:America/Tijuana PST
END:STANDARD
BEGIN:STANDARD
DTSTART:20191103T010000
RDATE:20200308T030000
TZOFFSETFROM:-0700
TZOFFSETTO:-0800
TZNAME:America/Tijuana PST
END:STANDARD
BEGIN:STANDARD
DTSTART:20201101T010000
RDATE:20210314T030000
TZOFFSETFROM:-0700
TZOFFSETTO:-0800
TZNAME:America/Tijuana PST
END:STANDARD
BEGIN:STANDARD
DTSTART:20211107T010000
RDATE:20220313T030000
TZOFFSETFROM:-0700
TZOFFSETTO:-0800
TZNAME:America/Tijuana PST
END:STANDARD
BEGIN:STANDARD
DTSTART:20221106T010000
RDATE:20230312T030000
TZOFFSETFROM:-0700
TZOFFSETTO:-0800
TZNAME:America/Tijuana PST
END:STANDARD
BEGIN:STANDARD
DTSTART:20231105T010000
RDATE:20240310T030000
TZOFFSETFROM:-0700
TZOFFSETTO:-0800
TZNAME:America/Tijuana PST
END:STANDARD
BEGIN:STANDARD
DTSTART:20241103T010000
RDATE:20250309T030000
TZOFFSETFROM:-0700
TZOFFSETTO:-0800
TZNAME:America/Tijuana PST
END:STANDARD
BEGIN:STANDARD
DTSTART:20251102T010000
RDATE:20260308T030000
TZOFFSETFROM:-0700
TZOFFSETTO:-0800
TZNAME:America/Tijuana PST
END:STANDARD
BEGIN:STANDARD
DTSTART:20261101T010000
RDATE:20270314T030000
TZOFFSETFROM:-0700
TZOFFSETTO:-0800
TZNAME:America/Tijuana PST
END:STANDARD
BEGIN:STANDARD
DTSTART:20271107T010000
RDATE:20280312T030000
TZOFFSETFROM:-0700
TZOFFSETTO:-0800
TZNAME:America/Tijuana PST
END:STANDARD
BEGIN:DAYLIGHT
DTSTART:20171012T090000
RDATE:20171105T010000
TZOFFSETFROM:-0800
TZOFFSETTO:-0700
TZNAME:America/Tijuana PDT
END:DAYLIGHT
BEGIN:DAYLIGHT
DTSTART:20180311T030000
RDATE:20181104T010000
TZOFFSETFROM:-0800
TZOFFSETTO:-0700
TZNAME:America/Tijuana PDT
END:DAYLIGHT
BEGIN:DAYLIGHT
DTSTART:20190310T030000
RDATE:20191103T010000
TZOFFSETFROM:-0800
TZOFFSETTO:-0700
TZNAME:America/Tijuana PDT
END:DAYLIGHT
BEGIN:DAYLIGHT
DTSTART:20200308T030000
RDATE:20201101T010000
TZOFFSETFROM:-0800
TZOFFSETTO:-0700
TZNAME:America/Tijuana PDT
END:DAYLIGHT
BEGIN:DAYLIGHT
DTSTART:20210314T030000
RDATE:20211107T010000
TZOFFSETFROM:-0800
TZOFFSETTO:-0700
TZNAME:America/Tijuana PDT
END:DAYLIGHT
BEGIN:DAYLIGHT
DTSTART:20220313T030000
RDATE:20221106T010000
TZOFFSETFROM:-0800
TZOFFSETTO:-0700
TZNAME:America/Tijuana PDT
END:DAYLIGHT
BEGIN:DAYLIGHT
DTSTART:20230312T030000
RDATE:20231105T010000
TZOFFSETFROM:-0800
TZOFFSETTO:-0700
TZNAME:America/Tijuana PDT
END:DAYLIGHT
BEGIN:DAYLIGHT
DTSTART:20240310T030000
RDATE:20241103T010000
TZOFFSETFROM:-0800
TZOFFSETTO:-0700
TZNAME:America/Tijuana PDT
END:DAYLIGHT
BEGIN:DAYLIGHT
DTSTART:20250309T030000
RDATE:20251102T010000
TZOFFSETFROM:-0800
TZOFFSETTO:-0700
TZNAME:America/Tijuana PDT
END:DAYLIGHT
BEGIN:DAYLIGHT
DTSTART:20260308T030000
RDATE:20261101T010000
TZOFFSETFROM:-0800
TZOFFSETTO:-0700
TZNAME:America/Tijuana PDT
END:DAYLIGHT
BEGIN:DAYLIGHT
DTSTART:20270314T030000
RDATE:20271107T010000
TZOFFSETFROM:-0800
TZOFFSETTO:-0700
TZNAME:America/Tijuana PDT
END:DAYLIGHT
END:VTIMEZONE
BEGIN:VEVENT
UID:2ba902642124b06982efdad65fa185c7
CATEGORIES:Field Trips
CREATED:20180817T064025
SUMMARY:October Native Plant Stroll (San Jose)
LOCATION:San Jose
DESCRIPTION:Join Patrick Pizzo and Vivian Neou for a tour of the native plant gardens i
 n Jeffrey Fontana Park and along Capitancillos Drive. These gardens provide
  beautiful examples of plants that do well in San Jose and look good even d
 uring our hottest months. Pat is the driving force behind both of these gar
 dens; you’ll hear about their evolution and learn from his experiences. Thi
 s is a great way to prepare for our fall plant sale the following weekend. 
 \nA description of the gardens and associated plant lists can be found at w
 ww.cnps-scv.org/fontana and /capitancillos.\n
X-ALT-DESC;FMTTYPE=text/html:<div class="page" title="Page 7"><div class="layoutArea"><div class="column
 "><p><span style="font-size: 11pt; font-family: TimesNewRoman;">Join Patric
 k Pizzo and Vivian Neou for a tour of the native plant gardens in Jeffrey F
 ontana Park and along Capitancillos Drive. These gardens provide beautiful 
 examples of plants that do well in San Jose and look good even during our h
 ottest months. Pat is the driving force behind both of these gardens; you’l
 l hear about their evolution and learn from his experiences. This is a grea
 t way to prepare for our fall plant sale the following weekend. </span></p>
 <div class="page" title="Page 7"><div class="layoutArea"><div class="column
 "><p><span style="font-size: 11pt; font-family: TimesNewRoman; color: #2222
 22;">A description of the gardens and associated plant lists can&nbsp;</spa
 n><span style="font-size: 11pt; font-family: TimesNewRoman; color: #222222;
 ">be found at </span><span style="font-size: 11pt; font-family: 'TimesNewRo
 man,Bold';">www.cnps-scv.org/fontana </span><span style="font-size: 11pt; f
 ont-family: TimesNewRoman;">and </span><span style="font-size: 11pt; font-f
 amily: 'TimesNewRoman,Bold';">/capitancillos</span><span style="font-size: 
 11pt; font-family: TimesNewRoman;">.</span></p></div></div></div></div></di
 v></div>
X-EXTRAINFO:Space is limited, so please reserve your spot by visiting Eventbrite here: 
 www.bit.ly/EB-onps. For more info., please contact Vivian at This email add
 ress is being protected from spambots. You need JavaScript enabled to view 
 it.
				document.getElementById('cloakbc81dfc1384104bc3ea293cd613e5c0f').in
 nerHTML = '';
				var prefix = '&#109;a' + 'i&#108;' + '&#116;o';
				var p
 ath = 'hr' + 'ef' + '=';
				var addybc81dfc1384104bc3ea293cd613e5c0f = 't&
 #101;chch&#97;&#105;r' + '&#64;';
				addybc81dfc1384104bc3ea293cd613e5c0f 
 = addybc81dfc1384104bc3ea293cd613e5c0f + 'cnps-scv' + '&#46;' + '&#111;rg';
 
				var addy_textbc81dfc1384104bc3ea293cd613e5c0f = 't&#101;chch&#97;&#105
 ;r' + '&#64;' + 'cnps-scv' + '&#46;' + '&#111;rg';document.getElementById('
 cloakbc81dfc1384104bc3ea293cd613e5c0f').innerHTML += '<a ' + path + '\'' + 
 prefix + ':' + addybc81dfc1384104bc3ea293cd613e5c0f + '\'>'+addy_textbc81df
 c1384104bc3ea293cd613e5c0f+'';
		.
DTSTAMP:20260419T145857
DTSTART;TZID=America/Tijuana:20181013T090000
DTEND;TZID=America/Tijuana:20181013T110000
SEQUENCE:0
TRANSP:OPAQUE
END:VEVENT
END:VCALENDAR