BEGIN:VCALENDAR
VERSION:2.0
PRODID:-//jEvents 2.0 for Joomla//EN
CALSCALE:GREGORIAN
METHOD:PUBLISH
BEGIN:VTIMEZONE
TZID:America/Tijuana
BEGIN:STANDARD
DTSTART:20171105T010000
RDATE:20180311T030000
TZOFFSETFROM:-0700
TZOFFSETTO:-0800
TZNAME:America/Tijuana PST
END:STANDARD
BEGIN:STANDARD
DTSTART:20181104T010000
RDATE:20190310T030000
TZOFFSETFROM:-0700
TZOFFSETTO:-0800
TZNAME:America/Tijuana PST
END:STANDARD
BEGIN:STANDARD
DTSTART:20191103T010000
RDATE:20200308T030000
TZOFFSETFROM:-0700
TZOFFSETTO:-0800
TZNAME:America/Tijuana PST
END:STANDARD
BEGIN:STANDARD
DTSTART:20201101T010000
RDATE:20210314T030000
TZOFFSETFROM:-0700
TZOFFSETTO:-0800
TZNAME:America/Tijuana PST
END:STANDARD
BEGIN:STANDARD
DTSTART:20211107T010000
RDATE:20220313T030000
TZOFFSETFROM:-0700
TZOFFSETTO:-0800
TZNAME:America/Tijuana PST
END:STANDARD
BEGIN:STANDARD
DTSTART:20221106T010000
RDATE:20230312T030000
TZOFFSETFROM:-0700
TZOFFSETTO:-0800
TZNAME:America/Tijuana PST
END:STANDARD
BEGIN:STANDARD
DTSTART:20231105T010000
RDATE:20240310T030000
TZOFFSETFROM:-0700
TZOFFSETTO:-0800
TZNAME:America/Tijuana PST
END:STANDARD
BEGIN:STANDARD
DTSTART:20241103T010000
RDATE:20250309T030000
TZOFFSETFROM:-0700
TZOFFSETTO:-0800
TZNAME:America/Tijuana PST
END:STANDARD
BEGIN:STANDARD
DTSTART:20251102T010000
RDATE:20260308T030000
TZOFFSETFROM:-0700
TZOFFSETTO:-0800
TZNAME:America/Tijuana PST
END:STANDARD
BEGIN:STANDARD
DTSTART:20261101T010000
RDATE:20270314T030000
TZOFFSETFROM:-0700
TZOFFSETTO:-0800
TZNAME:America/Tijuana PST
END:STANDARD
BEGIN:STANDARD
DTSTART:20271107T010000
RDATE:20280312T030000
TZOFFSETFROM:-0700
TZOFFSETTO:-0800
TZNAME:America/Tijuana PST
END:STANDARD
BEGIN:DAYLIGHT
DTSTART:20170803T080000
RDATE:20171105T010000
TZOFFSETFROM:-0800
TZOFFSETTO:-0700
TZNAME:America/Tijuana PDT
END:DAYLIGHT
BEGIN:DAYLIGHT
DTSTART:20180311T030000
RDATE:20181104T010000
TZOFFSETFROM:-0800
TZOFFSETTO:-0700
TZNAME:America/Tijuana PDT
END:DAYLIGHT
BEGIN:DAYLIGHT
DTSTART:20190310T030000
RDATE:20191103T010000
TZOFFSETFROM:-0800
TZOFFSETTO:-0700
TZNAME:America/Tijuana PDT
END:DAYLIGHT
BEGIN:DAYLIGHT
DTSTART:20200308T030000
RDATE:20201101T010000
TZOFFSETFROM:-0800
TZOFFSETTO:-0700
TZNAME:America/Tijuana PDT
END:DAYLIGHT
BEGIN:DAYLIGHT
DTSTART:20210314T030000
RDATE:20211107T010000
TZOFFSETFROM:-0800
TZOFFSETTO:-0700
TZNAME:America/Tijuana PDT
END:DAYLIGHT
BEGIN:DAYLIGHT
DTSTART:20220313T030000
RDATE:20221106T010000
TZOFFSETFROM:-0800
TZOFFSETTO:-0700
TZNAME:America/Tijuana PDT
END:DAYLIGHT
BEGIN:DAYLIGHT
DTSTART:20230312T030000
RDATE:20231105T010000
TZOFFSETFROM:-0800
TZOFFSETTO:-0700
TZNAME:America/Tijuana PDT
END:DAYLIGHT
BEGIN:DAYLIGHT
DTSTART:20240310T030000
RDATE:20241103T010000
TZOFFSETFROM:-0800
TZOFFSETTO:-0700
TZNAME:America/Tijuana PDT
END:DAYLIGHT
BEGIN:DAYLIGHT
DTSTART:20250309T030000
RDATE:20251102T010000
TZOFFSETFROM:-0800
TZOFFSETTO:-0700
TZNAME:America/Tijuana PDT
END:DAYLIGHT
BEGIN:DAYLIGHT
DTSTART:20260308T030000
RDATE:20261101T010000
TZOFFSETFROM:-0800
TZOFFSETTO:-0700
TZNAME:America/Tijuana PDT
END:DAYLIGHT
BEGIN:DAYLIGHT
DTSTART:20270314T030000
RDATE:20271107T010000
TZOFFSETFROM:-0800
TZOFFSETTO:-0700
TZNAME:America/Tijuana PDT
END:DAYLIGHT
END:VTIMEZONE
BEGIN:VEVENT
UID:2932a4eac50ed3b2eb40da363df6b7c8
CATEGORIES:Field Trips
CREATED:20180420T142003
SUMMARY:Mount Eddy and Russian Wilderness: Two Backpacking Trips in the Klamath Range
LOCATION:Klamath Range
DESCRIPTION:<div class="page" title="Page 9"><div class="layoutArea"><div class="column
 "><p><span style="font-size: 11pt; font-family: TimesNewRoman;">Join leader
 s Ken Himes and Joe Cernac backpacking&nbsp;3 miles into Dead Fall Lake to 
 set up camp. Over the next few days we’ll explore and botanize meadows and 
 the summit of Mt. Eddy (9,026 ft.) with various elevation changes. </span><
 /p><p><span style="font-size: 11pt; font-family: TimesNewRoman;">These trip
 s are for </span><span style="font-size: 11pt; font-family: 'TimesNewRoman,
 Bold';">CNPS members only</span><span style="font-size: 11pt; font-family: 
 TimesNewRoman;">, limited to 15 people each. Please note the elevation on b
 oth trips are well above 8,000 feet. These backpack trips are not suitable 
 for anyone with any health and/or altitude issues. </span></p><p><span styl
 e="font-size: 11pt; font-family: TimesNewRoman;">To </span><span style="fon
 t-size: 11pt; font-family: 'TimesNewRoman,Bold';">reserve your spot</span><
 span style="font-size: 11pt; font-family: TimesNewRoman;">, contact Dee Him
 es at <span id="cloak3006d1e1e7fff2332b412c87f9be0f03">This email address i
 s being protected from spambots. You need JavaScript enabled to view it.</s
 pan><script type='text/javascript'>
				document.getElementById('cloak3006d
 1e1e7fff2332b412c87f9be0f03').innerHTML = '';
				var prefix = '&#109;a' + 
 'i&#108;' + '&#116;o';
				var path = 'hr' + 'ef' + '=';
				var addy3006d1
 e1e7fff2332b412c87f9be0f03 = 'd&#101;&#101;4cnps' + '&#64;';
				addy3006d1
 e1e7fff2332b412c87f9be0f03 = addy3006d1e1e7fff2332b412c87f9be0f03 + 'gm&#97
 ;&#105;l' + '&#46;' + 'c&#111;m';
				var addy_text3006d1e1e7fff2332b412c87
 f9be0f03 = 'd&#101;&#101;4cnps' + '&#64;' + 'gm&#97;&#105;l' + '&#46;' + 'c
 &#111;m';document.getElementById('cloak3006d1e1e7fff2332b412c87f9be0f03').i
 nnerHTML += '<a ' + path + '\'' + prefix + ':' + addy3006d1e1e7fff2332b412c
 87f9be0f03 + '\'>'+addy_text3006d1e1e7fff2332b412c87f9be0f03+'<\/a>';
		</s
 cript> or call Ken Himes (650) 591-8560 or Joe Cernac (408) 292-5465 for mo
 re information. </span></p><div class="page" title="Page 9"><div class="lay
 outArea"><div class="column"><p><span style="font-size: 12pt; font-family: 
 'TimesNewRoman,Bold';">Trip #2, Aug 4-11: </span></p><p><span style="font-s
 ize: 11pt; font-family: TimesNewRoman;">Join us for a return trip to see se
 ven buckwheats, including the endangered </span><span style="font-size: 11p
 t; font-family: 'TimesNewRoman,Italic';">Eriogonum alpinum </span><span sty
 le="font-size: 11pt; font-family: TimesNewRoman;">(1B.2 listed) and </span>
 <span style="font-size: 11pt; font-family: 'TimesNewRoman,Italic';">E. sisk
 iyouense </span><span style="font-size: 11pt; font-family: TimesNewRoman;">
 (4.3 listed), to name a few at Mt. Eddy; and unusual plants such as Bunchbe
 rry (</span><span style="font-size: 11pt; font-family: 'TimesNewRoman,Itali
 c';">Cornus canadensis</span><span style="font-size: 11pt; font-family: Tim
 esNewRoman;">), and many Ericacious species, among them Western teaberry (<
 /span><span style="font-size: 11pt; font-family: 'TimesNewRoman,Italic';">G
 aultheria ovatifolia</span><span style="font-size: 11pt; font-family: Times
 NewRoman;">, and Sierra laurel (</span><span style="font-size: 11pt; font-f
 amily: 'TimesNewRoman,Italic';">Leucothoe davisiae</span><span style="font-
 size: 11pt; font-family: TimesNewRoman;">) in Russian Wilderness. </span></
 p></div></div></div><p><span style="font-size: 12pt; font-family: 'TimesNew
 Roman,Bold';"></span></p></div></div></div>
DTSTAMP:20260425T232342
DTSTART;TZID=America/Tijuana:20180804T080000
DTEND;TZID=America/Tijuana:20180811T170000
SEQUENCE:0
TRANSP:OPAQUE
END:VEVENT
END:VCALENDAR