BEGIN:VCALENDAR
VERSION:2.0
PRODID:-//jEvents 2.0 for Joomla//EN
CALSCALE:GREGORIAN
METHOD:PUBLISH
BEGIN:VTIMEZONE
TZID:America/Tijuana
BEGIN:STANDARD
DTSTART:20171105T010000
RDATE:20180311T030000
TZOFFSETFROM:-0700
TZOFFSETTO:-0800
TZNAME:America/Tijuana PST
END:STANDARD
BEGIN:STANDARD
DTSTART:20181104T010000
RDATE:20190310T030000
TZOFFSETFROM:-0700
TZOFFSETTO:-0800
TZNAME:America/Tijuana PST
END:STANDARD
BEGIN:STANDARD
DTSTART:20191103T010000
RDATE:20200308T030000
TZOFFSETFROM:-0700
TZOFFSETTO:-0800
TZNAME:America/Tijuana PST
END:STANDARD
BEGIN:STANDARD
DTSTART:20201101T010000
RDATE:20210314T030000
TZOFFSETFROM:-0700
TZOFFSETTO:-0800
TZNAME:America/Tijuana PST
END:STANDARD
BEGIN:STANDARD
DTSTART:20211107T010000
RDATE:20220313T030000
TZOFFSETFROM:-0700
TZOFFSETTO:-0800
TZNAME:America/Tijuana PST
END:STANDARD
BEGIN:STANDARD
DTSTART:20221106T010000
RDATE:20230312T030000
TZOFFSETFROM:-0700
TZOFFSETTO:-0800
TZNAME:America/Tijuana PST
END:STANDARD
BEGIN:STANDARD
DTSTART:20231105T010000
RDATE:20240310T030000
TZOFFSETFROM:-0700
TZOFFSETTO:-0800
TZNAME:America/Tijuana PST
END:STANDARD
BEGIN:STANDARD
DTSTART:20241103T010000
RDATE:20250309T030000
TZOFFSETFROM:-0700
TZOFFSETTO:-0800
TZNAME:America/Tijuana PST
END:STANDARD
BEGIN:STANDARD
DTSTART:20251102T010000
RDATE:20260308T030000
TZOFFSETFROM:-0700
TZOFFSETTO:-0800
TZNAME:America/Tijuana PST
END:STANDARD
BEGIN:STANDARD
DTSTART:20261101T010000
RDATE:20270314T030000
TZOFFSETFROM:-0700
TZOFFSETTO:-0800
TZNAME:America/Tijuana PST
END:STANDARD
BEGIN:STANDARD
DTSTART:20271107T010000
RDATE:20280312T030000
TZOFFSETFROM:-0700
TZOFFSETTO:-0800
TZNAME:America/Tijuana PST
END:STANDARD
BEGIN:DAYLIGHT
DTSTART:20170428T090000
RDATE:20171105T010000
TZOFFSETFROM:-0800
TZOFFSETTO:-0700
TZNAME:America/Tijuana PDT
END:DAYLIGHT
BEGIN:DAYLIGHT
DTSTART:20180311T030000
RDATE:20181104T010000
TZOFFSETFROM:-0800
TZOFFSETTO:-0700
TZNAME:America/Tijuana PDT
END:DAYLIGHT
BEGIN:DAYLIGHT
DTSTART:20190310T030000
RDATE:20191103T010000
TZOFFSETFROM:-0800
TZOFFSETTO:-0700
TZNAME:America/Tijuana PDT
END:DAYLIGHT
BEGIN:DAYLIGHT
DTSTART:20200308T030000
RDATE:20201101T010000
TZOFFSETFROM:-0800
TZOFFSETTO:-0700
TZNAME:America/Tijuana PDT
END:DAYLIGHT
BEGIN:DAYLIGHT
DTSTART:20210314T030000
RDATE:20211107T010000
TZOFFSETFROM:-0800
TZOFFSETTO:-0700
TZNAME:America/Tijuana PDT
END:DAYLIGHT
BEGIN:DAYLIGHT
DTSTART:20220313T030000
RDATE:20221106T010000
TZOFFSETFROM:-0800
TZOFFSETTO:-0700
TZNAME:America/Tijuana PDT
END:DAYLIGHT
BEGIN:DAYLIGHT
DTSTART:20230312T030000
RDATE:20231105T010000
TZOFFSETFROM:-0800
TZOFFSETTO:-0700
TZNAME:America/Tijuana PDT
END:DAYLIGHT
BEGIN:DAYLIGHT
DTSTART:20240310T030000
RDATE:20241103T010000
TZOFFSETFROM:-0800
TZOFFSETTO:-0700
TZNAME:America/Tijuana PDT
END:DAYLIGHT
BEGIN:DAYLIGHT
DTSTART:20250309T030000
RDATE:20251102T010000
TZOFFSETFROM:-0800
TZOFFSETTO:-0700
TZNAME:America/Tijuana PDT
END:DAYLIGHT
BEGIN:DAYLIGHT
DTSTART:20260308T030000
RDATE:20261101T010000
TZOFFSETFROM:-0800
TZOFFSETTO:-0700
TZNAME:America/Tijuana PDT
END:DAYLIGHT
BEGIN:DAYLIGHT
DTSTART:20270314T030000
RDATE:20271107T010000
TZOFFSETFROM:-0800
TZOFFSETTO:-0700
TZNAME:America/Tijuana PDT
END:DAYLIGHT
END:VTIMEZONE
BEGIN:VEVENT
UID:664c49fd55cc2708491cb6c97878e423
CATEGORIES:Field Trips
CREATED:20180215T164943
SUMMARY:Cañada de los Osos Ecological Reserve (Gilroy)
LOCATION:Cañada de los Osos Ecological Reserve (Gilroy)
DESCRIPTION:Join trip leader Lars Rosengreen, curator of the Carl W. Sharsmith Herbariu
 m at San Jose State University, in a tour of Cañada de los Osos Ecological
  Reserve. The 5,800-acre reserve has a mix of annual grassland, oak woodlan
 d, riparian, and chaparral plant communities with a large number of springs
  and ponds. Late April is prime wildflower season in the reserve and there 
 should be plenty of flowers to see and enjoy.\nCDLOER is managed by the Cal
 ifornia Department of Fish and Wildlife and is not normally open to the pub
 lic. We will explore different areas of the reserve both on foot and by tru
 ck (depending on road conditions) and also learn about some of the ongoing 
 restoration and research projects being conducted there.\nSpace is limited 
 to 15 – 20 people, for CNPS MEMBERS ONLY, and registration is required to a
 ttend. For more information and to reserve your spot, please email Lars at 
 This email address is being protected from spambots. You need JavaScript en
 abled to view it.
				document.getElementById('cloak4cdd64854cb18dc48da684f
 1076d37a8').innerHTML = '';
				var prefix = '&amp;#109;a' + 'i&amp;#108;' 
 + '&amp;#116;o';
				var path = 'hr' + 'ef' + '=';
				var addy4cdd64854cb1
 8dc48da684f1076d37a8 = 'l&amp;#97;rs.r&amp;#111;s&amp;#101;ngr&amp;#101;&am
 p;#101;n' + '&amp;#64;';
				addy4cdd64854cb18dc48da684f1076d37a8 = addy4cd
 d64854cb18dc48da684f1076d37a8 + 'sjs&amp;#117;' + '&amp;#46;' + '&amp;#101;
 d&amp;#117;';
				var addy_text4cdd64854cb18dc48da684f1076d37a8 = 'l&amp;#9
 7;rs.r&amp;#111;s&amp;#101;ngr&amp;#101;&amp;#101;n' + '&amp;#64;' + 'sjs&a
 mp;#117;' + '&amp;#46;' + '&amp;#101;d&amp;#117;';document.getElementById('
 cloak4cdd64854cb18dc48da684f1076d37a8').innerHTML += '&lt;a ' + path + '\''
  + prefix + ':' + addy4cdd64854cb18dc48da684f1076d37a8 + '\'&gt;'+addy_text
 4cdd64854cb18dc48da684f1076d37a8+'&lt;\/a&gt;';
		. (mailto:lars.rosengreen
 @sjsu.edu.)\n
X-ALT-DESC;FMTTYPE=text/html:<div class="page" title="Page 8"><div class="layoutArea"><div class="column
 "><p>Join trip leader Lars Rosengreen, curator of the Carl W. Sharsmith Her
 barium at San Jose State University, in a tour of Cañada de los Osos Ecolo
 gical Reserve. The 5,800-acre reserve has a mix of annual grassland, oak wo
 odland, riparian, and chaparral plant communities with a large number of sp
 rings and ponds. Late April is prime wildflower season in the reserve and t
 here should be plenty of flowers to see and enjoy.</p><p>CDLOER is managed 
 by the California Department of Fish and Wildlife and is not normally open 
 to the public. We will explore different areas of the reserve both on foot 
 and&nbsp;by truck (depending on road conditions) and also learn about some 
 of the ongoing restoration and research projects being conducted there.</p>
 <div class="page" title="Page 9"><div class="layoutArea"><div class="column
 "><p>Space is limited to 15 – 20 people, for CNPS MEMBERS ONLY, and registr
 ation is required to attend. For more information and to reserve your spot,
  please email Lars at <a href="mailto:lars.rosengreen@sjsu.edu."><span id="
 cloak4cdd64854cb18dc48da684f1076d37a8">This email address is being protecte
 d from spambots. You need JavaScript enabled to view it.</span><script type
 ='text/javascript'>
				document.getElementById('cloak4cdd64854cb18dc48da68
 4f1076d37a8').innerHTML = '';
				var prefix = '&#109;a' + 'i&#108;' + '&#1
 16;o';
				var path = 'hr' + 'ef' + '=';
				var addy4cdd64854cb18dc48da684
 f1076d37a8 = 'l&#97;rs.r&#111;s&#101;ngr&#101;&#101;n' + '&#64;';
				addy4
 cdd64854cb18dc48da684f1076d37a8 = addy4cdd64854cb18dc48da684f1076d37a8 + 's
 js&#117;' + '&#46;' + '&#101;d&#117;';
				var addy_text4cdd64854cb18dc48da
 684f1076d37a8 = 'l&#97;rs.r&#111;s&#101;ngr&#101;&#101;n' + '&#64;' + 'sjs&
 #117;' + '&#46;' + '&#101;d&#117;';document.getElementById('cloak4cdd64854c
 b18dc48da684f1076d37a8').innerHTML += '<a ' + path + '\'' + prefix + ':' + 
 addy4cdd64854cb18dc48da684f1076d37a8 + '\'>'+addy_text4cdd64854cb18dc48da68
 4f1076d37a8+'<\/a>';
		</script>.</a></p></div></div></div></div></div></di
 v>
DTSTAMP:20260422T135813
DTSTART;TZID=America/Tijuana:20180429T090000
DTEND;TZID=America/Tijuana:20180429T140000
SEQUENCE:0
TRANSP:OPAQUE
END:VEVENT
END:VCALENDAR