BEGIN:VCALENDAR
VERSION:2.0
PRODID:-//jEvents 2.0 for Joomla//EN
CALSCALE:GREGORIAN
METHOD:PUBLISH
BEGIN:VTIMEZONE
TZID:America/Tijuana
BEGIN:STANDARD
DTSTART:20171105T010000
RDATE:20180311T030000
TZOFFSETFROM:-0700
TZOFFSETTO:-0800
TZNAME:America/Tijuana PST
END:STANDARD
BEGIN:STANDARD
DTSTART:20181104T010000
RDATE:20190310T030000
TZOFFSETFROM:-0700
TZOFFSETTO:-0800
TZNAME:America/Tijuana PST
END:STANDARD
BEGIN:STANDARD
DTSTART:20191103T010000
RDATE:20200308T030000
TZOFFSETFROM:-0700
TZOFFSETTO:-0800
TZNAME:America/Tijuana PST
END:STANDARD
BEGIN:STANDARD
DTSTART:20201101T010000
RDATE:20210314T030000
TZOFFSETFROM:-0700
TZOFFSETTO:-0800
TZNAME:America/Tijuana PST
END:STANDARD
BEGIN:STANDARD
DTSTART:20211107T010000
RDATE:20220313T030000
TZOFFSETFROM:-0700
TZOFFSETTO:-0800
TZNAME:America/Tijuana PST
END:STANDARD
BEGIN:STANDARD
DTSTART:20221106T010000
RDATE:20230312T030000
TZOFFSETFROM:-0700
TZOFFSETTO:-0800
TZNAME:America/Tijuana PST
END:STANDARD
BEGIN:STANDARD
DTSTART:20231105T010000
RDATE:20240310T030000
TZOFFSETFROM:-0700
TZOFFSETTO:-0800
TZNAME:America/Tijuana PST
END:STANDARD
BEGIN:STANDARD
DTSTART:20241103T010000
RDATE:20250309T030000
TZOFFSETFROM:-0700
TZOFFSETTO:-0800
TZNAME:America/Tijuana PST
END:STANDARD
BEGIN:STANDARD
DTSTART:20251102T010000
RDATE:20260308T030000
TZOFFSETFROM:-0700
TZOFFSETTO:-0800
TZNAME:America/Tijuana PST
END:STANDARD
BEGIN:STANDARD
DTSTART:20261101T010000
RDATE:20270314T030000
TZOFFSETFROM:-0700
TZOFFSETTO:-0800
TZNAME:America/Tijuana PST
END:STANDARD
BEGIN:STANDARD
DTSTART:20271107T010000
RDATE:20280312T030000
TZOFFSETFROM:-0700
TZOFFSETTO:-0800
TZNAME:America/Tijuana PST
END:STANDARD
BEGIN:DAYLIGHT
DTSTART:20170407T100000
RDATE:20171105T010000
TZOFFSETFROM:-0800
TZOFFSETTO:-0700
TZNAME:America/Tijuana PDT
END:DAYLIGHT
BEGIN:DAYLIGHT
DTSTART:20180311T030000
RDATE:20181104T010000
TZOFFSETFROM:-0800
TZOFFSETTO:-0700
TZNAME:America/Tijuana PDT
END:DAYLIGHT
BEGIN:DAYLIGHT
DTSTART:20190310T030000
RDATE:20191103T010000
TZOFFSETFROM:-0800
TZOFFSETTO:-0700
TZNAME:America/Tijuana PDT
END:DAYLIGHT
BEGIN:DAYLIGHT
DTSTART:20200308T030000
RDATE:20201101T010000
TZOFFSETFROM:-0800
TZOFFSETTO:-0700
TZNAME:America/Tijuana PDT
END:DAYLIGHT
BEGIN:DAYLIGHT
DTSTART:20210314T030000
RDATE:20211107T010000
TZOFFSETFROM:-0800
TZOFFSETTO:-0700
TZNAME:America/Tijuana PDT
END:DAYLIGHT
BEGIN:DAYLIGHT
DTSTART:20220313T030000
RDATE:20221106T010000
TZOFFSETFROM:-0800
TZOFFSETTO:-0700
TZNAME:America/Tijuana PDT
END:DAYLIGHT
BEGIN:DAYLIGHT
DTSTART:20230312T030000
RDATE:20231105T010000
TZOFFSETFROM:-0800
TZOFFSETTO:-0700
TZNAME:America/Tijuana PDT
END:DAYLIGHT
BEGIN:DAYLIGHT
DTSTART:20240310T030000
RDATE:20241103T010000
TZOFFSETFROM:-0800
TZOFFSETTO:-0700
TZNAME:America/Tijuana PDT
END:DAYLIGHT
BEGIN:DAYLIGHT
DTSTART:20250309T030000
RDATE:20251102T010000
TZOFFSETFROM:-0800
TZOFFSETTO:-0700
TZNAME:America/Tijuana PDT
END:DAYLIGHT
BEGIN:DAYLIGHT
DTSTART:20260308T030000
RDATE:20261101T010000
TZOFFSETFROM:-0800
TZOFFSETTO:-0700
TZNAME:America/Tijuana PDT
END:DAYLIGHT
BEGIN:DAYLIGHT
DTSTART:20270314T030000
RDATE:20271107T010000
TZOFFSETFROM:-0800
TZOFFSETTO:-0700
TZNAME:America/Tijuana PDT
END:DAYLIGHT
END:VTIMEZONE
BEGIN:VEVENT
UID:3acd6922af8c84585e4b38a9be1b10fe
CATEGORIES:Field Trips
CREATED:20180215T164700
SUMMARY:Sweeney Ridge (San Bruno)
LOCATION:Sweeney Ridge (San Bruno)
DESCRIPTION:<div class="page" title="Page 8"><div class="layoutArea"><div class="column
 "><p>Join co-leaders Ken Himes and Elan Alford for a hike in the Golden Gat
 e National Recreation Area along Sweeney Ridge, the ridge from where Gaspar
  de Portola viewed San Francisco Bay on November 4, 1769. Plants of the coa
 stal scrub community will be featured. It should be interesting to compare 
 the coastal scrub habitat with the habitat on the preceding week’s hike at 
 San Bruno Mountain.</p><p>There will be a gain/loss of 600 feet during our 
 6-mile hike along the ridge. Wear layers as windy and cool conditions could
  occur. Bring lunch and liquids. For more information call Ken at (650) 591
 -8560, or email Elan at <span id="cloak2b86c65700f71bdf562a51606439e695">Th
 is email address is being protected from spambots. You need JavaScript enab
 led to view it.</span><script type='text/javascript'>
				document.getEleme
 ntById('cloak2b86c65700f71bdf562a51606439e695').innerHTML = '';
				var pre
 fix = '&#109;a' + 'i&#108;' + '&#116;o';
				var path = 'hr' + 'ef' + '=';

 				var addy2b86c65700f71bdf562a51606439e695 = '&#101;l&#97;n.r&#101;&#105;
 n&#101;' + '&#64;';
				addy2b86c65700f71bdf562a51606439e695 = addy2b86c657
 00f71bdf562a51606439e695 + 'gm&#97;&#105;l' + '&#46;' + 'c&#111;m';
				var
  addy_text2b86c65700f71bdf562a51606439e695 = '&#101;l&#97;n.r&#101;&#105;n&
 #101;' + '&#64;' + 'gm&#97;&#105;l' + '&#46;' + 'c&#111;m';document.getElem
 entById('cloak2b86c65700f71bdf562a51606439e695').innerHTML += '<a ' + path 
 + '\'' + prefix + ':' + addy2b86c65700f71bdf562a51606439e695 + '\'>'+addy_t
 ext2b86c65700f71bdf562a51606439e695+'<\/a>';
		</script></p><p>Directions: 
 Take I-280 north to Skyline Blvd. (Hwy 35) and proceed north on Hwy 35 to S
 neath Lane. Turn left onto Sneath Lane and proceed two miles to the Sneath 
 Lane trailhead parking lot. We will then conduct a car shuttle for a one-wa
 y hike along the ridge, and return to the Sneath Lane trailhead.</p></div><
 /div></div>
CONTACT:Ken at (650) 591-8560, or email Elan at This email address is being protected from spambots. You need JavaScript enabled to view it.
				document.getElementById('cloak6456ceb765b937f92300249d46c440c3').innerHTML = '';
				var prefix = '&#109;a' + 'i&#108;' + '&#116;o';
				var path = 'hr' + 'ef' + '=';
				var addy6456ceb765b937f92300249d46c440c3 = '&#101;l&#97;n.r&#101;&#105;n&#101;' + '&#64;';
				addy6456ceb765b937f92300249d46c440c3 = addy6456ceb765b937f92300249d46c440c3 + 'gm&#97;&#105;l' + '&#46;' + 'c&#111;m';
				var addy_text6456ceb765b937f92300249d46c440c3 = '&#101;l&#97;n.r&#101;&#105;n&#101;' + '&#64;' + 'gm&#97;&#105;l' + '&#46;' + 'c&#111;m';document.getElementById('cloak6456ceb765b937f92300249d46c440c3').innerHTML += '<a ' + path + '\'' + prefix + ':' + addy6456ceb765b937f92300249d46c440c3 + '\'>'+addy_text6456ceb765b937f92300249d46c440c3+'';
		
DTSTAMP:20260424T025015
DTSTART;TZID=America/Tijuana:20180408T100000
DTEND;TZID=America/Tijuana:20180408T160000
SEQUENCE:0
TRANSP:OPAQUE
END:VEVENT
END:VCALENDAR