BEGIN:VCALENDAR
VERSION:2.0
PRODID:-//jEvents 2.0 for Joomla//EN
CALSCALE:GREGORIAN
METHOD:PUBLISH
BEGIN:VTIMEZONE
TZID:America/Tijuana
BEGIN:STANDARD
DTSTART:20161106T010000
RDATE:20170312T030000
TZOFFSETFROM:-0700
TZOFFSETTO:-0800
TZNAME:America/Tijuana PST
END:STANDARD
BEGIN:STANDARD
DTSTART:20171105T010000
RDATE:20180311T030000
TZOFFSETFROM:-0700
TZOFFSETTO:-0800
TZNAME:America/Tijuana PST
END:STANDARD
BEGIN:STANDARD
DTSTART:20181104T010000
RDATE:20190310T030000
TZOFFSETFROM:-0700
TZOFFSETTO:-0800
TZNAME:America/Tijuana PST
END:STANDARD
BEGIN:STANDARD
DTSTART:20191103T010000
RDATE:20200308T030000
TZOFFSETFROM:-0700
TZOFFSETTO:-0800
TZNAME:America/Tijuana PST
END:STANDARD
BEGIN:STANDARD
DTSTART:20201101T010000
RDATE:20210314T030000
TZOFFSETFROM:-0700
TZOFFSETTO:-0800
TZNAME:America/Tijuana PST
END:STANDARD
BEGIN:STANDARD
DTSTART:20211107T010000
RDATE:20220313T030000
TZOFFSETFROM:-0700
TZOFFSETTO:-0800
TZNAME:America/Tijuana PST
END:STANDARD
BEGIN:STANDARD
DTSTART:20221106T010000
RDATE:20230312T030000
TZOFFSETFROM:-0700
TZOFFSETTO:-0800
TZNAME:America/Tijuana PST
END:STANDARD
BEGIN:STANDARD
DTSTART:20231105T010000
RDATE:20240310T030000
TZOFFSETFROM:-0700
TZOFFSETTO:-0800
TZNAME:America/Tijuana PST
END:STANDARD
BEGIN:STANDARD
DTSTART:20241103T010000
RDATE:20250309T030000
TZOFFSETFROM:-0700
TZOFFSETTO:-0800
TZNAME:America/Tijuana PST
END:STANDARD
BEGIN:STANDARD
DTSTART:20251102T010000
RDATE:20260308T030000
TZOFFSETFROM:-0700
TZOFFSETTO:-0800
TZNAME:America/Tijuana PST
END:STANDARD
BEGIN:STANDARD
DTSTART:20261101T010000
RDATE:20270314T030000
TZOFFSETFROM:-0700
TZOFFSETTO:-0800
TZNAME:America/Tijuana PST
END:STANDARD
BEGIN:STANDARD
DTSTART:20271107T010000
RDATE:20280312T030000
TZOFFSETFROM:-0700
TZOFFSETTO:-0800
TZNAME:America/Tijuana PST
END:STANDARD
BEGIN:DAYLIGHT
DTSTART:20160923T090000
RDATE:20161106T010000
TZOFFSETFROM:-0800
TZOFFSETTO:-0700
TZNAME:America/Tijuana PDT
END:DAYLIGHT
BEGIN:DAYLIGHT
DTSTART:20170312T030000
RDATE:20171105T010000
TZOFFSETFROM:-0800
TZOFFSETTO:-0700
TZNAME:America/Tijuana PDT
END:DAYLIGHT
BEGIN:DAYLIGHT
DTSTART:20180311T030000
RDATE:20181104T010000
TZOFFSETFROM:-0800
TZOFFSETTO:-0700
TZNAME:America/Tijuana PDT
END:DAYLIGHT
BEGIN:DAYLIGHT
DTSTART:20190310T030000
RDATE:20191103T010000
TZOFFSETFROM:-0800
TZOFFSETTO:-0700
TZNAME:America/Tijuana PDT
END:DAYLIGHT
BEGIN:DAYLIGHT
DTSTART:20200308T030000
RDATE:20201101T010000
TZOFFSETFROM:-0800
TZOFFSETTO:-0700
TZNAME:America/Tijuana PDT
END:DAYLIGHT
BEGIN:DAYLIGHT
DTSTART:20210314T030000
RDATE:20211107T010000
TZOFFSETFROM:-0800
TZOFFSETTO:-0700
TZNAME:America/Tijuana PDT
END:DAYLIGHT
BEGIN:DAYLIGHT
DTSTART:20220313T030000
RDATE:20221106T010000
TZOFFSETFROM:-0800
TZOFFSETTO:-0700
TZNAME:America/Tijuana PDT
END:DAYLIGHT
BEGIN:DAYLIGHT
DTSTART:20230312T030000
RDATE:20231105T010000
TZOFFSETFROM:-0800
TZOFFSETTO:-0700
TZNAME:America/Tijuana PDT
END:DAYLIGHT
BEGIN:DAYLIGHT
DTSTART:20240310T030000
RDATE:20241103T010000
TZOFFSETFROM:-0800
TZOFFSETTO:-0700
TZNAME:America/Tijuana PDT
END:DAYLIGHT
BEGIN:DAYLIGHT
DTSTART:20250309T030000
RDATE:20251102T010000
TZOFFSETFROM:-0800
TZOFFSETTO:-0700
TZNAME:America/Tijuana PDT
END:DAYLIGHT
BEGIN:DAYLIGHT
DTSTART:20260308T030000
RDATE:20261101T010000
TZOFFSETFROM:-0800
TZOFFSETTO:-0700
TZNAME:America/Tijuana PDT
END:DAYLIGHT
BEGIN:DAYLIGHT
DTSTART:20270314T030000
RDATE:20271107T010000
TZOFFSETFROM:-0800
TZOFFSETTO:-0700
TZNAME:America/Tijuana PDT
END:DAYLIGHT
END:VTIMEZONE
BEGIN:VEVENT
UID:cfbe62f0ac7a2b1b6f7136b7f388874e
CATEGORIES:Field Trips
CREATED:20170827T123015
SUMMARY:Beginner’s Bird and Plant Identification Walk
LOCATION:Lake Cunningham Park
DESCRIPTION:<div class="page" title="Page 6"><div class="layoutArea"><div class="column
 "><p>Join us for a beginner&rsquo;s bird and plant identification walk thro
 ugh Lake Cunningham Park. The park is a major destination for waterfowl and
  migratory birds and its native garden draws many birds for its habitat val
 ue. On this walk, Vicki Silvas-Young will show you how to identify the comm
 on birds of our area, as well as the native plants they depend on for food,
  shelter and nesting places.</p><div class="page" title="Page 7"><div class
 ="layoutArea"><div class="column"><p>The distance will be 4 miles round tri
 p on a level path. Bring a hat, water, your plant and bird lists and binocu
 lars. Wear comfortable walking shoes. Parking fee is $6.</p><p>Space is lim
 ited. Please RSVP to Arvind Kumar at <span id="cloakd427c0884a176a6a66f874e
 1a53308a5">This email address is being protected from spambots. You need Ja
 vaScript enabled to view it.</span><script type='text/javascript'>
				docu
 ment.getElementById('cloakd427c0884a176a6a66f874e1a53308a5').innerHTML = ''
 ;
				var prefix = '&#109;a' + 'i&#108;' + '&#116;o';
				var path = 'hr' +
  'ef' + '=';
				var addyd427c0884a176a6a66f874e1a53308a5 = 'chh&#97;pr&#97
 ;h&#105;y&#97;' + '&#64;';
				addyd427c0884a176a6a66f874e1a53308a5 = addyd
 427c0884a176a6a66f874e1a53308a5 + 'y&#97;h&#111;&#111;' + '&#46;' + 'c&#111
 ;m';
				var addy_textd427c0884a176a6a66f874e1a53308a5 = 'chh&#97;pr&#97;h&
 #105;y&#97;' + '&#64;' + 'y&#97;h&#111;&#111;' + '&#46;' + 'c&#111;m';docum
 ent.getElementById('cloakd427c0884a176a6a66f874e1a53308a5').innerHTML += '<
 a ' + path + '\'' + prefix + ':' + addyd427c0884a176a6a66f874e1a53308a5 + '
 \'>'+addy_textd427c0884a176a6a66f874e1a53308a5+'<\/a>';
		</script> to rese
 rve your spot and to receive directions and details. This walk is cosponsor
 ed by CNPS, Santa Clara Valley Audubon Society and Santa Clara Valley Open 
 Space Authority. </p></div></div></div></div></div></div>
CONTACT:RSVP to Arvind Kumar at This email address is being protected from spambots. You need JavaScript enabled to view it.
				document.getElementById('cloak0a98be13d3a5bcb73de8b76a82eabf95').innerHTML = '';
				var prefix = '&#109;a' + 'i&#108;' + '&#116;o';
				var path = 'hr' + 'ef' + '=';
				var addy0a98be13d3a5bcb73de8b76a82eabf95 = 'chh&#97;pr&#97;h&#105;y&#97;' + '&#64;';
				addy0a98be13d3a5bcb73de8b76a82eabf95 = addy0a98be13d3a5bcb73de8b76a82eabf95 + 'y&#97;h&#111;&#111;' + '&#46;' + 'c&#111;m';
				var addy_text0a98be13d3a5bcb73de8b76a82eabf95 = 'chh&#97;pr&#97;h&#105;y&#97;' + '&#64;' + 'y&#97;h&#111;&#111;' + '&#46;' + 'c&#111;m';document.getElementById('cloak0a98be13d3a5bcb73de8b76a82eabf95').innerHTML += '<a ' + path + '\'' + prefix + ':' + addy0a98be13d3a5bcb73de8b76a82eabf95 + '\'>'+addy_text0a98be13d3a5bcb73de8b76a82eabf95+'';
		 to reserve your spot and to receive directions and details
DTSTAMP:20260425T163442
DTSTART;TZID=America/Tijuana:20170924T090000
DTEND;TZID=America/Tijuana:20170924T120000
SEQUENCE:0
TRANSP:OPAQUE
END:VEVENT
END:VCALENDAR