BEGIN:VCALENDAR
VERSION:2.0
PRODID:-//jEvents 2.0 for Joomla//EN
CALSCALE:GREGORIAN
METHOD:PUBLISH
BEGIN:VTIMEZONE
TZID:America/Tijuana
BEGIN:STANDARD
DTSTART:20251102T010000
RDATE:20260308T030000
TZOFFSETFROM:-0700
TZOFFSETTO:-0800
TZNAME:America/Tijuana PST
END:STANDARD
BEGIN:STANDARD
DTSTART:20261101T010000
RDATE:20270314T030000
TZOFFSETFROM:-0700
TZOFFSETTO:-0800
TZNAME:America/Tijuana PST
END:STANDARD
BEGIN:STANDARD
DTSTART:20271107T010000
RDATE:20280312T030000
TZOFFSETFROM:-0700
TZOFFSETTO:-0800
TZNAME:America/Tijuana PST
END:STANDARD
BEGIN:DAYLIGHT
DTSTART:20250327T094000
RDATE:20251102T010000
TZOFFSETFROM:-0800
TZOFFSETTO:-0700
TZNAME:America/Tijuana PDT
END:DAYLIGHT
BEGIN:DAYLIGHT
DTSTART:20260308T030000
RDATE:20261101T010000
TZOFFSETFROM:-0800
TZOFFSETTO:-0700
TZNAME:America/Tijuana PDT
END:DAYLIGHT
BEGIN:DAYLIGHT
DTSTART:20270314T030000
RDATE:20271107T010000
TZOFFSETFROM:-0800
TZOFFSETTO:-0700
TZNAME:America/Tijuana PDT
END:DAYLIGHT
END:VTIMEZONE
BEGIN:VEVENT
UID:17062e06d4992d4d39470474cd2dcac5
CATEGORIES:Field Trips
CREATED:20260225T135924
SUMMARY:Tulare Hill Wildflower Walk (San Jose)
LOCATION:Tulare Hill (San Jose)
DESCRIPTION:<p class="p1">Join Craige Edgerton and Alyssa LoGalbo on a wildflower&nbsp;
 walk at Tulare Hill. The hill and surrounding 330 acres of&nbsp;serpentine 
 grasslands are home to the endangered Bay&nbsp;checkerspot butterfly and Sa
 nta Clara Valley dudleya&nbsp;(<i>Dudleya setchellii)</i>. A portion of the
  hill makes up the&nbsp;Tulare Hill Ecological Preserve.</p><p class="p1">T
 he walk will be 2-3 miles in length and includes a short&nbsp;walk up the h
 ill, about 300 ft. elevation gain and some off-trail hiking.</p><p class="p
 1">Bring snacks and plenty of water. Heavy rain&nbsp;cancels. Liability wai
 vers for Tulare Hill are&nbsp;required. They will be available at the hike.
 </p><p class="p1">RSVP is required to join the hike. <b>Open to&nbsp;</b><b
 >CNPS members only. </b>Please ensure your&nbsp;CNPS membership is current.
  <b>To become a&nbsp;</b><span class="s1"><b>member</b>, visit </span><a hr
 ef="https://www.cnps.org/membership">www.cnps.org/membership</a><span class
 ="s1">. No&nbsp;</span>drop-ins please and space is limited.&nbsp;To&nbsp;<
 b>RSVP on Meetup,&nbsp;</b>please visit our Chapter’s&nbsp;<b>Meetup group<
 /b>, here:&nbsp;<a href="https://www.meetup.com/California-Native-Plant-Soc
 iety-Santa-Clara-Valley-Chapter/">www.meetup.com/California-Native-Plant-So
 ciety-Santa-Clara-Valley-Chapter/</a><span class="s1">.&nbsp;<b>We&nbsp;</b
 ></span><b>open the RSVPs one week before the&nbsp;</b><b>event</b>. Find y
 our event within the group&nbsp;and tap/click the “Attend” button to reserv
 e&nbsp;your spot.</p>
DTSTAMP:20260423T234313
DTSTART;TZID=America/Tijuana:20260328T094000
DTEND;TZID=America/Tijuana:20260328T130000
SEQUENCE:0
TRANSP:OPAQUE
END:VEVENT
END:VCALENDAR