BEGIN:VCALENDAR
VERSION:2.0
PRODID:-//jEvents 2.0 for Joomla//EN
CALSCALE:GREGORIAN
METHOD:PUBLISH
BEGIN:VTIMEZONE
TZID:America/Tijuana
BEGIN:STANDARD
DTSTART:20250112T190000
RDATE:20250309T030000
TZOFFSETFROM:-0700
TZOFFSETTO:-0800
TZNAME:America/Tijuana PST
END:STANDARD
BEGIN:STANDARD
DTSTART:20251102T010000
RDATE:20260308T030000
TZOFFSETFROM:-0700
TZOFFSETTO:-0800
TZNAME:America/Tijuana PST
END:STANDARD
BEGIN:STANDARD
DTSTART:20261101T010000
RDATE:20270314T030000
TZOFFSETFROM:-0700
TZOFFSETTO:-0800
TZNAME:America/Tijuana PST
END:STANDARD
BEGIN:STANDARD
DTSTART:20271107T010000
RDATE:20280312T030000
TZOFFSETFROM:-0700
TZOFFSETTO:-0800
TZNAME:America/Tijuana PST
END:STANDARD
BEGIN:DAYLIGHT
DTSTART:20250309T030000
RDATE:20251102T010000
TZOFFSETFROM:-0800
TZOFFSETTO:-0700
TZNAME:America/Tijuana PDT
END:DAYLIGHT
BEGIN:DAYLIGHT
DTSTART:20260308T030000
RDATE:20261101T010000
TZOFFSETFROM:-0800
TZOFFSETTO:-0700
TZNAME:America/Tijuana PDT
END:DAYLIGHT
BEGIN:DAYLIGHT
DTSTART:20270314T030000
RDATE:20271107T010000
TZOFFSETFROM:-0800
TZOFFSETTO:-0700
TZNAME:America/Tijuana PDT
END:DAYLIGHT
END:VTIMEZONE
BEGIN:VEVENT
UID:6512ed80eb9c6bb86462b3ac8f71d593
CATEGORIES:Field Trips
CREATED:20251217T064614
SUMMARY:Field Trip Planning Meeting
LOCATION:Zoom and Raptor Room\, ground floor\, at the Peninsula Conservation Center\
 , 3921 E. Bayshore Road in Palo Alto
DESCRIPTION:<p class="p1">Please join us at our next field trip planning meeting, to&nb
 sp;identify leaders and trips with a focus on the first half of&nbsp;2026 a
 nd perhaps into the summer. Please bring a list of&nbsp;trips that you woul
 d like to lead and be prepared to&nbsp;encourage others with trips you’d li
 ke to attend.</p><p class="p1">Leaders with all levels of plant experience 
 are encouraged.&nbsp;One does not need to be a botanist or a plant expert t
 o lead.&nbsp;Co-leaders, sweeps and folks interested in organizing and&nbsp
 ;assisting with trips are all welcome.</p><p class="p1">To join us in perso
 n please meet at the Raptor Room,&nbsp;ground floor, at the Peninsula Conse
 rvation Center, 3921 E.&nbsp;Bayshore Road in Palo Alto. To attend by Zoom,
  please&nbsp;register at&nbsp;<a href="cnps-scv.org/activities/field-trips/
 planning-zoom/">cnps-scv.org/activities/field-trips/planning-zoom/</a><span
  class="s1">.</span></p><p class="p1">All members are welcome to join in th
 e discussion. For&nbsp;further information email field trip chair Nabeel Al
 -Shamma at <a href="mailto:nabeel@alshamma.com."><span id="cloakb3578299319
 6d30a2eab5857f69877c7">This email address is being protected from spambots.
  You need JavaScript enabled to view it.</span><script type='text/javascrip
 t'>
				document.getElementById('cloakb35782993196d30a2eab5857f69877c7').in
 nerHTML = '';
				var prefix = '&#109;a' + 'i&#108;' + '&#116;o';
				var p
 ath = 'hr' + 'ef' + '=';
				var addyb35782993196d30a2eab5857f69877c7 = 'n&
 #97;b&#101;&#101;l' + '&#64;';
				addyb35782993196d30a2eab5857f69877c7 = a
 ddyb35782993196d30a2eab5857f69877c7 + '&#97;lsh&#97;mm&#97;' + '&#46;' + 'c
 &#111;m';
				var addy_textb35782993196d30a2eab5857f69877c7 = 'n&#97;b&#101
 ;&#101;l' + '&#64;' + '&#97;lsh&#97;mm&#97;' + '&#46;' + 'c&#111;m';documen
 t.getElementById('cloakb35782993196d30a2eab5857f69877c7').innerHTML += '<a 
 ' + path + '\'' + prefix + ':' + addyb35782993196d30a2eab5857f69877c7 + '\'
 >'+addy_textb35782993196d30a2eab5857f69877c7+'<\/a>';
		</script>.</a></p>
X-ALT-DESC;FMTTYPE=text/html:<p class="p1">Please join us at our next field trip planning meeting, to&nb
 sp;identify leaders and trips with a focus on the first half of&nbsp;2026 a
 nd perhaps into the summer. Please bring a list of&nbsp;trips that you woul
 d like to lead and be prepared to&nbsp;encourage others with trips you’d li
 ke to attend.</p><p class="p1">Leaders with all levels of plant experience 
 are encouraged.&nbsp;One does not need to be a botanist or a plant expert t
 o lead.&nbsp;Co-leaders, sweeps and folks interested in organizing and&nbsp
 ;assisting with trips are all welcome.</p><p class="p1">To join us in perso
 n please meet at the Raptor Room,&nbsp;ground floor, at the Peninsula Conse
 rvation Center, 3921 E.&nbsp;Bayshore Road in Palo Alto. To attend by Zoom,
  please&nbsp;register at&nbsp;<a href="https://www.cnps-scv.org/cnps-scv.or
 g/activities/field-trips/planning-zoom/">cnps-scv.org/activities/field-trip
 s/planning-zoom/</a><span class="s1">.</span></p><p class="p1">All members 
 are welcome to join in the discussion. For&nbsp;further information email f
 ield trip chair Nabeel Al-Shamma at <a href="mailto:nabeel@alshamma.com."><
 span id="cloakb35782993196d30a2eab5857f69877c7">This email address is being
  protected from spambots. You need JavaScript enabled to view it.</span><sc
 ript type='text/javascript'>
				document.getElementById('cloakb35782993196
 d30a2eab5857f69877c7').innerHTML = '';
				var prefix = '&#109;a' + 'i&#108
 ;' + '&#116;o';
				var path = 'hr' + 'ef' + '=';
				var addyb35782993196d
 30a2eab5857f69877c7 = 'n&#97;b&#101;&#101;l' + '&#64;';
				addyb3578299319
 6d30a2eab5857f69877c7 = addyb35782993196d30a2eab5857f69877c7 + '&#97;lsh&#9
 7;mm&#97;' + '&#46;' + 'c&#111;m';
				var addy_textb35782993196d30a2eab585
 7f69877c7 = 'n&#97;b&#101;&#101;l' + '&#64;' + '&#97;lsh&#97;mm&#97;' + '&#
 46;' + 'c&#111;m';document.getElementById('cloakb35782993196d30a2eab5857f69
 877c7').innerHTML += '<a ' + path + '\'' + prefix + ':' + addyb35782993196d
 30a2eab5857f69877c7 + '\'>'+addy_textb35782993196d30a2eab5857f69877c7+'<\/a
 >';
		</script>.</a></p>
CONTACT:Nabeel Al-Shamma at This email address is being protected from spambots. You need JavaScript enabled to view it.
				document.getElementById('cloak813037041eac73c9a9776ae6d06d3f0e').innerHTML = '';
				var prefix = '&#109;a' + 'i&#108;' + '&#116;o';
				var path = 'hr' + 'ef' + '=';
				var addy813037041eac73c9a9776ae6d06d3f0e = 'n&#97;b&#101;&#101;l' + '&#64;';
				addy813037041eac73c9a9776ae6d06d3f0e = addy813037041eac73c9a9776ae6d06d3f0e + '&#97;lsh&#97;mm&#97;' + '&#46;' + 'c&#111;m';
				var addy_text813037041eac73c9a9776ae6d06d3f0e = 'n&#97;b&#101;&#101;l' + '&#64;' + '&#97;lsh&#97;mm&#97;' + '&#46;' + 'c&#111;m';document.getElementById('cloak813037041eac73c9a9776ae6d06d3f0e').innerHTML += '<a ' + path + '\'' + prefix + ':' + addy813037041eac73c9a9776ae6d06d3f0e + '\'>'+addy_text813037041eac73c9a9776ae6d06d3f0e+'';
		
DTSTAMP:20260425T163701
DTSTART;TZID=America/Tijuana:20260113T190000
DTEND;TZID=America/Tijuana:20260113T203000
SEQUENCE:0
TRANSP:OPAQUE
END:VEVENT
END:VCALENDAR