BEGIN:VCALENDAR
VERSION:2.0
PRODID:-//jEvents 2.0 for Joomla//EN
CALSCALE:GREGORIAN
METHOD:PUBLISH
BEGIN:VTIMEZONE
TZID:America/Tijuana
BEGIN:STANDARD
DTSTART:20241116T190000
RDATE:20250309T030000
TZOFFSETFROM:-0700
TZOFFSETTO:-0800
TZNAME:America/Tijuana PST
END:STANDARD
BEGIN:STANDARD
DTSTART:20251102T010000
RDATE:20260308T030000
TZOFFSETFROM:-0700
TZOFFSETTO:-0800
TZNAME:America/Tijuana PST
END:STANDARD
BEGIN:STANDARD
DTSTART:20261101T010000
RDATE:20270314T030000
TZOFFSETFROM:-0700
TZOFFSETTO:-0800
TZNAME:America/Tijuana PST
END:STANDARD
BEGIN:STANDARD
DTSTART:20271107T010000
RDATE:20280312T030000
TZOFFSETFROM:-0700
TZOFFSETTO:-0800
TZNAME:America/Tijuana PST
END:STANDARD
BEGIN:DAYLIGHT
DTSTART:20250309T030000
RDATE:20251102T010000
TZOFFSETFROM:-0800
TZOFFSETTO:-0700
TZNAME:America/Tijuana PDT
END:DAYLIGHT
BEGIN:DAYLIGHT
DTSTART:20260308T030000
RDATE:20261101T010000
TZOFFSETFROM:-0800
TZOFFSETTO:-0700
TZNAME:America/Tijuana PDT
END:DAYLIGHT
BEGIN:DAYLIGHT
DTSTART:20270314T030000
RDATE:20271107T010000
TZOFFSETFROM:-0800
TZOFFSETTO:-0700
TZNAME:America/Tijuana PDT
END:DAYLIGHT
END:VTIMEZONE
BEGIN:VEVENT
UID:65b47952e8124bcbcf7eb1cf6fa52bcb
CATEGORIES:Native Plant Talks
CREATED:20251029T113259
SUMMARY:Wreath-Making with Native Plants, a Talk and Demonstration by Jill Sowards
LOCATION:Raptor Suite\, Peninsula Conservation Center\, 3921 East Bayshore Road\, Pa
 lo Alto
DESCRIPTION:<p><strong><a href="https://www.meetup.com/california-native-plant-society-
 santa-clara-valley-chapter/events/311612480/">RSVP on Meetup</a> required d
 ue to limited space.</strong></p><p class="p1">In this talk, Jill will demo
 nstrate how to make a seasonal&nbsp;dried flower wreath using sustainable m
 aterials, with a&nbsp;focus on native California plants. She’ll share techn
 iques&nbsp;for drying flowers and creating the wreath, demonstrate&nbsp;how
  to start and finish your creation and identify some&nbsp;useful garden flo
 wers you can start in the ground now to&nbsp;enjoy next year. These dried a
 rrangements are made to be&nbsp;enjoyed for years or can be composted in th
 eir entirety&nbsp;when the season is over.</p><p class="p1">Please note tha
 t Jill will only demonstrate how to make a&nbsp;California native plant wre
 ath; there will be no audience&nbsp;participation.</p><p class="p1"><b>Jill
  Sowards</b> is a gardener and owner of Violetear Studio.&nbsp;She teaches 
 classes and workshops on a range of gardening&nbsp;and design topics throug
 hout the Bay Area and online. No&nbsp;matter the subject, her foundation is
  always on ecological&nbsp;gardening, waterwise practices and how to incorp
 orate&nbsp;native plants. Originally trained as a public interest lawyer,&n
 bsp;Jill believes that all people can benefit from building a&nbsp;nurturin
 g connection with the joy of the garden.</p>
DTSTAMP:20260421T131500
DTSTART;TZID=America/Tijuana:20251117T190000
DTEND;TZID=America/Tijuana:20251117T203000
SEQUENCE:0
TRANSP:OPAQUE
END:VEVENT
END:VCALENDAR