BEGIN:VCALENDAR
VERSION:2.0
PRODID:-//jEvents 2.0 for Joomla//EN
CALSCALE:GREGORIAN
METHOD:PUBLISH
BEGIN:VTIMEZONE
TZID:America/Tijuana
BEGIN:STANDARD
DTSTART:20231117T130000
RDATE:20240310T030000
TZOFFSETFROM:-0700
TZOFFSETTO:-0800
TZNAME:America/Tijuana PST
END:STANDARD
BEGIN:STANDARD
DTSTART:20241103T010000
RDATE:20250309T030000
TZOFFSETFROM:-0700
TZOFFSETTO:-0800
TZNAME:America/Tijuana PST
END:STANDARD
BEGIN:STANDARD
DTSTART:20251102T010000
RDATE:20260308T030000
TZOFFSETFROM:-0700
TZOFFSETTO:-0800
TZNAME:America/Tijuana PST
END:STANDARD
BEGIN:STANDARD
DTSTART:20261101T010000
RDATE:20270314T030000
TZOFFSETFROM:-0700
TZOFFSETTO:-0800
TZNAME:America/Tijuana PST
END:STANDARD
BEGIN:STANDARD
DTSTART:20271107T010000
RDATE:20280312T030000
TZOFFSETFROM:-0700
TZOFFSETTO:-0800
TZNAME:America/Tijuana PST
END:STANDARD
BEGIN:DAYLIGHT
DTSTART:20240310T030000
RDATE:20241103T010000
TZOFFSETFROM:-0800
TZOFFSETTO:-0700
TZNAME:America/Tijuana PDT
END:DAYLIGHT
BEGIN:DAYLIGHT
DTSTART:20250309T030000
RDATE:20251102T010000
TZOFFSETFROM:-0800
TZOFFSETTO:-0700
TZNAME:America/Tijuana PDT
END:DAYLIGHT
BEGIN:DAYLIGHT
DTSTART:20260308T030000
RDATE:20261101T010000
TZOFFSETFROM:-0800
TZOFFSETTO:-0700
TZNAME:America/Tijuana PDT
END:DAYLIGHT
BEGIN:DAYLIGHT
DTSTART:20270314T030000
RDATE:20271107T010000
TZOFFSETFROM:-0800
TZOFFSETTO:-0700
TZNAME:America/Tijuana PDT
END:DAYLIGHT
END:VTIMEZONE
BEGIN:VEVENT
UID:a9a4ed91469b94d227c02570240cff1c
CATEGORIES:Special Events
CREATED:20241029T100606
SUMMARY:Nature’s Best Hope Conference with Doug Tallamy
LOCATION:Mayer Theatre\, Santa Clara University
DESCRIPTION:Bringing Back the Natives Garden Tour is hosting a conference featuring Dou
 g Tallamy: Sunday, November 17, 1:00 - 5:00pm, at the Mayer Theatre, Santa 
 Clara University; tickets are $50.\nPurchase tickets at bringingbackthenati
 ves.net/20th-anniversary-conferences-agenda-registration (https://bringingb
 ackthenatives.net/20th-anniversary-conferences-agenda-registration).\nThis 
 is a rare chance to see Doug Tallamy in person while connecting with experi
 enced native plant enthusiasts and newbies alike. For more information incl
 uding the event schedule, visit the event’s page on CNPS-SCV Meetup (https:
 //www.meetup.com/california-native-plant-society-santa-clara-valley-chapter
 /events/304125785).\nOur Chapter is cosponsoring the conference, along with
  the Golden Gate Bird Alliance.\n
X-ALT-DESC;FMTTYPE=text/html:<div class="page" title="Page 10"><div class="layoutArea"><div class="colum
 n"><p>Bringing Back the Natives Garden Tour is hosting a conference featuri
 ng Doug Tallamy: <strong>Sunday, November 17, 1:00 - 5:00pm</strong>, at th
 e Mayer Theatre, Santa Clara University; tickets are $50.</p><div class="pa
 ge" title="Page 10"><div class="layoutArea"><div class="column"><p>Purchase
  tickets at <a href="https://bringingbackthenatives.net/20th-anniversary-co
 nferences-agenda-registration">bringingbackthenatives.net/20th-anniversary-
 conferences-agenda-registration</a>.</p><p>This is a rare chance to see Dou
 g Tallamy in person while connecting with experienced native plant enthusia
 sts and newbies alike. For more information including the event schedule, v
 isit <a href="https://www.meetup.com/california-native-plant-society-santa-
 clara-valley-chapter/events/304125785">the event’s page on CNPS-SCV Meetup<
 /a>.</p><p>Our Chapter is cosponsoring the conference, along with the Golde
 n Gate Bird Alliance.</p></div></div></div></div></div></div>
CONTACT:https://www.meetup.com/california-native-plant-society-santa-clara-valley-chapter/events/304125785
DTSTAMP:20260419T144122
DTSTART;TZID=America/Tijuana:20241117T130000
DTEND;TZID=America/Tijuana:20241117T170000
SEQUENCE:0
TRANSP:OPAQUE
END:VEVENT
END:VCALENDAR