BEGIN:VCALENDAR
VERSION:2.0
PRODID:-//jEvents 2.0 for Joomla//EN
CALSCALE:GREGORIAN
METHOD:PUBLISH
BEGIN:VTIMEZONE
TZID:America/Tijuana
BEGIN:STANDARD
DTSTART:20230212T190000
RDATE:20230312T030000
TZOFFSETFROM:-0700
TZOFFSETTO:-0800
TZNAME:America/Tijuana PST
END:STANDARD
BEGIN:STANDARD
DTSTART:20231105T010000
RDATE:20240310T030000
TZOFFSETFROM:-0700
TZOFFSETTO:-0800
TZNAME:America/Tijuana PST
END:STANDARD
BEGIN:STANDARD
DTSTART:20241103T010000
RDATE:20250309T030000
TZOFFSETFROM:-0700
TZOFFSETTO:-0800
TZNAME:America/Tijuana PST
END:STANDARD
BEGIN:STANDARD
DTSTART:20251102T010000
RDATE:20260308T030000
TZOFFSETFROM:-0700
TZOFFSETTO:-0800
TZNAME:America/Tijuana PST
END:STANDARD
BEGIN:STANDARD
DTSTART:20261101T010000
RDATE:20270314T030000
TZOFFSETFROM:-0700
TZOFFSETTO:-0800
TZNAME:America/Tijuana PST
END:STANDARD
BEGIN:STANDARD
DTSTART:20271107T010000
RDATE:20280312T030000
TZOFFSETFROM:-0700
TZOFFSETTO:-0800
TZNAME:America/Tijuana PST
END:STANDARD
BEGIN:DAYLIGHT
DTSTART:20230312T030000
RDATE:20231105T010000
TZOFFSETFROM:-0800
TZOFFSETTO:-0700
TZNAME:America/Tijuana PDT
END:DAYLIGHT
BEGIN:DAYLIGHT
DTSTART:20240310T030000
RDATE:20241103T010000
TZOFFSETFROM:-0800
TZOFFSETTO:-0700
TZNAME:America/Tijuana PDT
END:DAYLIGHT
BEGIN:DAYLIGHT
DTSTART:20250309T030000
RDATE:20251102T010000
TZOFFSETFROM:-0800
TZOFFSETTO:-0700
TZNAME:America/Tijuana PDT
END:DAYLIGHT
BEGIN:DAYLIGHT
DTSTART:20260308T030000
RDATE:20261101T010000
TZOFFSETFROM:-0800
TZOFFSETTO:-0700
TZNAME:America/Tijuana PDT
END:DAYLIGHT
BEGIN:DAYLIGHT
DTSTART:20270314T030000
RDATE:20271107T010000
TZOFFSETFROM:-0800
TZOFFSETTO:-0700
TZNAME:America/Tijuana PDT
END:DAYLIGHT
END:VTIMEZONE
BEGIN:VEVENT
UID:da004e41a0db4e7d70937e962dff84deRR3333
CATEGORIES:Meetings
CREATED:20231221T192319
SUMMARY:Conservation Committee
LOCATION:Zoom
DESCRIPTION:This committee covers many issues affecting native plants: conservation, ad
 vocacy, legislation, habitat restoration and rare plants. The committee mee
 ts once a month to provide information and support for these conservation i
 ssues and efforts. Members of our committee work on projects throughout the
  Chapter area, coordinating with our state CNPS program staff and other con
 servation organizations.\nPlease join us in our important work! For questio
 ns, comments or concerns, contact Committee Chair Carolyn Dorsch at This em
 ail address is being protected from spambots. You need JavaScript enabled t
 o view it.
				document.getElementById('cloak39a44f9b1cf37bbcdec1f064dbbcb0
 08').innerHTML = '';
				var prefix = '&#109;a' + 'i&#108;' + '&#116;o';
		
 		var path = 'hr' + 'ef' + '=';
				var addy39a44f9b1cf37bbcdec1f064dbbcb00
 8 = 'cd&#111;rsch' + '&#64;';
				addy39a44f9b1cf37bbcdec1f064dbbcb008 = ad
 dy39a44f9b1cf37bbcdec1f064dbbcb008 + 'cnps-scv' + '&#46;' + '&#111;rg';
			
 	var addy_text39a44f9b1cf37bbcdec1f064dbbcb008 = 'cd&#111;rsch' + '&#64;' +
  'cnps-scv' + '&#46;' + '&#111;rg';document.getElementById('cloak39a44f9b1c
 f37bbcdec1f064dbbcb008').innerHTML += '<a ' + path + '\'' + prefix + ':' + 
 addy39a44f9b1cf37bbcdec1f064dbbcb008 + '\'>'+addy_text39a44f9b1cf37bbcdec1f
 064dbbcb008+'';
		 or (650) 804-6162, or Conservation Chair Judy Fenerty at
  This email address is being protected from spambots. You need JavaScript e
 nabled to view it.
				document.getElementById('cloak20db40a572fc53f2e69f4e
 cb6f381691').innerHTML = '';
				var prefix = '&amp;#109;a' + 'i&amp;#108;'
  + '&amp;#116;o';
				var path = 'hr' + 'ef' + '=';
				var addy20db40a572f
 c53f2e69f4ecb6f381691 = 'j&amp;#117;dy' + '&amp;#64;';
				addy20db40a572fc
 53f2e69f4ecb6f381691 = addy20db40a572fc53f2e69f4ecb6f381691 + 'f&amp;#101;n
 &amp;#101;rty' + '&amp;#46;' + 'c&amp;#111;m';
				var addy_text20db40a572f
 c53f2e69f4ecb6f381691 = 'j&amp;#117;dy' + '&amp;#64;' + 'f&amp;#101;n&amp;#
 101;rty' + '&amp;#46;' + 'c&amp;#111;m';document.getElementById('cloak20db4
 0a572fc53f2e69f4ecb6f381691').innerHTML += '&lt;a ' + path + '\'' + prefix 
 + ':' + addy20db40a572fc53f2e69f4ecb6f381691 + '\'&gt;'+addy_text20db40a572
 fc53f2e69f4ecb6f381691+'&lt;\/a&gt;';
		. (mailto:judy@fenerty.com.) If you
  are interested in joining our committee meetings on Zoom, please email Car
 olyn for the link.\n
X-ALT-DESC;FMTTYPE=text/html:<div class="page" title="Page 7"><div class="layoutArea"><div class="column
 "><p>This committee covers many issues affecting native plants: conservatio
 n, advocacy, legislation, habitat restoration and rare plants. The committe
 e meets once a month to provide information and support for these conservat
 ion issues and efforts. Members of our committee work on projects throughou
 t the Chapter area, coordinating with our state CNPS program staff and othe
 r conservation organizations.</p><p>Please join us in our important work! F
 or questions, comments or concerns, contact Committee Chair Carolyn Dorsch 
 at <span id="cloak39a44f9b1cf37bbcdec1f064dbbcb008">This email address is b
 eing protected from spambots. You need JavaScript enabled to view it.</span
 ><script type='text/javascript'>
				document.getElementById('cloak39a44f9b
 1cf37bbcdec1f064dbbcb008').innerHTML = '';
				var prefix = '&#109;a' + 'i&
 #108;' + '&#116;o';
				var path = 'hr' + 'ef' + '=';
				var addy39a44f9b1
 cf37bbcdec1f064dbbcb008 = 'cd&#111;rsch' + '&#64;';
				addy39a44f9b1cf37bb
 cdec1f064dbbcb008 = addy39a44f9b1cf37bbcdec1f064dbbcb008 + 'cnps-scv' + '&#
 46;' + '&#111;rg';
				var addy_text39a44f9b1cf37bbcdec1f064dbbcb008 = 'cd&
 #111;rsch' + '&#64;' + 'cnps-scv' + '&#46;' + '&#111;rg';document.getElemen
 tById('cloak39a44f9b1cf37bbcdec1f064dbbcb008').innerHTML += '<a ' + path + 
 '\'' + prefix + ':' + addy39a44f9b1cf37bbcdec1f064dbbcb008 + '\'>'+addy_tex
 t39a44f9b1cf37bbcdec1f064dbbcb008+'<\/a>';
		</script> or (650) 804-6162, o
 r Conservation Chair Judy Fenerty at <a href="mailto:judy@fenerty.com."><sp
 an id="cloak20db40a572fc53f2e69f4ecb6f381691">This email address is being p
 rotected from spambots. You need JavaScript enabled to view it.</span><scri
 pt type='text/javascript'>
				document.getElementById('cloak20db40a572fc53
 f2e69f4ecb6f381691').innerHTML = '';
				var prefix = '&#109;a' + 'i&#108;'
  + '&#116;o';
				var path = 'hr' + 'ef' + '=';
				var addy20db40a572fc53f
 2e69f4ecb6f381691 = 'j&#117;dy' + '&#64;';
				addy20db40a572fc53f2e69f4ecb
 6f381691 = addy20db40a572fc53f2e69f4ecb6f381691 + 'f&#101;n&#101;rty' + '&#
 46;' + 'c&#111;m';
				var addy_text20db40a572fc53f2e69f4ecb6f381691 = 'j&#
 117;dy' + '&#64;' + 'f&#101;n&#101;rty' + '&#46;' + 'c&#111;m';document.get
 ElementById('cloak20db40a572fc53f2e69f4ecb6f381691').innerHTML += '<a ' + p
 ath + '\'' + prefix + ':' + addy20db40a572fc53f2e69f4ecb6f381691 + '\'>'+ad
 dy_text20db40a572fc53f2e69f4ecb6f381691+'<\/a>';
		</script>.</a> If you ar
 e interested in joining our committee meetings on Zoom, please email Caroly
 n for the link.</p></div></div></div>
CONTACT:Committee Chair Carolyn Dorsch at This email address is being protected from spambots. You need JavaScript enabled to view it.
				document.getElementById('cloakf04b655a104cc2864974b0fb6430247c').innerHTML = '';
				var prefix = '&#109;a' + 'i&#108;' + '&#116;o';
				var path = 'hr' + 'ef' + '=';
				var addyf04b655a104cc2864974b0fb6430247c = 'cd&#111;rsch' + '&#64;';
				addyf04b655a104cc2864974b0fb6430247c = addyf04b655a104cc2864974b0fb6430247c + 'cnps-scv' + '&#46;' + '&#111;rg';
				var addy_textf04b655a104cc2864974b0fb6430247c = 'cd&#111;rsch' + '&#64;' + 'cnps-scv' + '&#46;' + '&#111;rg';document.getElementById('cloakf04b655a104cc2864974b0fb6430247c').innerHTML += '<a ' + path + '\'' + prefix + ':' + addyf04b655a104cc2864974b0fb6430247c + '\'>'+addy_textf04b655a104cc2864974b0fb6430247c+'';
		 or (650) 804-6162, or Conservation Chair Judy Fenerty at judy@fen
DTSTAMP:20260422T120039
DTSTART;TZID=America/Tijuana:20240213T190000
DTEND;TZID=America/Tijuana:20240213T203000
SEQUENCE:0
TRANSP:OPAQUE
END:VEVENT
END:VCALENDAR