BEGIN:VCALENDAR
VERSION:2.0
PRODID:-//jEvents 2.0 for Joomla//EN
CALSCALE:GREGORIAN
METHOD:PUBLISH
BEGIN:VTIMEZONE
TZID:America/Tijuana
BEGIN:STANDARD
DTSTART:20220213T190000
RDATE:20220313T030000
TZOFFSETFROM:-0700
TZOFFSETTO:-0800
TZNAME:America/Tijuana PST
END:STANDARD
BEGIN:STANDARD
DTSTART:20221106T010000
RDATE:20230312T030000
TZOFFSETFROM:-0700
TZOFFSETTO:-0800
TZNAME:America/Tijuana PST
END:STANDARD
BEGIN:STANDARD
DTSTART:20231105T010000
RDATE:20240310T030000
TZOFFSETFROM:-0700
TZOFFSETTO:-0800
TZNAME:America/Tijuana PST
END:STANDARD
BEGIN:STANDARD
DTSTART:20241103T010000
RDATE:20250309T030000
TZOFFSETFROM:-0700
TZOFFSETTO:-0800
TZNAME:America/Tijuana PST
END:STANDARD
BEGIN:STANDARD
DTSTART:20251102T010000
RDATE:20260308T030000
TZOFFSETFROM:-0700
TZOFFSETTO:-0800
TZNAME:America/Tijuana PST
END:STANDARD
BEGIN:STANDARD
DTSTART:20261101T010000
RDATE:20270314T030000
TZOFFSETFROM:-0700
TZOFFSETTO:-0800
TZNAME:America/Tijuana PST
END:STANDARD
BEGIN:STANDARD
DTSTART:20271107T010000
RDATE:20280312T030000
TZOFFSETFROM:-0700
TZOFFSETTO:-0800
TZNAME:America/Tijuana PST
END:STANDARD
BEGIN:DAYLIGHT
DTSTART:20220313T030000
RDATE:20221106T010000
TZOFFSETFROM:-0800
TZOFFSETTO:-0700
TZNAME:America/Tijuana PDT
END:DAYLIGHT
BEGIN:DAYLIGHT
DTSTART:20230312T030000
RDATE:20231105T010000
TZOFFSETFROM:-0800
TZOFFSETTO:-0700
TZNAME:America/Tijuana PDT
END:DAYLIGHT
BEGIN:DAYLIGHT
DTSTART:20240310T030000
RDATE:20241103T010000
TZOFFSETFROM:-0800
TZOFFSETTO:-0700
TZNAME:America/Tijuana PDT
END:DAYLIGHT
BEGIN:DAYLIGHT
DTSTART:20250309T030000
RDATE:20251102T010000
TZOFFSETFROM:-0800
TZOFFSETTO:-0700
TZNAME:America/Tijuana PDT
END:DAYLIGHT
BEGIN:DAYLIGHT
DTSTART:20260308T030000
RDATE:20261101T010000
TZOFFSETFROM:-0800
TZOFFSETTO:-0700
TZNAME:America/Tijuana PDT
END:DAYLIGHT
BEGIN:DAYLIGHT
DTSTART:20270314T030000
RDATE:20271107T010000
TZOFFSETFROM:-0800
TZOFFSETTO:-0700
TZNAME:America/Tijuana PDT
END:DAYLIGHT
END:VTIMEZONE
BEGIN:VEVENT
UID:f3a22f26fc682888d68d89a307e784c7
CATEGORIES:Meetings
CREATED:20221222T043939
SUMMARY:Conservation Committee
LOCATION:Zoom
DESCRIPTION:Conservation Committee meetings are held via Zoom on Tuesdays from 7:00 to 
 8:30pm.\nPlease join us in our important work! For questions, comments or c
 oncerns, contact Conservation Committee Chair Carolyn Dorsch at This email 
 address is being protected from spambots. You need JavaScript enabled to vi
 ew it.
				document.getElementById('cloak0cf6a66de8b71a3ce8cb7159681487ae')
 .innerHTML = '';
				var prefix = '&#109;a' + 'i&#108;' + '&#116;o';
				va
 r path = 'hr' + 'ef' + '=';
				var addy0cf6a66de8b71a3ce8cb7159681487ae = 
 'cd&#111;rsch' + '&#64;';
				addy0cf6a66de8b71a3ce8cb7159681487ae = addy0c
 f6a66de8b71a3ce8cb7159681487ae + 'cnps-scv' + '&#46;' + '&#111;rg';
				var
  addy_text0cf6a66de8b71a3ce8cb7159681487ae = 'cd&#111;rsch' + '&#64;' + 'cn
 ps-scv' + '&#46;' + '&#111;rg';document.getElementById('cloak0cf6a66de8b71a
 3ce8cb7159681487ae').innerHTML += '<a ' + path + '\'' + prefix + ':' + addy
 0cf6a66de8b71a3ce8cb7159681487ae + '\'>'+addy_text0cf6a66de8b71a3ce8cb71596
 81487ae+'';
		 or (650) 804-6162. If you are interested in joining our comm
 ittee meetings on Zoom, please email Carolyn for the link.\n
X-ALT-DESC;FMTTYPE=text/html:<div class="page" title="Page 5"><div class="layoutArea"><div class="column
 "><p>Conservation Committee meetings are held via Zoom on Tuesdays from 7:0
 0 to 8:30pm.</p><p>Please join us in our important work! For questions, com
 ments or concerns, contact Conservation Committee Chair Carolyn Dorsch at <
 span id="cloak0cf6a66de8b71a3ce8cb7159681487ae">This email address is being
  protected from spambots. You need JavaScript enabled to view it.</span><sc
 ript type='text/javascript'>
				document.getElementById('cloak0cf6a66de8b7
 1a3ce8cb7159681487ae').innerHTML = '';
				var prefix = '&#109;a' + 'i&#108
 ;' + '&#116;o';
				var path = 'hr' + 'ef' + '=';
				var addy0cf6a66de8b71
 a3ce8cb7159681487ae = 'cd&#111;rsch' + '&#64;';
				addy0cf6a66de8b71a3ce8c
 b7159681487ae = addy0cf6a66de8b71a3ce8cb7159681487ae + 'cnps-scv' + '&#46;'
  + '&#111;rg';
				var addy_text0cf6a66de8b71a3ce8cb7159681487ae = 'cd&#111
 ;rsch' + '&#64;' + 'cnps-scv' + '&#46;' + '&#111;rg';document.getElementByI
 d('cloak0cf6a66de8b71a3ce8cb7159681487ae').innerHTML += '<a ' + path + '\''
  + prefix + ':' + addy0cf6a66de8b71a3ce8cb7159681487ae + '\'>'+addy_text0cf
 6a66de8b71a3ce8cb7159681487ae+'<\/a>';
		</script> or (650) 804-6162. If yo
 u are interested in joining our committee meetings on Zoom, please email Ca
 rolyn for the link.</p></div></div></div>
CONTACT:Carolyn Dorsch at This email address is being protected from spambots. You need JavaScript enabled to view it.
				document.getElementById('cloakb5898084bf4c9631d9959b341533e1f4').innerHTML = '';
				var prefix = '&#109;a' + 'i&#108;' + '&#116;o';
				var path = 'hr' + 'ef' + '=';
				var addyb5898084bf4c9631d9959b341533e1f4 = 'cd&#111;rsch' + '&#64;';
				addyb5898084bf4c9631d9959b341533e1f4 = addyb5898084bf4c9631d9959b341533e1f4 + 'cnps-scv' + '&#46;' + '&#111;rg';
				var addy_textb5898084bf4c9631d9959b341533e1f4 = 'cd&#111;rsch' + '&#64;' + 'cnps-scv' + '&#46;' + '&#111;rg';document.getElementById('cloakb5898084bf4c9631d9959b341533e1f4').innerHTML += '<a ' + path + '\'' + prefix + ':' + addyb5898084bf4c9631d9959b341533e1f4 + '\'>'+addy_textb5898084bf4c9631d9959b341533e1f4+'';
		 or (650) 804-6162
DTSTAMP:20260423T015539
DTSTART;TZID=America/Tijuana:20230214T190000
DTEND;TZID=America/Tijuana:20230214T203000
SEQUENCE:0
RRULE:FREQ=MONTHLY;COUNT=2;INTERVAL=1;BYDAY=+2TU
TRANSP:OPAQUE
END:VEVENT
BEGIN:VEVENT
UID:f3a22f26fc682888d68d89a307e784c7
CATEGORIES:Meetings
CREATED:20221222T043939
SUMMARY:Conservation Committee
LOCATION:Zoom
DESCRIPTION:The Conservation Committee is involved in multiple aspects of the conservat
 ion of California native plants and their habitat. In addition to direct ac
 tivity, it acts as an umbrella organization for all of the chapter's conser
 vation activities. Please join us in our important work! For questions, com
 ments or concerns, contact Conservation Committee Chair Carolyn Dorsch at T
 his email address is being protected from spambots. You need JavaScript ena
 bled to view it.
				document.getElementById('cloaked9717895397bb0cf54c86ca
 06867760').innerHTML = '';
				var prefix = '&#109;a' + 'i&#108;' + '&#116;
 o';
				var path = 'hr' + 'ef' + '=';
				var addyed9717895397bb0cf54c86ca0
 6867760 = 'cd&#111;rsch' + '&#64;';
				addyed9717895397bb0cf54c86ca0686776
 0 = addyed9717895397bb0cf54c86ca06867760 + 'cnps-scv' + '&#46;' + '&#111;rg
 ';
				var addy_texted9717895397bb0cf54c86ca06867760 = 'cd&#111;rsch' + '&#
 64;' + 'cnps-scv' + '&#46;' + '&#111;rg';document.getElementById('cloaked97
 17895397bb0cf54c86ca06867760').innerHTML += '<a ' + path + '\'' + prefix + 
 ':' + addyed9717895397bb0cf54c86ca06867760 + '\'>'+addy_texted9717895397bb0
 cf54c86ca06867760+'';
		 or (650) 804-6162.\nThe Conservation Committee mee
 ting will be on Zoom. If you are interested in joining the committee meetin
 g on Zoom, please email Carolyn for the link.\n
X-ALT-DESC;FMTTYPE=text/html:<div class="page" title="Page 5"><div class="layoutArea"><div class="column
 "><p>The Conservation Committee is involved in multiple aspects of the cons
 ervation of California native plants and their habitat. In addition to dire
 ct activity, it acts as an umbrella organization for all of the chapter's c
 onservation activities. Please join us in our important work! For questions
 , comments or concerns, contact Conservation Committee Chair Carolyn Dorsch
  at <span id="cloaked9717895397bb0cf54c86ca06867760">This email address is 
 being protected from spambots. You need JavaScript enabled to view it.</spa
 n><script type='text/javascript'>
				document.getElementById('cloaked97178
 95397bb0cf54c86ca06867760').innerHTML = '';
				var prefix = '&#109;a' + 'i
 &#108;' + '&#116;o';
				var path = 'hr' + 'ef' + '=';
				var addyed971789
 5397bb0cf54c86ca06867760 = 'cd&#111;rsch' + '&#64;';
				addyed9717895397bb
 0cf54c86ca06867760 = addyed9717895397bb0cf54c86ca06867760 + 'cnps-scv' + '&
 #46;' + '&#111;rg';
				var addy_texted9717895397bb0cf54c86ca06867760 = 'cd
 &#111;rsch' + '&#64;' + 'cnps-scv' + '&#46;' + '&#111;rg';document.getEleme
 ntById('cloaked9717895397bb0cf54c86ca06867760').innerHTML += '<a ' + path +
  '\'' + prefix + ':' + addyed9717895397bb0cf54c86ca06867760 + '\'>'+addy_te
 xted9717895397bb0cf54c86ca06867760+'<\/a>';
		</script> or (650) 804-6162.<
 /p><p>The Conservation Committee meeting will be on Zoom.&nbsp;<strong>If y
 ou are interested in joining the committee meeting on Zoom, please email Ca
 rolyn for the link.</strong></p></div></div></div>
URL;VALUE=URI:https://www.cnps-scv.org/component/jevents/eventdetail/3077/-/conservation-
 committee?Itemid=101&amp;tmpl=component
CONTACT:Carolyn Dorsch at This email address is being protected from spambots. You need JavaScript enabled to view it.
				document.getElementById('cloakebd4895fb88b0aacb61107dd49c52088').innerHTML = '';
				var prefix = '&#109;a' + 'i&#108;' + '&#116;o';
				var path = 'hr' + 'ef' + '=';
				var addyebd4895fb88b0aacb61107dd49c52088 = 'cd&#111;rsch' + '&#64;';
				addyebd4895fb88b0aacb61107dd49c52088 = addyebd4895fb88b0aacb61107dd49c52088 + 'cnps-scv' + '&#46;' + '&#111;rg';
				var addy_textebd4895fb88b0aacb61107dd49c52088 = 'cd&#111;rsch' + '&#64;' + 'cnps-scv' + '&#46;' + '&#111;rg';document.getElementById('cloakebd4895fb88b0aacb61107dd49c52088').innerHTML += '<a ' + path + '\'' + prefix + ':' + addyebd4895fb88b0aacb61107dd49c52088 + '\'>'+addy_textebd4895fb88b0aacb61107dd49c52088+'';
		 or (650) 804-6162

DTSTAMP:20260423T015539
DTSTART;TZID=America/Tijuana:20230117T180000
DTEND;TZID=America/Tijuana:20230117T193000
RECURRENCE-ID;TZID=America/Tijuana:20230110T190000
SEQUENCE:0
TRANSP:OPAQUE
END:VEVENT
BEGIN:VEVENT
UID:f3a22f26fc682888d68d89a307e784c7
CATEGORIES:Meetings
CREATED:20221222T043939
SUMMARY:Conservation Committee
LOCATION:Zoom
DESCRIPTION:Conservation Committee meetings are held via Zoom on Tuesdays from 7:00 to 
 8:30pm.\nPlease join us in our important work! For questions, comments or c
 oncerns, contact Conservation Committee Chair Carolyn Dorsch at This email 
 address is being protected from spambots. You need JavaScript enabled to vi
 ew it.
				document.getElementById('cloak7b58f1234877c999cee7263fc21997a8')
 .innerHTML = '';
				var prefix = '&#109;a' + 'i&#108;' + '&#116;o';
				va
 r path = 'hr' + 'ef' + '=';
				var addy7b58f1234877c999cee7263fc21997a8 = 
 'cd&#111;rsch' + '&#64;';
				addy7b58f1234877c999cee7263fc21997a8 = addy7b
 58f1234877c999cee7263fc21997a8 + 'cnps-scv' + '&#46;' + '&#111;rg';
				var
  addy_text7b58f1234877c999cee7263fc21997a8 = 'cd&#111;rsch' + '&#64;' + 'cn
 ps-scv' + '&#46;' + '&#111;rg';document.getElementById('cloak7b58f1234877c9
 99cee7263fc21997a8').innerHTML += '<a ' + path + '\'' + prefix + ':' + addy
 7b58f1234877c999cee7263fc21997a8 + '\'>'+addy_text7b58f1234877c999cee7263fc
 21997a8+'';
		 or (650) 804-6162. If you are interested in joining our comm
 ittee meetings on Zoom, please email Carolyn for the link.\n
X-ALT-DESC;FMTTYPE=text/html:<div class="page" title="Page 5"><div class="layoutArea"><div class="column
 "><p>Conservation Committee meetings are held via Zoom on Tuesdays from 7:0
 0 to 8:30pm.</p><p>Please join us in our important work! For questions, com
 ments or concerns, contact Conservation Committee Chair Carolyn Dorsch at <
 span id="cloak7b58f1234877c999cee7263fc21997a8">This email address is being
  protected from spambots. You need JavaScript enabled to view it.</span><sc
 ript type='text/javascript'>
				document.getElementById('cloak7b58f1234877
 c999cee7263fc21997a8').innerHTML = '';
				var prefix = '&#109;a' + 'i&#108
 ;' + '&#116;o';
				var path = 'hr' + 'ef' + '=';
				var addy7b58f1234877c
 999cee7263fc21997a8 = 'cd&#111;rsch' + '&#64;';
				addy7b58f1234877c999cee
 7263fc21997a8 = addy7b58f1234877c999cee7263fc21997a8 + 'cnps-scv' + '&#46;'
  + '&#111;rg';
				var addy_text7b58f1234877c999cee7263fc21997a8 = 'cd&#111
 ;rsch' + '&#64;' + 'cnps-scv' + '&#46;' + '&#111;rg';document.getElementByI
 d('cloak7b58f1234877c999cee7263fc21997a8').innerHTML += '<a ' + path + '\''
  + prefix + ':' + addy7b58f1234877c999cee7263fc21997a8 + '\'>'+addy_text7b5
 8f1234877c999cee7263fc21997a8+'<\/a>';
		</script> or (650) 804-6162. If yo
 u are interested in joining our committee meetings on Zoom, please email Ca
 rolyn for the link.</p></div></div></div>
URL;VALUE=URI:https://www.cnps-scv.org/component/jevents/eventdetail/3075/-/conservation-
 committee?Itemid=101&amp;tmpl=component
CONTACT:Carolyn Dorsch at This email address is being protected from spambots. You need JavaScript enabled to view it.
				document.getElementById('cloakc5fe7f023648bf8b12e3fce3e91ffaea').innerHTML = '';
				var prefix = '&#109;a' + 'i&#108;' + '&#116;o';
				var path = 'hr' + 'ef' + '=';
				var addyc5fe7f023648bf8b12e3fce3e91ffaea = 'cd&#111;rsch' + '&#64;';
				addyc5fe7f023648bf8b12e3fce3e91ffaea = addyc5fe7f023648bf8b12e3fce3e91ffaea + 'cnps-scv' + '&#46;' + '&#111;rg';
				var addy_textc5fe7f023648bf8b12e3fce3e91ffaea = 'cd&#111;rsch' + '&#64;' + 'cnps-scv' + '&#46;' + '&#111;rg';document.getElementById('cloakc5fe7f023648bf8b12e3fce3e91ffaea').innerHTML += '<a ' + path + '\'' + prefix + ':' + addyc5fe7f023648bf8b12e3fce3e91ffaea + '\'>'+addy_textc5fe7f023648bf8b12e3fce3e91ffaea+'';
		 or (650) 804-6162

DTSTAMP:20260423T015539
DTSTART;TZID=America/Tijuana:20230214T190000
DTEND;TZID=America/Tijuana:20230214T203000
RECURRENCE-ID;TZID=America/Tijuana:20230214T190000
SEQUENCE:0
TRANSP:OPAQUE
END:VEVENT
END:VCALENDAR