BEGIN:VCALENDAR
VERSION:2.0
PRODID:-//jEvents 2.0 for Joomla//EN
CALSCALE:GREGORIAN
METHOD:PUBLISH
BEGIN:VTIMEZONE
TZID:America/Tijuana
BEGIN:STANDARD
DTSTART:20181104T010000
RDATE:20190310T030000
TZOFFSETFROM:-0700
TZOFFSETTO:-0800
TZNAME:America/Tijuana PST
END:STANDARD
BEGIN:STANDARD
DTSTART:20191103T010000
RDATE:20200308T030000
TZOFFSETFROM:-0700
TZOFFSETTO:-0800
TZNAME:America/Tijuana PST
END:STANDARD
BEGIN:STANDARD
DTSTART:20201101T010000
RDATE:20210314T030000
TZOFFSETFROM:-0700
TZOFFSETTO:-0800
TZNAME:America/Tijuana PST
END:STANDARD
BEGIN:STANDARD
DTSTART:20211107T010000
RDATE:20220313T030000
TZOFFSETFROM:-0700
TZOFFSETTO:-0800
TZNAME:America/Tijuana PST
END:STANDARD
BEGIN:STANDARD
DTSTART:20221106T010000
RDATE:20230312T030000
TZOFFSETFROM:-0700
TZOFFSETTO:-0800
TZNAME:America/Tijuana PST
END:STANDARD
BEGIN:STANDARD
DTSTART:20231105T010000
RDATE:20240310T030000
TZOFFSETFROM:-0700
TZOFFSETTO:-0800
TZNAME:America/Tijuana PST
END:STANDARD
BEGIN:STANDARD
DTSTART:20241103T010000
RDATE:20250309T030000
TZOFFSETFROM:-0700
TZOFFSETTO:-0800
TZNAME:America/Tijuana PST
END:STANDARD
BEGIN:STANDARD
DTSTART:20251102T010000
RDATE:20260308T030000
TZOFFSETFROM:-0700
TZOFFSETTO:-0800
TZNAME:America/Tijuana PST
END:STANDARD
BEGIN:STANDARD
DTSTART:20261101T010000
RDATE:20270314T030000
TZOFFSETFROM:-0700
TZOFFSETTO:-0800
TZNAME:America/Tijuana PST
END:STANDARD
BEGIN:STANDARD
DTSTART:20271107T010000
RDATE:20280312T030000
TZOFFSETFROM:-0700
TZOFFSETTO:-0800
TZNAME:America/Tijuana PST
END:STANDARD
BEGIN:DAYLIGHT
DTSTART:20180807T190000
RDATE:20181104T010000
TZOFFSETFROM:-0800
TZOFFSETTO:-0700
TZNAME:America/Tijuana PDT
END:DAYLIGHT
BEGIN:DAYLIGHT
DTSTART:20190310T030000
RDATE:20191103T010000
TZOFFSETFROM:-0800
TZOFFSETTO:-0700
TZNAME:America/Tijuana PDT
END:DAYLIGHT
BEGIN:DAYLIGHT
DTSTART:20200308T030000
RDATE:20201101T010000
TZOFFSETFROM:-0800
TZOFFSETTO:-0700
TZNAME:America/Tijuana PDT
END:DAYLIGHT
BEGIN:DAYLIGHT
DTSTART:20210314T030000
RDATE:20211107T010000
TZOFFSETFROM:-0800
TZOFFSETTO:-0700
TZNAME:America/Tijuana PDT
END:DAYLIGHT
BEGIN:DAYLIGHT
DTSTART:20220313T030000
RDATE:20221106T010000
TZOFFSETFROM:-0800
TZOFFSETTO:-0700
TZNAME:America/Tijuana PDT
END:DAYLIGHT
BEGIN:DAYLIGHT
DTSTART:20230312T030000
RDATE:20231105T010000
TZOFFSETFROM:-0800
TZOFFSETTO:-0700
TZNAME:America/Tijuana PDT
END:DAYLIGHT
BEGIN:DAYLIGHT
DTSTART:20240310T030000
RDATE:20241103T010000
TZOFFSETFROM:-0800
TZOFFSETTO:-0700
TZNAME:America/Tijuana PDT
END:DAYLIGHT
BEGIN:DAYLIGHT
DTSTART:20250309T030000
RDATE:20251102T010000
TZOFFSETFROM:-0800
TZOFFSETTO:-0700
TZNAME:America/Tijuana PDT
END:DAYLIGHT
BEGIN:DAYLIGHT
DTSTART:20260308T030000
RDATE:20261101T010000
TZOFFSETFROM:-0800
TZOFFSETTO:-0700
TZNAME:America/Tijuana PDT
END:DAYLIGHT
BEGIN:DAYLIGHT
DTSTART:20270314T030000
RDATE:20271107T010000
TZOFFSETFROM:-0800
TZOFFSETTO:-0700
TZNAME:America/Tijuana PDT
END:DAYLIGHT
END:VTIMEZONE
BEGIN:VEVENT
UID:d81bdcc9a8effb0e3a4a1fc10844753fRR1978
CATEGORIES:Meetings
CREATED:20190807T174240
SUMMARY:CNPS SCV Board Meeting
LOCATION:Peninsula Conservation Center\, 3921 E. Bayshore Road\, Palo Alto\, CA 9430
 3
DESCRIPTION:CNPS SCV Board meetings are usually held on the second Thursday of most mon
 ths.  Meetings are held at the Peninsula Conservation Center, 3921 E. Baysh
 ore Road, Palo Alto, CA 94303\nCNPS Members are welcome to attend as observ
 ers. To add an issue to the agenda, please email This email address is bein
 g protected from spambots. You need JavaScript enabled to view it.
				docu
 ment.getElementById('cloak55cd82b40afe80162bbff50b425215c6').innerHTML = ''
 ;
				var prefix = '&amp;#109;a' + 'i&amp;#108;' + '&amp;#116;o';
				var p
 ath = 'hr' + 'ef' + '=';
				var addy55cd82b40afe80162bbff50b425215c6 = 'pr
 &amp;#101;s&amp;#105;d&amp;#101;nt' + '&amp;#64;';
				addy55cd82b40afe8016
 2bbff50b425215c6 = addy55cd82b40afe80162bbff50b425215c6 + 'cnps-scv' + '&am
 p;#46;' + '&amp;#111;rg';
				var addy_text55cd82b40afe80162bbff50b425215c6
  = 'pr&amp;#101;s&amp;#105;d&amp;#101;nt' + '&amp;#64;' + 'cnps-scv' + '&am
 p;#46;' + '&amp;#111;rg';document.getElementById('cloak55cd82b40afe80162bbf
 f50b425215c6').innerHTML += '&lt;a ' + path + '\'' + prefix + ':' + addy55c
 d82b40afe80162bbff50b425215c6 + '\'&gt;'+addy_text55cd82b40afe80162bbff50b4
 25215c6+'&lt;\/a&gt;';
		 (mailto:%20president@cnpssd.org). \nIf you are in
 terested in joining the board, please contact the Chapter President (This e
 mail address is being protected from spambots. You need JavaScript enabled 
 to view it.
				document.getElementById('cloak8ba6b3797cbafe7c6381c4107de65
 eb5').innerHTML = '';
				var prefix = '&#109;a' + 'i&#108;' + '&#116;o';
	
 			var path = 'hr' + 'ef' + '=';
				var addy8ba6b3797cbafe7c6381c4107de65e
 b5 = 'pr&#101;s&#105;d&#101;nt' + '&#64;';
				addy8ba6b3797cbafe7c6381c410
 7de65eb5 = addy8ba6b3797cbafe7c6381c4107de65eb5 + 'cnps-scv' + '&#46;' + '&
 #111;rg';
				var addy_text8ba6b3797cbafe7c6381c4107de65eb5 = 'pr&#101;s&#1
 05;d&#101;nt' + '&#64;' + 'cnps-scv' + '&#46;' + '&#111;rg';document.getEle
 mentById('cloak8ba6b3797cbafe7c6381c4107de65eb5').innerHTML += '<a ' + path
  + '\'' + prefix + ':' + addy8ba6b3797cbafe7c6381c4107de65eb5 + '\'>'+addy_
 text8ba6b3797cbafe7c6381c4107de65eb5+'';
		) or the Leadership Development 
 Committee Chair (This email address is being protected from spambots. You n
 eed JavaScript enabled to view it.
				document.getElementById('cloak5ec3ed
 39eaa926ddbb79cec5d6bf5607').innerHTML = '';
				var prefix = '&#109;a' + '
 i&#108;' + '&#116;o';
				var path = 'hr' + 'ef' + '=';
				var addy5ec3ed3
 9eaa926ddbb79cec5d6bf5607 = 'st&#101;ph&#101;n' + '&#64;';
				addy5ec3ed39
 eaa926ddbb79cec5d6bf5607 = addy5ec3ed39eaa926ddbb79cec5d6bf5607 + 'ysc&#111
 ;tt&#105;&#101;' + '&#46;' + 'c&#111;m';
				var addy_text5ec3ed39eaa926ddb
 b79cec5d6bf5607 = 'st&#101;ph&#101;n' + '&#64;' + 'ysc&#111;tt&#105;&#101;'
  + '&#46;' + 'c&#111;m';document.getElementById('cloak5ec3ed39eaa926ddbb79c
 ec5d6bf5607').innerHTML += '<a ' + path + '\'' + prefix + ':' + addy5ec3ed3
 9eaa926ddbb79cec5d6bf5607 + '\'>'+addy_text5ec3ed39eaa926ddbb79cec5d6bf5607
 +'';
		)\n
X-ALT-DESC;FMTTYPE=text/html:<p>CNPS&nbsp;SCV&nbsp;Board meetings are usually held on the second Thursda
 y of most months. &nbsp;Meetings are held at the Peninsula Conservation Cen
 ter,&nbsp;3921 E. Bayshore Road, Palo Alto, CA 94303</p><p>CNPS Members are
  welcome to attend as observers. To add an issue to the agenda, please emai
 l <a href="mailto:%20president@cnpssd.org"><span id="cloak55cd82b40afe80162
 bbff50b425215c6">This email address is being protected from spambots. You n
 eed JavaScript enabled to view it.</span><script type='text/javascript'>
		
 		document.getElementById('cloak55cd82b40afe80162bbff50b425215c6').innerHTM
 L = '';
				var prefix = '&#109;a' + 'i&#108;' + '&#116;o';
				var path = 
 'hr' + 'ef' + '=';
				var addy55cd82b40afe80162bbff50b425215c6 = 'pr&#101;
 s&#105;d&#101;nt' + '&#64;';
				addy55cd82b40afe80162bbff50b425215c6 = add
 y55cd82b40afe80162bbff50b425215c6 + 'cnps-scv' + '&#46;' + '&#111;rg';
				
 var addy_text55cd82b40afe80162bbff50b425215c6 = 'pr&#101;s&#105;d&#101;nt' 
 + '&#64;' + 'cnps-scv' + '&#46;' + '&#111;rg';document.getElementById('cloa
 k55cd82b40afe80162bbff50b425215c6').innerHTML += '<a ' + path + '\'' + pref
 ix + ':' + addy55cd82b40afe80162bbff50b425215c6 + '\'>'+addy_text55cd82b40a
 fe80162bbff50b425215c6+'<\/a>';
		</script></a>.&nbsp;</p><p>If you are int
 erested in joining the board, please contact the Chapter President (<span i
 d="cloak8ba6b3797cbafe7c6381c4107de65eb5">This email address is being prote
 cted from spambots. You need JavaScript enabled to view it.</span><script t
 ype='text/javascript'>
				document.getElementById('cloak8ba6b3797cbafe7c63
 81c4107de65eb5').innerHTML = '';
				var prefix = '&#109;a' + 'i&#108;' + '
 &#116;o';
				var path = 'hr' + 'ef' + '=';
				var addy8ba6b3797cbafe7c638
 1c4107de65eb5 = 'pr&#101;s&#105;d&#101;nt' + '&#64;';
				addy8ba6b3797cbaf
 e7c6381c4107de65eb5 = addy8ba6b3797cbafe7c6381c4107de65eb5 + 'cnps-scv' + '
 &#46;' + '&#111;rg';
				var addy_text8ba6b3797cbafe7c6381c4107de65eb5 = 'p
 r&#101;s&#105;d&#101;nt' + '&#64;' + 'cnps-scv' + '&#46;' + '&#111;rg';docu
 ment.getElementById('cloak8ba6b3797cbafe7c6381c4107de65eb5').innerHTML += '
 <a ' + path + '\'' + prefix + ':' + addy8ba6b3797cbafe7c6381c4107de65eb5 + 
 '\'>'+addy_text8ba6b3797cbafe7c6381c4107de65eb5+'<\/a>';
		</script>) or th
 e Leadership Development Committee Chair (<span id="cloak5ec3ed39eaa926ddbb
 79cec5d6bf5607">This email address is being protected from spambots. You ne
 ed JavaScript enabled to view it.</span><script type='text/javascript'>
			
 	document.getElementById('cloak5ec3ed39eaa926ddbb79cec5d6bf5607').innerHTML
  = '';
				var prefix = '&#109;a' + 'i&#108;' + '&#116;o';
				var path = '
 hr' + 'ef' + '=';
				var addy5ec3ed39eaa926ddbb79cec5d6bf5607 = 'st&#101;p
 h&#101;n' + '&#64;';
				addy5ec3ed39eaa926ddbb79cec5d6bf5607 = addy5ec3ed3
 9eaa926ddbb79cec5d6bf5607 + 'ysc&#111;tt&#105;&#101;' + '&#46;' + 'c&#111;m
 ';
				var addy_text5ec3ed39eaa926ddbb79cec5d6bf5607 = 'st&#101;ph&#101;n' 
 + '&#64;' + 'ysc&#111;tt&#105;&#101;' + '&#46;' + 'c&#111;m';document.getEl
 ementById('cloak5ec3ed39eaa926ddbb79cec5d6bf5607').innerHTML += '<a ' + pat
 h + '\'' + prefix + ':' + addy5ec3ed39eaa926ddbb79cec5d6bf5607 + '\'>'+addy
 _text5ec3ed39eaa926ddbb79cec5d6bf5607+'<\/a>';
		</script>)</p>
CONTACT:This email address is being protected from spambots. You need JavaScript enabled to view it.
				document.getElementById('cloakf6b73910df5f2104fcb3c963b05ef1bd').innerHTML = '';
				var prefix = '&#109;a' + 'i&#108;' + '&#116;o';
				var path = 'hr' + 'ef' + '=';
				var addyf6b73910df5f2104fcb3c963b05ef1bd = 'pr&#101;s&#105;d&#101;nt' + '&#64;';
				addyf6b73910df5f2104fcb3c963b05ef1bd = addyf6b73910df5f2104fcb3c963b05ef1bd + 'cnps-scv' + '&#46;' + '&#111;rg';
				var addy_textf6b73910df5f2104fcb3c963b05ef1bd = 'pr&#101;s&#105;d&#101;nt' + '&#64;' + 'cnps-scv' + '&#46;' + '&#111;rg';document.getElementById('cloakf6b73910df5f2104fcb3c963b05ef1bd').innerHTML += '<a ' + path + '\'' + prefix + ':' + addyf6b73910df5f2104fcb3c963b05ef1bd + '\'>'+addy_textf6b73910df5f2104fcb3c963b05ef1bd+'';
		
X-EXTRAINFO:CNPS Members are welcome to attend as observers. 
DTSTAMP:20260420T035542
DTSTART;TZID=America/Tijuana:20190808T190000
DTEND;TZID=America/Tijuana:20190808T210000
SEQUENCE:0
TRANSP:OPAQUE
END:VEVENT
END:VCALENDAR