BEGIN:VCALENDAR
VERSION:2.0
PRODID:-//jEvents 2.0 for Joomla//EN
CALSCALE:GREGORIAN
METHOD:PUBLISH
BEGIN:VTIMEZONE
TZID:America/Tijuana
BEGIN:STANDARD
DTSTART:20151101T010000
RDATE:20160313T030000
TZOFFSETFROM:-0700
TZOFFSETTO:-0800
TZNAME:America/Tijuana PST
END:STANDARD
BEGIN:STANDARD
DTSTART:20161106T010000
RDATE:20170312T030000
TZOFFSETFROM:-0700
TZOFFSETTO:-0800
TZNAME:America/Tijuana PST
END:STANDARD
BEGIN:STANDARD
DTSTART:20171105T010000
RDATE:20180311T030000
TZOFFSETFROM:-0700
TZOFFSETTO:-0800
TZNAME:America/Tijuana PST
END:STANDARD
BEGIN:STANDARD
DTSTART:20181104T010000
RDATE:20190310T030000
TZOFFSETFROM:-0700
TZOFFSETTO:-0800
TZNAME:America/Tijuana PST
END:STANDARD
BEGIN:STANDARD
DTSTART:20191103T010000
RDATE:20200308T030000
TZOFFSETFROM:-0700
TZOFFSETTO:-0800
TZNAME:America/Tijuana PST
END:STANDARD
BEGIN:STANDARD
DTSTART:20201101T010000
RDATE:20210314T030000
TZOFFSETFROM:-0700
TZOFFSETTO:-0800
TZNAME:America/Tijuana PST
END:STANDARD
BEGIN:STANDARD
DTSTART:20211107T010000
RDATE:20220313T030000
TZOFFSETFROM:-0700
TZOFFSETTO:-0800
TZNAME:America/Tijuana PST
END:STANDARD
BEGIN:STANDARD
DTSTART:20221106T010000
RDATE:20230312T030000
TZOFFSETFROM:-0700
TZOFFSETTO:-0800
TZNAME:America/Tijuana PST
END:STANDARD
BEGIN:STANDARD
DTSTART:20231105T010000
RDATE:20240310T030000
TZOFFSETFROM:-0700
TZOFFSETTO:-0800
TZNAME:America/Tijuana PST
END:STANDARD
BEGIN:STANDARD
DTSTART:20241103T010000
RDATE:20250309T030000
TZOFFSETFROM:-0700
TZOFFSETTO:-0800
TZNAME:America/Tijuana PST
END:STANDARD
BEGIN:STANDARD
DTSTART:20251102T010000
RDATE:20260308T030000
TZOFFSETFROM:-0700
TZOFFSETTO:-0800
TZNAME:America/Tijuana PST
END:STANDARD
BEGIN:STANDARD
DTSTART:20261101T010000
RDATE:20270314T030000
TZOFFSETFROM:-0700
TZOFFSETTO:-0800
TZNAME:America/Tijuana PST
END:STANDARD
BEGIN:STANDARD
DTSTART:20271107T010000
RDATE:20280312T030000
TZOFFSETFROM:-0700
TZOFFSETTO:-0800
TZNAME:America/Tijuana PST
END:STANDARD
BEGIN:DAYLIGHT
DTSTART:20150324T110000
RDATE:20151101T010000
TZOFFSETFROM:-0800
TZOFFSETTO:-0700
TZNAME:America/Tijuana PDT
END:DAYLIGHT
BEGIN:DAYLIGHT
DTSTART:20160313T030000
RDATE:20161106T010000
TZOFFSETFROM:-0800
TZOFFSETTO:-0700
TZNAME:America/Tijuana PDT
END:DAYLIGHT
BEGIN:DAYLIGHT
DTSTART:20170312T030000
RDATE:20171105T010000
TZOFFSETFROM:-0800
TZOFFSETTO:-0700
TZNAME:America/Tijuana PDT
END:DAYLIGHT
BEGIN:DAYLIGHT
DTSTART:20180311T030000
RDATE:20181104T010000
TZOFFSETFROM:-0800
TZOFFSETTO:-0700
TZNAME:America/Tijuana PDT
END:DAYLIGHT
BEGIN:DAYLIGHT
DTSTART:20190310T030000
RDATE:20191103T010000
TZOFFSETFROM:-0800
TZOFFSETTO:-0700
TZNAME:America/Tijuana PDT
END:DAYLIGHT
BEGIN:DAYLIGHT
DTSTART:20200308T030000
RDATE:20201101T010000
TZOFFSETFROM:-0800
TZOFFSETTO:-0700
TZNAME:America/Tijuana PDT
END:DAYLIGHT
BEGIN:DAYLIGHT
DTSTART:20210314T030000
RDATE:20211107T010000
TZOFFSETFROM:-0800
TZOFFSETTO:-0700
TZNAME:America/Tijuana PDT
END:DAYLIGHT
BEGIN:DAYLIGHT
DTSTART:20220313T030000
RDATE:20221106T010000
TZOFFSETFROM:-0800
TZOFFSETTO:-0700
TZNAME:America/Tijuana PDT
END:DAYLIGHT
BEGIN:DAYLIGHT
DTSTART:20230312T030000
RDATE:20231105T010000
TZOFFSETFROM:-0800
TZOFFSETTO:-0700
TZNAME:America/Tijuana PDT
END:DAYLIGHT
BEGIN:DAYLIGHT
DTSTART:20240310T030000
RDATE:20241103T010000
TZOFFSETFROM:-0800
TZOFFSETTO:-0700
TZNAME:America/Tijuana PDT
END:DAYLIGHT
BEGIN:DAYLIGHT
DTSTART:20250309T030000
RDATE:20251102T010000
TZOFFSETFROM:-0800
TZOFFSETTO:-0700
TZNAME:America/Tijuana PDT
END:DAYLIGHT
BEGIN:DAYLIGHT
DTSTART:20260308T030000
RDATE:20261101T010000
TZOFFSETFROM:-0800
TZOFFSETTO:-0700
TZNAME:America/Tijuana PDT
END:DAYLIGHT
BEGIN:DAYLIGHT
DTSTART:20270314T030000
RDATE:20271107T010000
TZOFFSETFROM:-0800
TZOFFSETTO:-0700
TZNAME:America/Tijuana PDT
END:DAYLIGHT
END:VTIMEZONE
BEGIN:VEVENT
UID:a3e29ebf026ef44eea8b87beeae522e0
CATEGORIES:Field Trips
CREATED:20160317T201436
SUMMARY:Walk, Talk and Shop Hike at Hidden Villa
LOCATION:Hidden Villa (Los Altos Hills)
DESCRIPTION:Join Vivian Neou and Tara Lee on this 3-4 mile hike for native plant garden
 ers. What better way to figure out a plant’s needs than by seeing it in its
  home? On this hike, we will be observing a variety of plants while sharing
  our own gardening experiences. The hike will be on trails close to the CNP
 S nursery at Hidden Villa in Los Altos Hills. We’ll finish up with a privat
 e Members’ sale at the CNPS nursery. Bring water, a snack, your questions, 
 your stories and observational skills! \nThis trip is limited to CNPS membe
 rs only and registration is required. To register and receive trip details 
 and directions, email Vivian Neou at This email address is being protected 
 from spambots. You need JavaScript enabled to view it.
				document.getElem
 entById('cloakf3923d997f8a2b5bbb2376e89ffe72b0').innerHTML = '';
				var pr
 efix = '&amp;#109;a' + 'i&amp;#108;' + '&amp;#116;o';
				var path = 'hr' +
  'ef' + '=';
				var addyf3923d997f8a2b5bbb2376e89ffe72b0 = 't&amp;#101;chc
 h&amp;#97;&amp;#105;r' + '&amp;#64;';
				addyf3923d997f8a2b5bbb2376e89ffe7
 2b0 = addyf3923d997f8a2b5bbb2376e89ffe72b0 + 'cnps-scv' + '&amp;#46;' + '&a
 mp;#111;rg';
				var addy_textf3923d997f8a2b5bbb2376e89ffe72b0 = 't&amp;#10
 1;chch&amp;#97;&amp;#105;r' + '&amp;#64;' + 'cnps-scv' + '&amp;#46;' + '&am
 p;#111;rg';document.getElementById('cloakf3923d997f8a2b5bbb2376e89ffe72b0')
 .innerHTML += '&lt;a ' + path + '\'' + prefix + ':' + addyf3923d997f8a2b5bb
 b2376e89ffe72b0 + '\'&gt;'+addy_textf3923d997f8a2b5bbb2376e89ffe72b0+'&lt;\
 /a&gt;';
		. (mailto:techchair@cnps-scv.org.) Limited to seven participants
 . \n
X-ALT-DESC;FMTTYPE=text/html:<div class="page" title="Page 7"><div class="layoutArea"><div class="column
 "><p><span style="font-size: 11pt; font-family: Times-New-Roman;">Join Vivi
 an Neou and Tara Lee on this 3-4 mile hike for native plant gardeners. What
  better way to figure out a plant&rsquo;s needs than by seeing it in its ho
 me? On this hike, we will be observing a variety of plants while sharing ou
 r own gardening experiences. The hike will be on trails close to the CNPS n
 ursery at Hidden Villa in Los Altos Hills. We&rsquo;ll finish up with a pri
 vate Members&rsquo; sale at the CNPS nursery. Bring water, a snack, your qu
 estions, your stories and observational skills! </span></p><p><span style="
 font-size: 11pt; font-family: Times-New-Roman;">This trip is limited to CNP
 S members only and registration is required. To </span><span style="font-si
 ze: 11pt; font-family: 'Times-New-Roman,Bold';">register </span><span style
 ="font-size: 11pt; font-family: Times-New-Roman;">and receive trip details 
 and directions, email Vivian Neou at <a href="mailto:techchair@cnps-scv.org
 ."><span id="cloakf3923d997f8a2b5bbb2376e89ffe72b0">This email address is b
 eing protected from spambots. You need JavaScript enabled to view it.</span
 ><script type='text/javascript'>
				document.getElementById('cloakf3923d99
 7f8a2b5bbb2376e89ffe72b0').innerHTML = '';
				var prefix = '&#109;a' + 'i&
 #108;' + '&#116;o';
				var path = 'hr' + 'ef' + '=';
				var addyf3923d997
 f8a2b5bbb2376e89ffe72b0 = 't&#101;chch&#97;&#105;r' + '&#64;';
				addyf392
 3d997f8a2b5bbb2376e89ffe72b0 = addyf3923d997f8a2b5bbb2376e89ffe72b0 + 'cnps
 -scv' + '&#46;' + '&#111;rg';
				var addy_textf3923d997f8a2b5bbb2376e89ffe
 72b0 = 't&#101;chch&#97;&#105;r' + '&#64;' + 'cnps-scv' + '&#46;' + '&#111;
 rg';document.getElementById('cloakf3923d997f8a2b5bbb2376e89ffe72b0').innerH
 TML += '<a ' + path + '\'' + prefix + ':' + addyf3923d997f8a2b5bbb2376e89ff
 e72b0 + '\'>'+addy_textf3923d997f8a2b5bbb2376e89ffe72b0+'<\/a>';
		</script
 >.</a> Limited to seven participants. </span></p></div></div></div>
CONTACT:Vivian Neou at This email address is being protected from spambots. You need JavaScript enabled to view it.
				document.getElementById('cloak360ae68dad5859544569fda34aeb82fe').innerHTML = '';
				var prefix = '&#109;a' + 'i&#108;' + '&#116;o';
				var path = 'hr' + 'ef' + '=';
				var addy360ae68dad5859544569fda34aeb82fe = 't&#101;chch&#97;&#105;r' + '&#64;';
				addy360ae68dad5859544569fda34aeb82fe = addy360ae68dad5859544569fda34aeb82fe + 'cnps-scv' + '&#46;' + '&#111;rg';
				var addy_text360ae68dad5859544569fda34aeb82fe = 't&#101;chch&#97;&#105;r' + '&#64;' + 'cnps-scv' + '&#46;' + '&#111;rg';document.getElementById('cloak360ae68dad5859544569fda34aeb82fe').innerHTML += '<a ' + path + '\'' + prefix + ':' + addy360ae68dad5859544569fda34aeb82fe + '\'>'+addy_text360ae68dad5859544569fda34aeb82fe+'';
		
DTSTAMP:20260421T104632
DTSTART;TZID=America/Tijuana:20160324T110000
DTEND;TZID=America/Tijuana:20160324T150000
SEQUENCE:0
TRANSP:OPAQUE
END:VEVENT
END:VCALENDAR