BEGIN:VCALENDAR
VERSION:2.0
PRODID:-//jEvents 2.0 for Joomla//EN
CALSCALE:GREGORIAN
METHOD:PUBLISH
BEGIN:VTIMEZONE
TZID:America/Tijuana
BEGIN:STANDARD
DTSTART:20161106T010000
RDATE:20170312T030000
TZOFFSETFROM:-0700
TZOFFSETTO:-0800
TZNAME:America/Tijuana PST
END:STANDARD
BEGIN:STANDARD
DTSTART:20171105T010000
RDATE:20180311T030000
TZOFFSETFROM:-0700
TZOFFSETTO:-0800
TZNAME:America/Tijuana PST
END:STANDARD
BEGIN:STANDARD
DTSTART:20181104T010000
RDATE:20190310T030000
TZOFFSETFROM:-0700
TZOFFSETTO:-0800
TZNAME:America/Tijuana PST
END:STANDARD
BEGIN:STANDARD
DTSTART:20191103T010000
RDATE:20200308T030000
TZOFFSETFROM:-0700
TZOFFSETTO:-0800
TZNAME:America/Tijuana PST
END:STANDARD
BEGIN:STANDARD
DTSTART:20201101T010000
RDATE:20210314T030000
TZOFFSETFROM:-0700
TZOFFSETTO:-0800
TZNAME:America/Tijuana PST
END:STANDARD
BEGIN:STANDARD
DTSTART:20211107T010000
RDATE:20220313T030000
TZOFFSETFROM:-0700
TZOFFSETTO:-0800
TZNAME:America/Tijuana PST
END:STANDARD
BEGIN:STANDARD
DTSTART:20221106T010000
RDATE:20230312T030000
TZOFFSETFROM:-0700
TZOFFSETTO:-0800
TZNAME:America/Tijuana PST
END:STANDARD
BEGIN:STANDARD
DTSTART:20231105T010000
RDATE:20240310T030000
TZOFFSETFROM:-0700
TZOFFSETTO:-0800
TZNAME:America/Tijuana PST
END:STANDARD
BEGIN:STANDARD
DTSTART:20241103T010000
RDATE:20250309T030000
TZOFFSETFROM:-0700
TZOFFSETTO:-0800
TZNAME:America/Tijuana PST
END:STANDARD
BEGIN:STANDARD
DTSTART:20251102T010000
RDATE:20260308T030000
TZOFFSETFROM:-0700
TZOFFSETTO:-0800
TZNAME:America/Tijuana PST
END:STANDARD
BEGIN:STANDARD
DTSTART:20261101T010000
RDATE:20270314T030000
TZOFFSETFROM:-0700
TZOFFSETTO:-0800
TZNAME:America/Tijuana PST
END:STANDARD
BEGIN:STANDARD
DTSTART:20271107T010000
RDATE:20280312T030000
TZOFFSETFROM:-0700
TZOFFSETTO:-0800
TZNAME:America/Tijuana PST
END:STANDARD
BEGIN:DAYLIGHT
DTSTART:20160324T100000
RDATE:20161106T010000
TZOFFSETFROM:-0800
TZOFFSETTO:-0700
TZNAME:America/Tijuana PDT
END:DAYLIGHT
BEGIN:DAYLIGHT
DTSTART:20170312T030000
RDATE:20171105T010000
TZOFFSETFROM:-0800
TZOFFSETTO:-0700
TZNAME:America/Tijuana PDT
END:DAYLIGHT
BEGIN:DAYLIGHT
DTSTART:20180311T030000
RDATE:20181104T010000
TZOFFSETFROM:-0800
TZOFFSETTO:-0700
TZNAME:America/Tijuana PDT
END:DAYLIGHT
BEGIN:DAYLIGHT
DTSTART:20190310T030000
RDATE:20191103T010000
TZOFFSETFROM:-0800
TZOFFSETTO:-0700
TZNAME:America/Tijuana PDT
END:DAYLIGHT
BEGIN:DAYLIGHT
DTSTART:20200308T030000
RDATE:20201101T010000
TZOFFSETFROM:-0800
TZOFFSETTO:-0700
TZNAME:America/Tijuana PDT
END:DAYLIGHT
BEGIN:DAYLIGHT
DTSTART:20210314T030000
RDATE:20211107T010000
TZOFFSETFROM:-0800
TZOFFSETTO:-0700
TZNAME:America/Tijuana PDT
END:DAYLIGHT
BEGIN:DAYLIGHT
DTSTART:20220313T030000
RDATE:20221106T010000
TZOFFSETFROM:-0800
TZOFFSETTO:-0700
TZNAME:America/Tijuana PDT
END:DAYLIGHT
BEGIN:DAYLIGHT
DTSTART:20230312T030000
RDATE:20231105T010000
TZOFFSETFROM:-0800
TZOFFSETTO:-0700
TZNAME:America/Tijuana PDT
END:DAYLIGHT
BEGIN:DAYLIGHT
DTSTART:20240310T030000
RDATE:20241103T010000
TZOFFSETFROM:-0800
TZOFFSETTO:-0700
TZNAME:America/Tijuana PDT
END:DAYLIGHT
BEGIN:DAYLIGHT
DTSTART:20250309T030000
RDATE:20251102T010000
TZOFFSETFROM:-0800
TZOFFSETTO:-0700
TZNAME:America/Tijuana PDT
END:DAYLIGHT
BEGIN:DAYLIGHT
DTSTART:20260308T030000
RDATE:20261101T010000
TZOFFSETFROM:-0800
TZOFFSETTO:-0700
TZNAME:America/Tijuana PDT
END:DAYLIGHT
BEGIN:DAYLIGHT
DTSTART:20270314T030000
RDATE:20271107T010000
TZOFFSETFROM:-0800
TZOFFSETTO:-0700
TZNAME:America/Tijuana PDT
END:DAYLIGHT
END:VTIMEZONE
BEGIN:VEVENT
UID:431347c1bf1b1618f8b2b4388b4c92bb
CATEGORIES:Field Trips
CREATED:20170213T104339
SUMMARY:Pinnacles National Park (San Benito County)
LOCATION:Pinnacles National Park (San Benito County)
DESCRIPTION:Join Stella Yang and Vivian Neou for a 4.3 mile hike and see wildflowers al
 ong the way. The shooting stars will be gone by then but there will be many
  more flowers to see. \nThe trail is maintained but part of it is rocky, na
 rrow and steep with an elevation gain of 1,215 feet. \nThe trip is limited 
 to 15-20 people. To reserve your spot and to receive trip details, please c
 ontact Stella at This email address is being protected from spambots. You n
 eed JavaScript enabled to view it.
				document.getElementById('cloak9aa467
 2afa3e7a54813d7aea19f774ab').innerHTML = '';
				var prefix = '&#109;a' + '
 i&#108;' + '&#116;o';
				var path = 'hr' + 'ef' + '=';
				var addy9aa4672
 afa3e7a54813d7aea19f774ab = 'ysc&#111;tt&#105;&#101;' + '&#64;';
				addy9a
 a4672afa3e7a54813d7aea19f774ab = addy9aa4672afa3e7a54813d7aea19f774ab + 'p&
 #97;cb&#101;ll' + '&#46;' + 'n&#101;t';
				var addy_text9aa4672afa3e7a5481
 3d7aea19f774ab = 'ysc&#111;tt&#105;&#101;' + '&#64;' + 'p&#97;cb&#101;ll' +
  '&#46;' + 'n&#101;t';document.getElementById('cloak9aa4672afa3e7a54813d7ae
 a19f774ab').innerHTML += '<a ' + path + '\'' + prefix + ':' + addy9aa4672af
 a3e7a54813d7aea19f774ab + '\'>'+addy_text9aa4672afa3e7a54813d7aea19f774ab+'
 ';
		 or (408) 255-6233; or contact Vivian at This email address is being p
 rotected from spambots. You need JavaScript enabled to view it.
				documen
 t.getElementById('cloak9e24ab98e86b853a542ea09afb9dea5d').innerHTML = '';
	
 			var prefix = '&amp;#109;a' + 'i&amp;#108;' + '&amp;#116;o';
				var path
  = 'hr' + 'ef' + '=';
				var addy9e24ab98e86b853a542ea09afb9dea5d = 't&amp
 ;#101;chch&amp;#97;&amp;#105;r' + '&amp;#64;';
				addy9e24ab98e86b853a542e
 a09afb9dea5d = addy9e24ab98e86b853a542ea09afb9dea5d + 'cnps-scv' + '&amp;#4
 6;' + '&amp;#111;rg';
				var addy_text9e24ab98e86b853a542ea09afb9dea5d = '
 t&amp;#101;chch&amp;#97;&amp;#105;r' + '&amp;#64;' + 'cnps-scv' + '&amp;#46
 ;' + '&amp;#111;rg';document.getElementById('cloak9e24ab98e86b853a542ea09af
 b9dea5d').innerHTML += '&lt;a ' + path + '\'' + prefix + ':' + addy9e24ab98
 e86b853a542ea09afb9dea5d + '\'&gt;'+addy_text9e24ab98e86b853a542ea09afb9dea
 5d+'&lt;\/a&gt;';
		. (mailto:techchair@cnps-scv.org.) Note that each vehic
 le entering the park requires a National Park pass or $15 fee. \n
X-ALT-DESC;FMTTYPE=text/html:<div class="page" title="Page 7"><div class="layoutArea"><div class="column
 "><p><span style="font-size: 11pt; font-family: TimesNewRoman;">Join Stella
  Yang and Vivian Neou for a 4.3 mile hike and see wildflowers along the way
 . The shooting stars will be gone by then but there will be many more flowe
 rs to see. </span></p><p><span style="font-size: 11pt; font-family: TimesNe
 wRoman;">The trail is maintained but part of it is rocky, narrow and steep 
 with an elevation gain of 1,215 feet. </span></p><p><span style="font-size:
  11pt; font-family: TimesNewRoman;">The trip is limited to 15-20 people. </
 span><span style="font-size: 11pt; font-family: 'TimesNewRoman,Bold';">To r
 eserve your spot </span><span style="font-size: 11pt; font-family: TimesNew
 Roman;">and to receive trip details, please contact Stella at <span id="clo
 ak9aa4672afa3e7a54813d7aea19f774ab">This email address is being protected f
 rom spambots. You need JavaScript enabled to view it.</span><script type='t
 ext/javascript'>
				document.getElementById('cloak9aa4672afa3e7a54813d7aea
 19f774ab').innerHTML = '';
				var prefix = '&#109;a' + 'i&#108;' + '&#116;
 o';
				var path = 'hr' + 'ef' + '=';
				var addy9aa4672afa3e7a54813d7aea1
 9f774ab = 'ysc&#111;tt&#105;&#101;' + '&#64;';
				addy9aa4672afa3e7a54813d
 7aea19f774ab = addy9aa4672afa3e7a54813d7aea19f774ab + 'p&#97;cb&#101;ll' + 
 '&#46;' + 'n&#101;t';
				var addy_text9aa4672afa3e7a54813d7aea19f774ab = '
 ysc&#111;tt&#105;&#101;' + '&#64;' + 'p&#97;cb&#101;ll' + '&#46;' + 'n&#101
 ;t';document.getElementById('cloak9aa4672afa3e7a54813d7aea19f774ab').innerH
 TML += '<a ' + path + '\'' + prefix + ':' + addy9aa4672afa3e7a54813d7aea19f
 774ab + '\'>'+addy_text9aa4672afa3e7a54813d7aea19f774ab+'<\/a>';
		</script
 > or (408) 255-6233; or contact Vivian at <a href="mailto:techchair@cnps-sc
 v.org."><span id="cloak9e24ab98e86b853a542ea09afb9dea5d">This email address
  is being protected from spambots. You need JavaScript enabled to view it.<
 /span><script type='text/javascript'>
				document.getElementById('cloak9e2
 4ab98e86b853a542ea09afb9dea5d').innerHTML = '';
				var prefix = '&#109;a' 
 + 'i&#108;' + '&#116;o';
				var path = 'hr' + 'ef' + '=';
				var addy9e24
 ab98e86b853a542ea09afb9dea5d = 't&#101;chch&#97;&#105;r' + '&#64;';
				add
 y9e24ab98e86b853a542ea09afb9dea5d = addy9e24ab98e86b853a542ea09afb9dea5d + 
 'cnps-scv' + '&#46;' + '&#111;rg';
				var addy_text9e24ab98e86b853a542ea09
 afb9dea5d = 't&#101;chch&#97;&#105;r' + '&#64;' + 'cnps-scv' + '&#46;' + '&
 #111;rg';document.getElementById('cloak9e24ab98e86b853a542ea09afb9dea5d').i
 nnerHTML += '<a ' + path + '\'' + prefix + ':' + addy9e24ab98e86b853a542ea0
 9afb9dea5d + '\'>'+addy_text9e24ab98e86b853a542ea09afb9dea5d+'<\/a>';
		</s
 cript>.</a> Note that each vehicle entering the park requires a National Pa
 rk pass or $15 fee. </span></p></div></div></div>
DTSTAMP:20260426T005824
DTSTART;TZID=America/Tijuana:20170325T100000
DTEND;TZID=America/Tijuana:20170325T150000
SEQUENCE:0
TRANSP:OPAQUE
END:VEVENT
END:VCALENDAR