BEGIN:VCALENDAR
VERSION:2.0
PRODID:-//jEvents 2.0 for Joomla//EN
CALSCALE:GREGORIAN
METHOD:PUBLISH
BEGIN:VTIMEZONE
TZID:America/Tijuana
BEGIN:STANDARD
DTSTART:20251102T010000
RDATE:20260308T030000
TZOFFSETFROM:-0700
TZOFFSETTO:-0800
TZNAME:America/Tijuana PST
END:STANDARD
BEGIN:STANDARD
DTSTART:20261101T010000
RDATE:20270314T030000
TZOFFSETFROM:-0700
TZOFFSETTO:-0800
TZNAME:America/Tijuana PST
END:STANDARD
BEGIN:STANDARD
DTSTART:20271107T010000
RDATE:20280312T030000
TZOFFSETFROM:-0700
TZOFFSETTO:-0800
TZNAME:America/Tijuana PST
END:STANDARD
BEGIN:DAYLIGHT
DTSTART:20250417T100000
RDATE:20251102T010000
TZOFFSETFROM:-0800
TZOFFSETTO:-0700
TZNAME:America/Tijuana PDT
END:DAYLIGHT
BEGIN:DAYLIGHT
DTSTART:20260308T030000
RDATE:20261101T010000
TZOFFSETFROM:-0800
TZOFFSETTO:-0700
TZNAME:America/Tijuana PDT
END:DAYLIGHT
BEGIN:DAYLIGHT
DTSTART:20270314T030000
RDATE:20271107T010000
TZOFFSETFROM:-0800
TZOFFSETTO:-0700
TZNAME:America/Tijuana PDT
END:DAYLIGHT
END:VTIMEZONE
BEGIN:VEVENT
UID:7049ec3294b146abbf641c52f03a3130
CATEGORIES:Special Events
CREATED:20251217T055151
SUMMARY:Growing Natives Garden Tour, Southern Gardens
LOCATION:Southern gardens
DESCRIPTION:Our annual Growing Natives Garden Tour (GNGT) is coming up in April 2026. I
 t is a free, self-guided tour of gardens within our Chapter area that featu
 re a minimum of 70% California native plants. All are welcome but advance r
 egistration is required to receive addresses. \nThese tour gardens are attr
 active, water-wise and low maintenance. They also use a minimum of chemical
 s and provide habitat havens for birds, butterflies and pollinators. Califo
 rnia’s native plant gardens increase wildlife corridors in fragmented habit
 ats, preserve our natural ecosystem and promote biodiversity in our built e
 nvironments. They help restore nature, one garden at a time! Native plant t
 ours provide inspiration and information for native gardeners, designers an
 d growers.\nNearly 50 home and public gardens landscaped with California na
 tive plants will be open to the public for in-person tours on Saturday, Apr
 il 18 and Sunday, April 19, from 10:00am to 4:00pm. Admission to participat
 e in GNGT is free, but registration is required at gngt.org (gngt.org) to o
 btain tour maps with garden addresses. Register for the tour early to ensur
 e access to late breaking information. Only one person per group needs to r
 egister.\n
X-ALT-DESC;FMTTYPE=text/html:<p class="p1">Our annual Growing Natives Garden Tour (GNGT) is&nbsp;coming 
 up in April 2026. It is a free, self-guided tour of&nbsp;gardens within our
  Chapter area that feature a minimum of&nbsp;70% California native plants. 
 All are welcome but advance&nbsp;registration is required to receive addres
 ses.&nbsp;</p><p class="p1">These tour gardens are attractive, water-wise a
 nd low&nbsp;maintenance. They also use a minimum of chemicals and&nbsp;prov
 ide habitat havens for birds, butterflies and pollinators.&nbsp;California’
 s native plant gardens increase wildlife corridors&nbsp;in fragmented habit
 ats, preserve our natural ecosystem and&nbsp;promote biodiversity in our bu
 ilt environments. They help&nbsp;restore nature, one garden at a time! Nati
 ve plant tours&nbsp;provide inspiration and information for native gardener
 s,&nbsp;designers and growers.</p><p class="p1">Nearly 50 home and&nbsp;pub
 lic gardens&nbsp;landscaped with&nbsp;California native plants&nbsp;will be
  open to the&nbsp;public for in-person&nbsp;tours on <b>Saturday,&nbsp;</b>
 <b>April 18 and Sunday,&nbsp;</b><b>April 19, from&nbsp;</b><b>10:00am to 4
 :00pm</b>.&nbsp;Admission to&nbsp;participate in GNGT is&nbsp;free, but reg
 istration is&nbsp;required at <a href="https://www.cnps-scv.org/gngt.org"><
 span class="s1">gngt.org</span></a> to&nbsp;obtain tour maps with&nbsp;gard
 en addresses. Register for the tour early to ensure&nbsp;access to late bre
 aking information. Only one person per&nbsp;group needs to register.</p>
DTSTAMP:20260423T132331
DTSTART;TZID=America/Tijuana:20260418T100000
DTEND;TZID=America/Tijuana:20260418T160000
SEQUENCE:0
TRANSP:OPAQUE
END:VEVENT
END:VCALENDAR