BEGIN:VCALENDAR
VERSION:2.0
PRODID:-//jEvents 2.0 for Joomla//EN
CALSCALE:GREGORIAN
METHOD:PUBLISH
BEGIN:VTIMEZONE
TZID:America/Tijuana
BEGIN:STANDARD
DTSTART:20241103T010000
RDATE:20250309T030000
TZOFFSETFROM:-0700
TZOFFSETTO:-0800
TZNAME:America/Tijuana PST
END:STANDARD
BEGIN:STANDARD
DTSTART:20251102T010000
RDATE:20260308T030000
TZOFFSETFROM:-0700
TZOFFSETTO:-0800
TZNAME:America/Tijuana PST
END:STANDARD
BEGIN:STANDARD
DTSTART:20261101T010000
RDATE:20270314T030000
TZOFFSETFROM:-0700
TZOFFSETTO:-0800
TZNAME:America/Tijuana PST
END:STANDARD
BEGIN:STANDARD
DTSTART:20271107T010000
RDATE:20280312T030000
TZOFFSETFROM:-0700
TZOFFSETTO:-0800
TZNAME:America/Tijuana PST
END:STANDARD
BEGIN:DAYLIGHT
DTSTART:20240702T000000
RDATE:20241103T010000
TZOFFSETFROM:-0800
TZOFFSETTO:-0700
TZNAME:America/Tijuana PDT
END:DAYLIGHT
BEGIN:DAYLIGHT
DTSTART:20250309T030000
RDATE:20251102T010000
TZOFFSETFROM:-0800
TZOFFSETTO:-0700
TZNAME:America/Tijuana PDT
END:DAYLIGHT
BEGIN:DAYLIGHT
DTSTART:20260308T030000
RDATE:20261101T010000
TZOFFSETFROM:-0800
TZOFFSETTO:-0700
TZNAME:America/Tijuana PDT
END:DAYLIGHT
BEGIN:DAYLIGHT
DTSTART:20270314T030000
RDATE:20271107T010000
TZOFFSETFROM:-0800
TZOFFSETTO:-0700
TZNAME:America/Tijuana PDT
END:DAYLIGHT
END:VTIMEZONE
BEGIN:VEVENT
UID:1d3e140c01c2c3d06dd4bd65302a9354
CATEGORIES:Field Trips
CREATED:20250612T093206
SUMMARY:Ebbetts Pass and Calaveras Big Trees State Park
LOCATION:Ebbetts Pass and Calaveras Big Trees State Park
DESCRIPTION:We have just scheduled a members-only away field trip on July 3-7 (Thur-Mon
 ) at Ebbetts Pass and Calaveras Big Trees State Park.  Fred and Patricia Ev
 ans invite you to join them at their cabin in Arnold for three days of wild
 flower hikes over the July 4 weekend. Arrive July 3, hike July 4-6 and trav
 el home on July 7 pm. House cleaning cost (about $250) will be divided betw
 een participants.  \nAttendees will explore Calaveras Big Trees State Park,
  the Pacific Crest Trail at Ebbetts Pass and one other location TBD (three 
 elevations from 4000’ to 8736’). It will be spring at Ebbetts pass and the 
 wildflowers will be amazing! This itinerary is subject to change, depending
  on weather and conditions.\n\nThe cabin sleeps 11 in beds (with 7 in a dor
 m) and there are two futons, room for tents on the porch or in the yard, an
 d two small RVs or vans can hook to electricity in the driveway. We will ca
 rpool each day to hike. Dinners will be potluck every night, breakfast and 
 lunch on your own, and popcorn is provided.\n\nThis trip is open to CNPS me
 mbers only. For more information or to reserve your spot, contact Patricia 
 at patriciaaevans (mailto:28@gmail.com)This email address is being protecte
 d from spambots. You need JavaScript enabled to view it.
				document.getEl
 ementById('cloak9ec711daa9da78c0831343b102eed6f5').innerHTML = '';
				var 
 prefix = '&#109;a' + 'i&#108;' + '&#116;o';
				var path = 'hr' + 'ef' + '=
 ';
				var addy9ec711daa9da78c0831343b102eed6f5 = '28' + '&#64;';
				addy9
 ec711daa9da78c0831343b102eed6f5 = addy9ec711daa9da78c0831343b102eed6f5 + 'g
 m&#97;&#105;l' + '&#46;' + 'c&#111;m';
				var addy_text9ec711daa9da78c0831
 343b102eed6f5 = '28' + '&#64;' + 'gm&#97;&#105;l' + '&#46;' + 'c&#111;m';do
 cument.getElementById('cloak9ec711daa9da78c0831343b102eed6f5').innerHTML +=
  '<a ' + path + '\'' + prefix + ':' + addy9ec711daa9da78c0831343b102eed6f5 
 + '\'>'+addy_text9ec711daa9da78c0831343b102eed6f5+'';
		 or call (650) 949-
 2801.\n
X-ALT-DESC;FMTTYPE=text/html:<p>We have just scheduled a&nbsp;<b>members-only</b>&nbsp;away field trip o
 n&nbsp;<b>July 3-7 (Thur-Mon) at Ebbetts Pass and Calaveras Big Trees State
  Park.&nbsp;&nbsp;</b>Fred and Patricia Evans invite you to join them at th
 eir cabin in Arnold for three days of wildflower hikes over the July 4 week
 end. Arrive July 3, hike July 4-6 and travel home on July 7 pm. House clean
 ing cost (about $250) will be divided between participants.&nbsp;&nbsp;</p>
 <p>Attendees will explore Calaveras Big Trees State Park, the Pacific Crest
  Trail at Ebbetts Pass and one other location TBD (three elevations from 40
 00’ to 8736’). It will be spring at Ebbetts pass and the wildflowers will b
 e amazing! This itinerary is subject to change, depending on weather and co
 nditions.<br /><br />The cabin sleeps 11 in beds (with 7 in a dorm) and the
 re are two futons, room for tents on the porch or in the yard, and two smal
 l RVs or vans can hook to electricity in the driveway. We will carpool each
  day to hike. Dinners will be potluck every night, breakfast and lunch on y
 our own, and popcorn is provided.<br /><br />This trip is open to CNPS memb
 ers only. For more information or to reserve your spot, contact Patricia at
  patriciaaevans<span id="yiv7024924111gmail-cloak8dc4b2fd87b8541c874aa9d122
 b65a6b"><a href="mailto:28@gmail.com" target="_blank" rel="nofollow noopene
 r noreferrer"></a><span id="cloak9ec711daa9da78c0831343b102eed6f5">This ema
 il address is being protected from spambots. You need JavaScript enabled to
  view it.</span><script type='text/javascript'>
				document.getElementById
 ('cloak9ec711daa9da78c0831343b102eed6f5').innerHTML = '';
				var prefix = 
 '&#109;a' + 'i&#108;' + '&#116;o';
				var path = 'hr' + 'ef' + '=';
				va
 r addy9ec711daa9da78c0831343b102eed6f5 = '28' + '&#64;';
				addy9ec711daa9
 da78c0831343b102eed6f5 = addy9ec711daa9da78c0831343b102eed6f5 + 'gm&#97;&#1
 05;l' + '&#46;' + 'c&#111;m';
				var addy_text9ec711daa9da78c0831343b102ee
 d6f5 = '28' + '&#64;' + 'gm&#97;&#105;l' + '&#46;' + 'c&#111;m';document.ge
 tElementById('cloak9ec711daa9da78c0831343b102eed6f5').innerHTML += '<a ' + 
 path + '\'' + prefix + ':' + addy9ec711daa9da78c0831343b102eed6f5 + '\'>'+a
 ddy_text9ec711daa9da78c0831343b102eed6f5+'<\/a>';
		</script></span>&nbsp;o
 r call (650) 949-2801.</p>
CONTACT:Patricia at This email address is being protected from spambots. You need JavaScript enabled to view it.
				document.getElementById('cloakc48373a3779deae7023f9828b511ca08').innerHTML = '';
				var prefix = '&#109;a' + 'i&#108;' + '&#116;o';
				var path = 'hr' + 'ef' + '=';
				var addyc48373a3779deae7023f9828b511ca08 = 'p&#97;tr&#105;c&#105;&#97;&#97;&#101;v&#97;ns28' + '&#64;';
				addyc48373a3779deae7023f9828b511ca08 = addyc48373a3779deae7023f9828b511ca08 + 'gm&#97;&#105;l' + '&#46;' + 'c&#111;m';
				var addy_textc48373a3779deae7023f9828b511ca08 = 'p&#97;tr&#105;c&#105;&#97;&#97;&#101;v&#97;ns28' + '&#64;' + 'gm&#97;&#105;l' + '&#46;' + 'c&#111;m';document.getElementById('cloakc48373a3779deae7023f9828b511ca08').innerHTML += '<a ' + path + '\'' + prefix + ':' + addyc48373a3779deae7023f9828b511ca08 + '\'>'+addy_textc48373a3779deae7023f9828b511ca08+'';
		 or call (650) 949-2801
DTSTAMP:20260426T010258
DTSTART;TZID=America/Tijuana;VALUE=DATE:20250703
DTEND;TZID=America/Tijuana;VALUE=DATE:20250708
SEQUENCE:0
TRANSP:OPAQUE
END:VEVENT
END:VCALENDAR