BEGIN:VCALENDAR
VERSION:2.0
PRODID:-//jEvents 2.0 for Joomla//EN
CALSCALE:GREGORIAN
METHOD:PUBLISH
BEGIN:VTIMEZONE
TZID:America/Tijuana
BEGIN:STANDARD
DTSTART:20240125T130000
RDATE:20240310T030000
TZOFFSETFROM:-0700
TZOFFSETTO:-0800
TZNAME:America/Tijuana PST
END:STANDARD
BEGIN:STANDARD
DTSTART:20241103T010000
RDATE:20250309T030000
TZOFFSETFROM:-0700
TZOFFSETTO:-0800
TZNAME:America/Tijuana PST
END:STANDARD
BEGIN:STANDARD
DTSTART:20251102T010000
RDATE:20260308T030000
TZOFFSETFROM:-0700
TZOFFSETTO:-0800
TZNAME:America/Tijuana PST
END:STANDARD
BEGIN:STANDARD
DTSTART:20261101T010000
RDATE:20270314T030000
TZOFFSETFROM:-0700
TZOFFSETTO:-0800
TZNAME:America/Tijuana PST
END:STANDARD
BEGIN:STANDARD
DTSTART:20271107T010000
RDATE:20280312T030000
TZOFFSETFROM:-0700
TZOFFSETTO:-0800
TZNAME:America/Tijuana PST
END:STANDARD
BEGIN:DAYLIGHT
DTSTART:20240310T030000
RDATE:20241103T010000
TZOFFSETFROM:-0800
TZOFFSETTO:-0700
TZNAME:America/Tijuana PDT
END:DAYLIGHT
BEGIN:DAYLIGHT
DTSTART:20250309T030000
RDATE:20251102T010000
TZOFFSETFROM:-0800
TZOFFSETTO:-0700
TZNAME:America/Tijuana PDT
END:DAYLIGHT
BEGIN:DAYLIGHT
DTSTART:20260308T030000
RDATE:20261101T010000
TZOFFSETFROM:-0800
TZOFFSETTO:-0700
TZNAME:America/Tijuana PDT
END:DAYLIGHT
BEGIN:DAYLIGHT
DTSTART:20270314T030000
RDATE:20271107T010000
TZOFFSETFROM:-0800
TZOFFSETTO:-0700
TZNAME:America/Tijuana PDT
END:DAYLIGHT
END:VTIMEZONE
BEGIN:VEVENT
UID:5ee5ee763cf2a3d6be0a9d1cf111953a
CATEGORIES:Special Events
CREATED:20241221T134240
SUMMARY:Seed and Cutting Exchange
LOCATION:Peninsula Conservation Center (PCC) is located at 3921 E. Bayshore Road in 
 Palo Alto
DESCRIPTION:This free event provides an opportunity to share and receive both cuttings 
 and seeds of native plants. Browse the diverse offerings, ranging from easy
 -to-grow to hard-tofind, and go home with cuttings and seeds of new native 
 plants! We will provide coin envelopes for seeds but do bring containers in
  which to carry cuttings home.\nIf you have native plant material from your
  own garden to share, please bring some. Label it to make it easy to browse
  – some gardeners attach helpful hints about growing; others display photos
  of plants in bloom. You may find it convenient to use www.calscape.org for
  this – there is a link on each plant’s information page to make a printabl
 e sign for most native species and cultivars. If you bring cuttings, keep t
 hem cool and moist in a bucket of water. You don’t have to bring anything i
 f you don’t have any native material to share – there is usually plenty for
  all.\nSeveral popular books will be available for sale during the event, i
 ncluding Wildflowers of California from CNPS, Seed Propagation of Native Ca
 lifornia Plants (2021 ed.), by Dara E. Emery; and California Native Plants 
 for the Garden by Carol Bornstein, David Fross and Bart O’Brien. Our Wildfl
 ower Ambassadors will be giving out free seed packets and information as we
 ll.\nOur Wildflower Ambassadors will be giving out free seed packets and in
 formation as well.\n 
X-ALT-DESC;FMTTYPE=text/html:<div class="page" title="Page 2"><div class="layoutArea"><div class="column
 "><p>This free event provides an opportunity to share and receive both cutt
 ings and seeds of native plants. Browse the diverse offerings, ranging from
  easy-to-grow to hard-tofind, and go home with cuttings and seeds of new na
 tive plants! We will provide coin envelopes for seeds but do bring containe
 rs in which to carry cuttings home.</p><p>If you have native plant material
  from your own garden to share, please bring some. Label it to make it easy
  to browse – some gardeners attach helpful hints about growing; others disp
 lay photos of plants in bloom. You may find it convenient to use www.calsca
 pe.org for this – there is a link on each plant’s information page to make 
 a printable sign for most native species and cultivars. If you bring cuttin
 gs, keep them cool and moist in a bucket of water. <strong>You don’t have t
 o bring anything if you don’t have any native material to share</strong> – 
 there is usually plenty for all.</p><p>Several popular books will be availa
 ble for sale during the event, including <em>Wildflowers of California</em>
  from CNPS, <em>Seed Propagation of Native California Plants</em> (2021 ed.
 ), by Dara E. Emery; and <em>California Native Plants for the Garden</em> b
 y Carol Bornstein, David Fross and Bart O’Brien. Our Wildflower Ambassadors
  will be giving out free seed packets and information as well.</p><div clas
 s="page" title="Page 2"><div class="layoutArea"><div class="column"><p>Our 
 Wildflower Ambassadors will be giving out free seed packets and information
  as well.</p></div></div></div><div class="page" title="Page 2">&nbsp;</div
 ></div></div></div>
DTSTAMP:20260425T214012
DTSTART;TZID=America/Tijuana:20250125T130000
DTEND;TZID=America/Tijuana:20250125T150000
SEQUENCE:0
TRANSP:OPAQUE
END:VEVENT
END:VCALENDAR